{"text_format":"1","workbook":"xlsx","n_sheets":8,"sheets":["TOPPAGE","入力シート","入力シート (2)","入力シート (3)","集計表","基本情報","結果","EX"],"not_rendered":{"charts":6,"images":6,"macros":1,"external_links":0,"defined_names":0,"comments":0,"pivot_tables":0},"unopened":[],"bounds":{"document_bytes":16777216,"sheet_cells":100000,"rows_first":2000,"rows_last":500,"rows_between":2000,"halvings":0,"cell_chars":16384,"cell_head_chars":4096},"cells_cut":0,"cells_raw":0,"read":"whole","date_system":"1900"}

{"sheet":"TOPPAGE","index":0,"n_rows":19,"n_cols":3,"rows_kept":19,"cut":false,"hidden":false,"merged":[[1,1,2,13],[18,1,19,13],[5,1,13,13],[14,2,16,12]]}
[]
[null,"授業に於ける教師及び生徒の発話量と質についての分析シート ver.3.0"]
[]
[]
[]
[null,"「授業に於ける教師及び生徒の英語発話量と質についての調査・研究」\n　\n「英語の授業は英語で」が求められる今、授業に於ける教師及び生徒の英語発話量と質についての調査・研究チームでは実際の授業の映像を時間調べ、授業と生徒の授業内での英語発話量と英語使用場面の分析を行い、その結果を基に「英語の授業は英語で」の授業の在るべき目標を提示してすること、つまり、授業における教師と生徒の英語の発話時間と内容を精査分析数値化して、全国の英語教師が「授業を英語で行う際、教師、生徒の英語発話量のモデル」を具体的に提示し、英語教師が「授業を英語で行うことが容易に行うことが出来る」一助となることを目的とする。\n　これまでの研究から、英語教師各自が自身の授業評価を行うことが重要であるという示唆を得て、実際に授業をされている先生が、自分の授業を数値化し、そこから授業を客観視したり、課題点を見出すなど、授業改善に役立てるために作ったのが、この「授業に於ける教師及び生徒の発話量と質についての分析シート」です。\n　このシートから得られる情報が、先生方の授業改善の一助となれば幸いです。\n"]
[]
[]
[]
[]
[]
[]
[]
[]
[null,null,"授業に於ける教師及び生徒の英語発話量と質についての調査・研究チーム\n代表　長　勝彦\n"]
[]
[]
[]
[null,"早速分析を開始する方は「１入力開始」を、入力方法など使い方の説明をご覧になりたい方は「２説明を見る」をクリックしてください。"]

{"sheet":"入力シート","index":1,"n_rows":21,"n_cols":23,"rows_kept":21,"cut":false,"hidden":false,"merged":[[17,20,17,22],[7,5,7,7],[7,8,7,10],[7,11,7,13],[7,14,7,16],[7,20,7,22],[17,5,17,7],[17,8,17,10],[17,11,17,13],[17,14,17,16],[17,17,17,19],[7,17,7,19],[1,17,1,22],[2,17,2,19],[2,20,2,22],[7,2,7,4],[2,5,2,7],[2,8,2,10],[1,5,1,10],[1,11,1,16],[2,11,2,13],[2,14,2,16],[17,0,20,0],[18,1,20,1],[8,1,16,1],[3,0,6,1],[1,2,2,4],[1,0,2,1],[7,0,16,0],[17,2,17,4]]}
[]
["指　導　過　程",null,"Warm-up・帯活動",null,null,"既　習　事　項　の　復　習　の　場　面",null,null,null,null,null,"新　出　事　項　の　導　入　の　場　面",null,null,null,null,null,"発　展　的　な　活　動"]
[null,null,null,null,null,"言語材料を扱うもの",null,null,"教科書を扱うもの",null,null,"言語材料を扱うもの",null,null,"教科書を扱うもの",null,null,"言語材料を扱うもの",null,null,"教科書を扱うもの"]
["活動の形態",null,"主","サブ",null,"主","サブ",null,"主","サブ",null,"主","サブ",null,"主","サブ",null,"主","サブ",null,"主","サブ"]
[null,null,null,null,"一斉",null,null,"一斉",null,null,"一斉",null,null,"一斉",null,null,"一斉",null,null,"一斉",null,null,"一斉"]
[null,null,null,null,"グループ・ペア",null,null,"グループ・ペア",null,null,"グループ・ペア",null,null,"グループ・ペア",null,null,"グループ・ペア",null,null,"グループ・ペア",null,null,"グループ・ペア"]
[null,null,null,null,"個別",null,null,"個別",null,null,"個別",null,null,"個別",null,null,"個別",null,null,"個別",null,null,"個別"]
["教師による発話","英語の発話時間（秒）"]
[null,"分　類\n主なもの1つに✔\nそれ以外は\n複数に✔可","主","サブ",null,"主","サブ",null,"主","サブ",null,"主","サブ",null,"主","サブ",null,"主","サブ",null,"主","サブ"]
[null,null,null,null,"指示",null,null,"指示",null,null,"指示",null,null,"指示",null,null,"指示",null,null,"指示",null,null,"指示"]
[null,null,null,null,"褒め・励まし・コメント",null,null,"褒め・励まし・コメント",null,null,"褒め・励まし・コメント",null,null,"褒め・励まし・コメント",null,null,"褒め・励まし・コメント",null,null,"褒め・励まし・コメント",null,null,"褒め・励まし・コメント"]
[null,null,null,null,"発問",null,null,"発問",null,null,"発問",null,null,"発問",null,null,"発問",null,null,"発問",null,null,"発問"]
[null,null,null,null,"アドバイス・誤りの修正",null,null,"アドバイス・誤りの修正",null,null,"アドバイス・誤りの修正",null,null,"アドバイス・誤りの修正",null,null,"アドバイス・誤りの修正",null,null,"アドバイス・誤りの修正",null,null,"アドバイス・誤りの修正"]
[null,null,null,null,"発音・発話指導",null,null,"発音・発話指導",null,null,"発音・発話指導",null,null,"発音・発話指導",null,null,"発音・発話指導",null,null,"発音・発話指導",null,null,"発音・発話指導"]
[null,null,null,null,"本文の紹介や説明\n（Oral Introduction）",null,null,"言語材料のオーラルイントロダクション",null,null,"本文の紹介や説明\n（Oral Introduction）",null,null,"言語材料のオーラルイントロダクション",null,null,"本文の紹介や説明\n（Oral Introduction）",null,null,"言語材料のオーラルイントロダクション",null,null,"本文の紹介や説明\n（Oral Introduction）"]
[null,null,null,null,"言語活動の説明",null,null,"言語活動の説明",null,null,"言語活動の説明",null,null,"言語活動の説明",null,null,"言語活動の説明",null,null,"言語活動の説明",null,null,"言語活動の説明"]
[null,null,null,null,"生徒の英語のパラフレーズ",null,null,"生徒の英語のパラフレーズ",null,null,"生徒の英語のパラフレーズ",null,null,"生徒の英語のパラフレーズ",null,null,"生徒の英語のパラフレーズ",null,null,"生徒の英語のパラフレーズ",null,null,"生徒の英語のパラフレーズ"]
["生徒による発話","英語の発話時間（秒）"]
[null,"分　類\n主なもの1つに✔\nそれ以外は\n複数に✔可",null,null,"機械的なリピート",null,null,"機械的なリピート",null,null,"機械的なリピート",null,null,"機械的なリピート",null,null,"機械的なリピート",null,null,"機械的なリピート",null,null,"機械的なリピート"]
[null,null,null,null,"準備のある発話",null,null,"準備のある発話",null,null,"準備のある発話",null,null,"準備のある発話",null,null,"準備のある発話",null,null,"準備のある発話",null,null,"準備のある発話"]
[null,null,null,null,"即興の発話",null,null,"即興の発話",null,null,"即興の発話",null,null,"即興の発話",null,null,"即興の発話",null,null,"即興の発話",null,null,"即興の発話"]

{"sheet":"入力シート (2)","index":2,"n_rows":20,"n_cols":23,"rows_kept":20,"cut":false,"hidden":true,"merged":[[6,2,6,4],[16,2,16,4],[2,0,5,1],[6,0,15,0],[7,1,15,1],[16,0,19,0],[17,1,19,1],[1,17,1,19],[1,20,1,22],[0,17,0,22],[6,5,6,7],[16,5,16,7],[16,20,16,22],[6,8,6,10],[6,11,6,13],[6,14,6,16],[6,17,6,19],[6,20,6,22],[16,8,16,10],[16,11,16,13],[16,14,16,16],[16,17,16,19],[0,0,1,1],[0,2,1,4],[0,5,0,10],[0,11,0,16],[1,5,1,7],[1,8,1,10],[1,11,1,13],[1,14,1,16]]}
["指　導　過　程",null,"Warm-up・帯活動",null,null,"既　習　事　項　の　復　習　の　場　面",null,null,null,null,null,"新　出　事　項　の　導　入　の　場　面",null,null,null,null,null,"発　展　的　な　活　動"]
[null,null,null,null,null,"言語材料を扱うもの",null,null,"教科書を扱うもの",null,null,"言語材料を扱うもの",null,null,"教科書を扱うもの",null,null,"言語材料を扱うもの",null,null,"教科書を扱うもの"]
["活動の形態",null,"主","サブ",null,"主","サブ",null,"主","サブ",null,"主","サブ",null,"主","サブ",null,"主","サブ",null,"主","サブ"]
[null,null,false,false,"一斉",false,false,"一斉",false,false,"一斉",false,false,"一斉",false,false,"一斉",false,false,"一斉",false,false,"一斉"]
[null,null,false,false,"グループ",false,false,"グループ",false,false,"グループ",false,false,"グループ",false,false,"グループ",false,false,"グループ",false,false,"グループ"]
[null,null,false,false,"個別",false,false,"個別",false,false,"個別",false,false,"個別",false,false,"個別",false,false,"個別",false,false,"個別"]
["教師による発話","英語の発話時間（秒）",{"$f":"入力シート!C8","v":0},null,null,{"$f":"入力シート!F8","v":0},null,null,{"$f":"入力シート!I8","v":0},null,null,{"$f":"入力シート!L8","v":0},null,null,{"$f":"入力シート!O8","v":0},null,null,{"$f":"入力シート!R8","v":0},null,null,{"$f":"入力シート!U8","v":0}]
[null,"分　類\n主なもの1つに✔\nそれ以外は\n複数に✔可","主","サブ",null,"主","サブ",null,"主","サブ",null,"主","サブ",null,"主","サブ",null,"主","サブ",null,"主","サブ"]
[null,null,false,false,"指示",false,false,"指示",false,true,"指示",false,false,"指示",false,false,"指示",false,false,"指示",false,false,"指示"]
[null,null,false,false,"褒め・励まし",false,false,"褒め・励まし",false,false,"褒め・励まし",false,false,"褒め・励まし",false,false,"褒め・励まし",false,false,"褒め・励まし",false,false,"褒め・励まし"]
[null,null,false,false,"発問",false,false,"発問",false,false,"発問",false,false,"発問",false,false,"発問",false,false,"発問",false,false,"発問"]
[null,null,false,false,"アドバイス",false,false,"アドバイス",false,false,"アドバイス",false,false,"アドバイス",false,false,"アドバイス",false,false,"アドバイス",false,false,"アドバイス"]
[null,null,false,false,"発音・発話指導",false,false,"発音・発話指導",false,false,"発音・発話指導",false,false,"発音・発話指導",false,false,"発音・発話指導",false,false,"発音・発話指導",false,false,"発音・発話指導"]
[null,null,false,false,"本文の紹介や説明\n（Oral Introduction）",false,false,"本文の紹介や説明\n（Oral Introduction）",false,false,"本文の紹介や説明\n（Oral Introduction）",false,false,"本文の紹介や説明\n（Oral Introduction）",false,false,"本文の紹介や説明\n（Oral Introduction）",false,false,"本文の紹介や説明\n（Oral Introduction）",false,false,"本文の紹介や説明\n（Oral Introduction）"]
[null,null,false,false,"言語活動の説明",false,false,"言語活動の説明",false,false,"言語活動の説明",false,false,"言語活動の説明",false,false,"言語活動の説明",false,false,"言語活動の説明",false,false,"言語活動の説明"]
[null,null,false,false,"生徒の英語のパラフレーズ",false,false,"生徒の英語のパラフレーズ",false,false,"生徒の英語のパラフレーズ",false,false,"生徒の英語のパラフレーズ",false,false,"生徒の英語のパラフレーズ",false,false,"生徒の英語のパラフレーズ",false,false,"生徒の英語のパラフレーズ"]
["生徒による発話","英語の発話時間（秒）",{"$f":"入力シート!C18","v":0},null,null,{"$f":"入力シート!F18","v":0},null,null,{"$f":"入力シート!I18","v":0},null,null,{"$f":"入力シート!L18","v":0},null,null,{"$f":"入力シート!O18","v":0},null,null,{"$f":"入力シート!R18","v":0},null,null,{"$f":"入力シート!U18","v":0}]
[null,"分　類\n主なもの1つに✔\nそれ以外は\n複数に✔可",false,false,"機械的な発話",false,false,"機械的な発話",false,false,"機械的な発話",false,false,"機械的な発話",false,false,"機械的な発話",false,false,"機械的な発話",false,false,"機械的な発話"]
[null,null,false,false,"準備のある発話",false,false,"準備のある発話",false,false,"準備のある発話",false,false,"準備のある発話",false,false,"準備のある発話",false,false,"準備のある発話",false,false,"準備のある発話"]
[null,null,false,false,"即興の発話",false,false,"即興の発話",false,false,"即興の発話",false,false,"即興の発話",false,false,"即興の発話",false,false,"即興の発話",false,false,"即興の発話"]

{"sheet":"入力シート (3)","index":3,"n_rows":26,"n_cols":23,"rows_kept":26,"cut":false,"hidden":true,"merged":[[16,5,16,7],[16,8,16,10],[16,14,16,16],[16,17,16,19],[16,20,16,22],[16,11,16,13],[7,1,15,1],[2,0,5,1],[6,0,15,0],[6,2,6,4],[16,0,19,0],[16,2,16,4],[17,1,19,1],[1,17,1,19],[1,20,1,22],[0,17,0,22],[6,11,6,13],[6,14,6,16],[6,17,6,19],[6,20,6,22],[0,0,1,1],[0,2,1,4],[0,5,0,10],[0,11,0,16],[6,5,6,7],[6,8,6,10],[1,5,1,7],[1,8,1,10],[1,11,1,13],[1,14,1,16]]}
["指　導　過　程",null,"Warm-up・帯活動",null,null,"既　習　事　項　の　復　習　の　場　面",null,null,null,null,null,"新　出　事　項　の　導　入　の　場　面",null,null,null,null,null,"発　展　的　な　活　動"]
[null,null,null,null,null,"言語材料を扱うもの",null,null,"教科書を扱うもの",null,null,"言語材料を扱うもの",null,null,"教科書を扱うもの",null,null,"言語材料を扱うもの",null,null,"教科書を扱うもの"]
["活動の形態",null,"主","サブ",null,"主","サブ",null,"主","サブ",null,"主","サブ",null,"主","サブ",null,"主","サブ",null,"主","サブ"]
[null,null,{"$f":"IF('入力シート (2)'!C4=TRUE,$C$7/$C$21,0)","v":0},{"$f":"IF('入力シート (2)'!D4=TRUE,$C$7/$D$21,0)","v":0},"一斉",{"$f":"IF('入力シート (2)'!F4=TRUE,$F$7/$F$21,0)","v":0},{"$f":"IF('入力シート (2)'!G4=TRUE,$F$7/$G$21,0)","v":0},"一斉",{"$f":"IF('入力シート (2)'!I4=TRUE,$I$7/$I$21,0)","v":0},{"$f":"IF('入力シート (2)'!J4=TRUE,$I$7/$J$21,0)","v":0},"一斉",{"$f":"IF('入力シート (2)'!L4=TRUE,$L$7/$L$21,0)","v":0},{"$f":"IF('入力シート (2)'!M4=TRUE,$L$7/$M$21,0)","v":0},"一斉",{"$f":"IF('入力シート (2)'!O4=TRUE,$O$7/$O$21,0)","v":0},{"$f":"IF('入力シート (2)'!P4=TRUE,$O$7/$P$21,0)","v":0},"一斉",{"$f":"IF('入力シート (2)'!R4=TRUE,$R$7/$R$21,0)","v":0},{"$f":"IF('入力シート (2)'!S4=TRUE,$R$7/$S$21,0)","v":0},"一斉",{"$f":"IF('入力シート (2)'!U4=TRUE,$U$7/$U$21,0)","v":0},{"$f":"IF('入力シート (2)'!V4=TRUE,$U$7/$V$21,0)","v":0},"一斉"]
[null,null,{"$f":"IF('入力シート (2)'!C5=TRUE,$C$7/$C$21,0)","v":0},{"$f":"IF('入力シート (2)'!D5=TRUE,$C$7/$D$21,0)","v":0},"グループ",{"$f":"IF('入力シート (2)'!F5=TRUE,$F$7/$F$21,0)","v":0},{"$f":"IF('入力シート (2)'!G5=TRUE,$F$7/$G$21,0)","v":0},"グループ",{"$f":"IF('入力シート (2)'!I5=TRUE,$I$7/$I$21,0)","v":0},{"$f":"IF('入力シート (2)'!J5=TRUE,$I$7/$J$21,0)","v":0},"グループ",{"$f":"IF('入力シート (2)'!L5=TRUE,$L$7/$L$21,0)","v":0},{"$f":"IF('入力シート (2)'!M5=TRUE,$L$7/$M$21,0)","v":0},"グループ",{"$f":"IF('入力シート (2)'!O5=TRUE,$O$7/$O$21,0)","v":0},{"$f":"IF('入力シート (2)'!P5=TRUE,$O$7/$P$21,0)","v":0},"グループ",{"$f":"IF('入力シート (2)'!R5=TRUE,$R$7/$R$21,0)","v":0},{"$f":"IF('入力シート (2)'!S5=TRUE,$R$7/$S$21,0)","v":0},"グループ",{"$f":"IF('入力シート (2)'!U5=TRUE,$U$7/$U$21,0)","v":0},{"$f":"IF('入力シート (2)'!V5=TRUE,$U$7/$V$21,0)","v":0},"グループ"]
[null,null,{"$f":"IF('入力シート (2)'!C6=TRUE,$C$7/$C$21,0)","v":0},{"$f":"IF('入力シート (2)'!D6=TRUE,$C$7/$D$21,0)","v":0},"個別",{"$f":"IF('入力シート (2)'!F6=TRUE,$F$7/$F$21,0)","v":0},{"$f":"IF('入力シート (2)'!G6=TRUE,$F$7/$G$21,0)","v":0},"個別",{"$f":"IF('入力シート (2)'!I6=TRUE,$I$7/$I$21,0)","v":0},{"$f":"IF('入力シート (2)'!J6=TRUE,$I$7/$J$21,0)","v":0},"個別",{"$f":"IF('入力シート (2)'!L6=TRUE,$L$7/$L$21,0)","v":0},{"$f":"IF('入力シート (2)'!M6=TRUE,$L$7/$M$21,0)","v":0},"個別",{"$f":"IF('入力シート (2)'!O6=TRUE,$O$7/$O$21,0)","v":0},{"$f":"IF('入力シート (2)'!P6=TRUE,$O$7/$P$21,0)","v":0},"個別",{"$f":"IF('入力シート (2)'!R6=TRUE,$R$7/$R$21,0)","v":0},{"$f":"IF('入力シート (2)'!S6=TRUE,$R$7/$S$21,0)","v":0},"個別",{"$f":"IF('入力シート (2)'!U6=TRUE,$U$7/$U$21,0)","v":0},{"$f":"IF('入力シート (2)'!V6=TRUE,$U$7/$V$21,0)","v":0},"個別"]
["教師による発話","英語の発話時間（秒）",{"$f":"入力シート!C8","v":0},null,null,{"$f":"入力シート!F8","v":0},null,null,{"$f":"入力シート!I8","v":0},null,null,{"$f":"入力シート!L8","v":0},null,null,{"$f":"入力シート!O8","v":0},null,null,{"$f":"入力シート!R8","v":0},null,null,{"$f":"入力シート!U8","v":0}]
[null,"分　類\n主なもの1つに✔\nそれ以外は\n複数に✔可","主","サブ",null,"主","サブ",null,"主","サブ",null,"主","サブ",null,"主","サブ",null,"主","サブ",null,"主","サブ"]
[null,null,{"$f":"IF('入力シート (2)'!C9=TRUE,$C$7/$C$22,0)","v":0},{"$f":"IF('入力シート (2)'!D9=TRUE,$C$7/$D$22,0)","v":0},"指示",{"$f":"IF('入力シート (2)'!F9=TRUE,$F$7/$F$22,0)","v":0},{"$f":"IF('入力シート (2)'!G9=TRUE,$F$7/$G$22,0)","v":0},"指示",{"$f":"IF('入力シート (2)'!I9=TRUE,$I$7/$I$22,0)","v":0},{"$f":"IF('入力シート (2)'!J9=TRUE,$I$7/$J$22,0)","v":0},"指示",{"$f":"IF('入力シート (2)'!L9=TRUE,$L$7/$L$22,0)","v":0},{"$f":"IF('入力シート (2)'!M9=TRUE,$L$7/$M$22,0)","v":0},"指示",{"$f":"IF('入力シート (2)'!O9=TRUE,$O$7/$O$22,0)","v":0},{"$f":"IF('入力シート (2)'!P9=TRUE,$O$7/$P$22,0)","v":0},"指示",{"$f":"IF('入力シート (2)'!R9=TRUE,$R$7/$R$22,0)","v":0},{"$f":"IF('入力シート (2)'!S9=TRUE,$R$7/$S$22,0)","v":0},"指示",{"$f":"IF('入力シート (2)'!U9=TRUE,$U$7/$U$22,0)","v":0},{"$f":"IF('入力シート (2)'!V9=TRUE,$U$7/$V$22,0)","v":0},"指示"]
[null,null,{"$f":"IF('入力シート (2)'!C10=TRUE,$C$7/$C$22,0)","v":0},{"$f":"IF('入力シート (2)'!D10=TRUE,$C$7/$D$22,0)","v":0},"褒め・励まし",{"$f":"IF('入力シート (2)'!F10=TRUE,$F$7/$F$22,0)","v":0},{"$f":"IF('入力シート (2)'!G10=TRUE,$F$7/$G$22,0)","v":0},"褒め・励まし",{"$f":"IF('入力シート (2)'!I10=TRUE,$I$7/$I$22,0)","v":0},{"$f":"IF('入力シート (2)'!J10=TRUE,$I$7/$J$22,0)","v":0},"褒め・励まし",{"$f":"IF('入力シート (2)'!L10=TRUE,$L$7/$L$22,0)","v":0},{"$f":"IF('入力シート (2)'!M10=TRUE,$L$7/$M$22,0)","v":0},"褒め・励まし",{"$f":"IF('入力シート (2)'!O10=TRUE,$O$7/$O$22,0)","v":0},{"$f":"IF('入力シート (2)'!P10=TRUE,$O$7/$P$22,0)","v":0},"褒め・励まし",{"$f":"IF('入力シート (2)'!R10=TRUE,$R$7/$R$22,0)","v":0},{"$f":"IF('入力シート (2)'!S10=TRUE,$R$7/$S$22,0)","v":0},"褒め・励まし",{"$f":"IF('入力シート (2)'!U10=TRUE,$U$7/$U$22,0)","v":0},{"$f":"IF('入力シート (2)'!V10=TRUE,$U$7/$V$22,0)","v":0},"褒め・励まし"]
[null,null,{"$f":"IF('入力シート (2)'!C11=TRUE,$C$7/$C$22,0)","v":0},{"$f":"IF('入力シート (2)'!D11=TRUE,$C$7/$D$22,0)","v":0},"発問（Closed）",{"$f":"IF('入力シート (2)'!F11=TRUE,$F$7/$F$22,0)","v":0},{"$f":"IF('入力シート (2)'!G11=TRUE,$F$7/$G$22,0)","v":0},"発問（Closed）",{"$f":"IF('入力シート (2)'!I11=TRUE,$I$7/$I$22,0)","v":0},{"$f":"IF('入力シート (2)'!J11=TRUE,$I$7/$J$22,0)","v":0},"発問（Closed）",{"$f":"IF('入力シート (2)'!L11=TRUE,$L$7/$L$22,0)","v":0},{"$f":"IF('入力シート (2)'!M11=TRUE,$L$7/$M$22,0)","v":0},"発問（Closed）",{"$f":"IF('入力シート (2)'!O11=TRUE,$O$7/$O$22,0)","v":0},{"$f":"IF('入力シート (2)'!P11=TRUE,$O$7/$P$22,0)","v":0},"発問（Closed）",{"$f":"IF('入力シート (2)'!R11=TRUE,$R$7/$R$22,0)","v":0},{"$f":"IF('入力シート (2)'!S11=TRUE,$R$7/$S$22,0)","v":0},"発問（Closed）",{"$f":"IF('入力シート (2)'!U11=TRUE,$U$7/$U$22,0)","v":0},{"$f":"IF('入力シート (2)'!V11=TRUE,$U$7/$V$22,0)","v":0},"発問（Closed）"]
[null,null,{"$f":"IF('入力シート (2)'!C12=TRUE,$C$7/$C$22,0)","v":0},{"$f":"IF('入力シート (2)'!D12=TRUE,$C$7/$D$22,0)","v":0},"アドバイス",{"$f":"IF('入力シート (2)'!F12=TRUE,$F$7/$F$22,0)","v":0},{"$f":"IF('入力シート (2)'!G12=TRUE,$F$7/$G$22,0)","v":0},"アドバイス",{"$f":"IF('入力シート (2)'!I12=TRUE,$I$7/$I$22,0)","v":0},{"$f":"IF('入力シート (2)'!J12=TRUE,$I$7/$J$22,0)","v":0},"アドバイス",{"$f":"IF('入力シート (2)'!L12=TRUE,$L$7/$L$22,0)","v":0},{"$f":"IF('入力シート (2)'!M12=TRUE,$L$7/$M$22,0)","v":0},"アドバイス",{"$f":"IF('入力シート (2)'!O12=TRUE,$O$7/$O$22,0)","v":0},{"$f":"IF('入力シート (2)'!P12=TRUE,$O$7/$P$22,0)","v":0},"アドバイス",{"$f":"IF('入力シート (2)'!R12=TRUE,$R$7/$R$22,0)","v":0},{"$f":"IF('入力シート (2)'!S12=TRUE,$R$7/$S$22,0)","v":0},"アドバイス",{"$f":"IF('入力シート (2)'!U12=TRUE,$U$7/$U$22,0)","v":0},{"$f":"IF('入力シート (2)'!V12=TRUE,$U$7/$V$22,0)","v":0},"アドバイス"]
[null,null,{"$f":"IF('入力シート (2)'!C13=TRUE,$C$7/$C$22,0)","v":0},{"$f":"IF('入力シート (2)'!D13=TRUE,$C$7/$D$22,0)","v":0},"発音・発話指導",{"$f":"IF('入力シート (2)'!F13=TRUE,$F$7/$F$22,0)","v":0},{"$f":"IF('入力シート (2)'!G13=TRUE,$F$7/$G$22,0)","v":0},"発音・発話指導",{"$f":"IF('入力シート (2)'!I13=TRUE,$I$7/$I$22,0)","v":0},{"$f":"IF('入力シート (2)'!J13=TRUE,$I$7/$J$22,0)","v":0},"発音・発話指導",{"$f":"IF('入力シート (2)'!L13=TRUE,$L$7/$L$22,0)","v":0},{"$f":"IF('入力シート (2)'!M13=TRUE,$L$7/$M$22,0)","v":0},"発音・発話指導",{"$f":"IF('入力シート (2)'!O13=TRUE,$O$7/$O$22,0)","v":0},{"$f":"IF('入力シート (2)'!P13=TRUE,$O$7/$P$22,0)","v":0},"発音・発話指導",{"$f":"IF('入力シート (2)'!R13=TRUE,$R$7/$R$22,0)","v":0},{"$f":"IF('入力シート (2)'!S13=TRUE,$R$7/$S$22,0)","v":0},"発音・発話指導",{"$f":"IF('入力シート (2)'!U13=TRUE,$U$7/$U$22,0)","v":0},{"$f":"IF('入力シート (2)'!V13=TRUE,$U$7/$V$22,0)","v":0},"発音・発話指導"]
[null,null,{"$f":"IF('入力シート (2)'!C14=TRUE,$C$7/$C$22,0)","v":0},{"$f":"IF('入力シート (2)'!D14=TRUE,$C$7/$D$22,0)","v":0},"本文の紹介や説明\n（Oral Introduction）",{"$f":"IF('入力シート (2)'!F14=TRUE,$F$7/$F$22,0)","v":0},{"$f":"IF('入力シート (2)'!G14=TRUE,$F$7/$G$22,0)","v":0},"本文の紹介や説明\n（Oral Introduction）",{"$f":"IF('入力シート (2)'!I14=TRUE,$I$7/$I$22,0)","v":0},{"$f":"IF('入力シート (2)'!J14=TRUE,$I$7/$J$22,0)","v":0},"本文の紹介や説明\n（Oral Introduction）",{"$f":"IF('入力シート (2)'!L14=TRUE,$L$7/$L$22,0)","v":0},{"$f":"IF('入力シート (2)'!M14=TRUE,$L$7/$M$22,0)","v":0},"本文の紹介や説明\n（Oral Introduction）",{"$f":"IF('入力シート (2)'!O14=TRUE,$O$7/$O$22,0)","v":0},{"$f":"IF('入力シート (2)'!P14=TRUE,$O$7/$P$22,0)","v":0},"本文の紹介や説明\n（Oral Introduction）",{"$f":"IF('入力シート (2)'!R14=TRUE,$R$7/$R$22,0)","v":0},{"$f":"IF('入力シート (2)'!S14=TRUE,$R$7/$S$22,0)","v":0},"本文の紹介や説明\n（Oral Introduction）",{"$f":"IF('入力シート (2)'!U14=TRUE,$U$7/$U$22,0)","v":0},{"$f":"IF('入力シート (2)'!V14=TRUE,$U$7/$V$22,0)","v":0},"本文の紹介や説明\n（Oral Introduction）"]
[null,null,{"$f":"IF('入力シート (2)'!C15=TRUE,$C$7/$C$22,0)","v":0},{"$f":"IF('入力シート (2)'!D15=TRUE,$C$7/$D$22,0)","v":0},"言語活動の説明",{"$f":"IF('入力シート (2)'!F15=TRUE,$F$7/$F$22,0)","v":0},{"$f":"IF('入力シート (2)'!G15=TRUE,$F$7/$G$22,0)","v":0},"言語活動の説明",{"$f":"IF('入力シート (2)'!I15=TRUE,$I$7/$I$22,0)","v":0},{"$f":"IF('入力シート (2)'!J15=TRUE,$I$7/$J$22,0)","v":0},"言語活動の説明",{"$f":"IF('入力シート (2)'!L15=TRUE,$L$7/$L$22,0)","v":0},{"$f":"IF('入力シート (2)'!M15=TRUE,$L$7/$M$22,0)","v":0},"言語活動の説明",{"$f":"IF('入力シート (2)'!O15=TRUE,$O$7/$O$22,0)","v":0},{"$f":"IF('入力シート (2)'!P15=TRUE,$O$7/$P$22,0)","v":0},"言語活動の説明",{"$f":"IF('入力シート (2)'!R15=TRUE,$R$7/$R$22,0)","v":0},{"$f":"IF('入力シート (2)'!S15=TRUE,$R$7/$S$22,0)","v":0},"言語活動の説明",{"$f":"IF('入力シート (2)'!U15=TRUE,$U$7/$U$22,0)","v":0},{"$f":"IF('入力シート (2)'!V15=TRUE,$U$7/$V$22,0)","v":0},"言語活動の説明"]
[null,null,{"$f":"IF('入力シート (2)'!C16=TRUE,$C$7/$C$22,0)","v":0},{"$f":"IF('入力シート (2)'!D16=TRUE,$C$7/$D$22,0)","v":0},"生徒の英語のパラフレーズ",{"$f":"IF('入力シート (2)'!F16=TRUE,$F$7/$F$22,0)","v":0},{"$f":"IF('入力シート (2)'!G16=TRUE,$F$7/$G$22,0)","v":0},"生徒の英語のパラフレーズ",{"$f":"IF('入力シート (2)'!I16=TRUE,$I$7/$I$22,0)","v":0},{"$f":"IF('入力シート (2)'!J16=TRUE,$I$7/$J$22,0)","v":0},"生徒の英語のパラフレーズ",{"$f":"IF('入力シート (2)'!L16=TRUE,$L$7/$L$22,0)","v":0},{"$f":"IF('入力シート (2)'!M16=TRUE,$L$7/$M$22,0)","v":0},"生徒の英語のパラフレーズ",{"$f":"IF('入力シート (2)'!O16=TRUE,$O$7/$O$22,0)","v":0},{"$f":"IF('入力シート (2)'!P16=TRUE,$O$7/$P$22,0)","v":0},"生徒の英語のパラフレーズ",{"$f":"IF('入力シート (2)'!R16=TRUE,$R$7/$R$22,0)","v":0},{"$f":"IF('入力シート (2)'!S16=TRUE,$R$7/$S$22,0)","v":0},"生徒の英語のパラフレーズ",{"$f":"IF('入力シート (2)'!U16=TRUE,$U$7/$U$22,0)","v":0},{"$f":"IF('入力シート (2)'!V16=TRUE,$U$7/$V$22,0)","v":0},"生徒の英語のパラフレーズ"]
["生徒による発話","英語の発話時間（秒）",{"$f":"入力シート!C18","v":0},null,null,{"$f":"入力シート!F18","v":0},null,null,{"$f":"入力シート!I18","v":0},null,null,{"$f":"入力シート!L18","v":0},null,null,{"$f":"入力シート!O18","v":0},null,null,{"$f":"入力シート!R18","v":0},null,null,{"$f":"入力シート!U18","v":0}]
[null,"分　類\n主なもの1つに✔\nそれ以外は\n複数に✔可",{"$f":"IF('入力シート (2)'!C18=TRUE,$C$17/$C$23,0)","v":0},{"$f":"IF('入力シート (2)'!D18=TRUE,$C$17/$D$23,0)","v":0},"機械的な発話",{"$f":"IF('入力シート (2)'!F18=TRUE,$F$17/$F$23,0)","v":0},{"$f":"IF('入力シート (2)'!G18=TRUE,$F$17/$G$23,0)","v":0},"機械的な発話",{"$f":"IF('入力シート (2)'!I18=TRUE,$I$17/$I$23,0)","v":0},{"$f":"IF('入力シート (2)'!J18=TRUE,$I$17/$J$23,0)","v":0},"機械的な発話",{"$f":"IF('入力シート (2)'!L18=TRUE,$L$17/$L$23,0)","v":0},{"$f":"IF('入力シート (2)'!M18=TRUE,$L$17/$M$23,0)","v":0},"機械的な発話",{"$f":"IF('入力シート (2)'!O18=TRUE,$O$17/$O$23,0)","v":0},{"$f":"IF('入力シート (2)'!P18=TRUE,$O$17/$P$23,0)","v":0},"機械的な発話",{"$f":"IF('入力シート (2)'!R18=TRUE,$R$17/$R$23,0)","v":0},{"$f":"IF('入力シート (2)'!S18=TRUE,$R$17/$S$23,0)","v":0},"機械的な発話",{"$f":"IF('入力シート (2)'!U18=TRUE,$U$17/$U$23,0)","v":0},{"$f":"IF('入力シート (2)'!V18=TRUE,$U$17/$V$23,0)","v":0},"機械的な発話"]
[null,null,{"$f":"IF('入力シート (2)'!C19=TRUE,$C$17/$C$23,0)","v":0},{"$f":"IF('入力シート (2)'!D19=TRUE,$C$17/$D$23,0)","v":0},"準備のある発話",{"$f":"IF('入力シート (2)'!F19=TRUE,$F$17/$F$23,0)","v":0},{"$f":"IF('入力シート (2)'!G19=TRUE,$F$17/$G$23,0)","v":0},"準備のある発話",{"$f":"IF('入力シート (2)'!I19=TRUE,$I$17/$I$23,0)","v":0},{"$f":"IF('入力シート (2)'!J19=TRUE,$I$17/$J$23,0)","v":0},"準備のある発話",{"$f":"IF('入力シート (2)'!L19=TRUE,$L$17/$L$23,0)","v":0},{"$f":"IF('入力シート (2)'!M19=TRUE,$L$17/$M$23,0)","v":0},"準備のある発話",{"$f":"IF('入力シート (2)'!O19=TRUE,$O$17/$O$23,0)","v":0},{"$f":"IF('入力シート (2)'!P19=TRUE,$O$17/$P$23,0)","v":0},"準備のある発話",{"$f":"IF('入力シート (2)'!R19=TRUE,$R$17/$R$23,0)","v":0},{"$f":"IF('入力シート (2)'!S19=TRUE,$R$17/$S$23,0)","v":0},"準備のある発話",{"$f":"IF('入力シート (2)'!U19=TRUE,$U$17/$U$23,0)","v":0},{"$f":"IF('入力シート (2)'!V19=TRUE,$U$17/$V$23,0)","v":0},"準備のある発話"]
[null,null,{"$f":"IF('入力シート (2)'!C20=TRUE,$C$17/$C$23,0)","v":0},{"$f":"IF('入力シート (2)'!D20=TRUE,$C$17/$D$23,0)","v":0},"即興の発話",{"$f":"IF('入力シート (2)'!F20=TRUE,$F$17/$F$23,0)","v":0},{"$f":"IF('入力シート (2)'!G20=TRUE,$F$17/$G$23,0)","v":0},"即興の発話",{"$f":"IF('入力シート (2)'!I20=TRUE,$I$17/$I$23,0)","v":0},{"$f":"IF('入力シート (2)'!J20=TRUE,$I$17/$J$23,0)","v":0},"即興の発話",{"$f":"IF('入力シート (2)'!L20=TRUE,$L$17/$L$23,0)","v":0},{"$f":"IF('入力シート (2)'!M20=TRUE,$L$17/$M$23,0)","v":0},"即興の発話",{"$f":"IF('入力シート (2)'!O20=TRUE,$O$17/$O$23,0)","v":0},{"$f":"IF('入力シート (2)'!P20=TRUE,$O$17/$P$23,0)","v":0},"即興の発話",{"$f":"IF('入力シート (2)'!R20=TRUE,$R$17/$R$23,0)","v":0},{"$f":"IF('入力シート (2)'!S20=TRUE,$R$17/$S$23,0)","v":0},"即興の発話",{"$f":"IF('入力シート (2)'!U20=TRUE,$U$17/$U$23,0)","v":0},{"$f":"IF('入力シート (2)'!V20=TRUE,$U$17/$V$23,0)","v":0},"即興の発話"]
[null,"形態の数",{"$f":"COUNTIF('入力シート (2)'!C4:C6,TRUE)","v":0},{"$f":"COUNTIF('入力シート (2)'!D4:D6,TRUE)","v":0},null,{"$f":"COUNTIF('入力シート (2)'!F4:F6,TRUE)","v":0},{"$f":"COUNTIF('入力シート (2)'!G4:G6,TRUE)","v":0},null,{"$f":"COUNTIF('入力シート (2)'!I4:I6,TRUE)","v":0},{"$f":"COUNTIF('入力シート (2)'!J4:J6,TRUE)","v":0},null,{"$f":"COUNTIF('入力シート (2)'!L4:L6,TRUE)","v":0},{"$f":"COUNTIF('入力シート (2)'!M4:M6,TRUE)","v":0},null,{"$f":"COUNTIF('入力シート (2)'!O4:O6,TRUE)","v":0},{"$f":"COUNTIF('入力シート (2)'!P4:P6,TRUE)","v":0},null,{"$f":"COUNTIF('入力シート (2)'!R4:R6,TRUE)","v":0},{"$f":"COUNTIF('入力シート (2)'!S4:S6,TRUE)","v":0},null,{"$f":"COUNTIF('入力シート (2)'!U4:U6,TRUE)","v":0},{"$f":"COUNTIF('入力シート (2)'!V4:V6,TRUE)","v":0}]
[null,"教師の発話分類数",{"$f":"COUNTIF('入力シート (2)'!C9:C16,TRUE)","v":0},{"$f":"COUNTIF('入力シート (2)'!D9:D16,TRUE)","v":0},null,{"$f":"COUNTIF('入力シート (2)'!F9:F16,TRUE)","v":0},{"$f":"COUNTIF('入力シート (2)'!G9:G16,TRUE)","v":0},null,{"$f":"COUNTIF('入力シート (2)'!I9:I16,TRUE)","v":0},{"$f":"COUNTIF('入力シート (2)'!J9:J16,TRUE)","v":1},null,{"$f":"COUNTIF('入力シート (2)'!L9:L16,TRUE)","v":0},{"$f":"COUNTIF('入力シート (2)'!M9:M16,TRUE)","v":0},null,{"$f":"COUNTIF('入力シート (2)'!O9:O16,TRUE)","v":0},{"$f":"COUNTIF('入力シート (2)'!P9:P16,TRUE)","v":0},null,{"$f":"COUNTIF('入力シート (2)'!R9:R16,TRUE)","v":0},{"$f":"COUNTIF('入力シート (2)'!S9:S16,TRUE)","v":0},null,{"$f":"COUNTIF('入力シート (2)'!U9:U16,TRUE)","v":0},{"$f":"COUNTIF('入力シート (2)'!V9:V16,TRUE)","v":0}]
[null,"生徒の発話分類数",{"$f":"COUNTIF('入力シート (2)'!C18:C20,TRUE)","v":0},{"$f":"COUNTIF('入力シート (2)'!D18:D20,TRUE)","v":0},null,{"$f":"COUNTIF('入力シート (2)'!F18:F20,TRUE)","v":0},{"$f":"COUNTIF('入力シート (2)'!G18:G20,TRUE)","v":0},null,{"$f":"COUNTIF('入力シート (2)'!I18:I20,TRUE)","v":0},{"$f":"COUNTIF('入力シート (2)'!J18:J20,TRUE)","v":0},null,{"$f":"COUNTIF('入力シート (2)'!L18:L20,TRUE)","v":0},{"$f":"COUNTIF('入力シート (2)'!M18:M20,TRUE)","v":0},null,{"$f":"COUNTIF('入力シート (2)'!O18:O20,TRUE)","v":0},{"$f":"COUNTIF('入力シート (2)'!P18:P20,TRUE)","v":0},null,{"$f":"COUNTIF('入力シート (2)'!R18:R20,TRUE)","v":0},{"$f":"COUNTIF('入力シート (2)'!S18:S20,TRUE)","v":0},null,{"$f":"COUNTIF('入力シート (2)'!U18:U20,TRUE)","v":0},{"$f":"COUNTIF('入力シート (2)'!V18:V20,TRUE)","v":0}]
[null,null,{"$f":"IF('入力シート (2)'!C4=TRUE,$C$17/$C$21,0)","v":0},{"$f":"IF('入力シート (2)'!D4=TRUE,$C$17/$D$21,0)","v":0},"一斉",{"$f":"IF('入力シート (2)'!F4=TRUE,$F$17/$F$21,0)","v":0},{"$f":"IF('入力シート (2)'!G4=TRUE,$F$17/$G$21,0)","v":0},"一斉",{"$f":"IF('入力シート (2)'!I4=TRUE,$I$17/$I$21,0)","v":0},{"$f":"IF('入力シート (2)'!J4=TRUE,$I$17/$J$21,0)","v":0},"一斉",{"$f":"IF('入力シート (2)'!L4=TRUE,$L$17/$L$21,0)","v":0},{"$f":"IF('入力シート (2)'!M4=TRUE,$L$17/$M$21,0)","v":0},"一斉",{"$f":"IF('入力シート (2)'!O4=TRUE,$O$17/$O$21,0)","v":0},{"$f":"IF('入力シート (2)'!P4=TRUE,$O$17/$P$21,0)","v":0},"一斉",{"$f":"IF('入力シート (2)'!R4=TRUE,$R$17/$R$21,0)","v":0},{"$f":"IF('入力シート (2)'!S4=TRUE,$R$17/$S$21,0)","v":0},"一斉",{"$f":"IF('入力シート (2)'!U4=TRUE,$U$17/$U$21,0)","v":0},{"$f":"IF('入力シート (2)'!V4=TRUE,$U$17/$V$21,0)","v":0},"一斉"]
[null,null,{"$f":"IF('入力シート (2)'!C5=TRUE,$C$17/$C$21,0)","v":0},{"$f":"IF('入力シート (2)'!D5=TRUE,$C$17/$D$21,0)","v":0},"グループ",{"$f":"IF('入力シート (2)'!F5=TRUE,$F$17/$F$21,0)","v":0},{"$f":"IF('入力シート (2)'!G5=TRUE,$F$17/$G$21,0)","v":0},"グループ",{"$f":"IF('入力シート (2)'!I5=TRUE,$I$17/$I$21,0)","v":0},{"$f":"IF('入力シート (2)'!J5=TRUE,$I$17/$J$21,0)","v":0},"グループ",{"$f":"IF('入力シート (2)'!L5=TRUE,$L$17/$L$21,0)","v":0},{"$f":"IF('入力シート (2)'!M5=TRUE,$L$17/$M$21,0)","v":0},"グループ",{"$f":"IF('入力シート (2)'!O5=TRUE,$O$17/$O$21,0)","v":0},{"$f":"IF('入力シート (2)'!P5=TRUE,$O$17/$P$21,0)","v":0},"グループ",{"$f":"IF('入力シート (2)'!R5=TRUE,$R$17/$R$21,0)","v":0},{"$f":"IF('入力シート (2)'!S5=TRUE,$R$17/$S$21,0)","v":0},"グループ",{"$f":"IF('入力シート (2)'!U5=TRUE,$U$17/$U$21,0)","v":0},{"$f":"IF('入力シート (2)'!V5=TRUE,$U$17/$V$21,0)","v":0},"グループ"]
[null,null,{"$f":"IF('入力シート (2)'!C6=TRUE,$C$17/$C$21,0)","v":0},{"$f":"IF('入力シート (2)'!D6=TRUE,$C$17/$D$21,0)","v":0},"個別",{"$f":"IF('入力シート (2)'!F6=TRUE,$F$17/$F$21,0)","v":0},{"$f":"IF('入力シート (2)'!G6=TRUE,$F$17/$G$21,0)","v":0},"個別",{"$f":"IF('入力シート (2)'!I6=TRUE,$I$17/$I$21,0)","v":0},{"$f":"IF('入力シート (2)'!J6=TRUE,$I$17/$J$21,0)","v":0},"個別",{"$f":"IF('入力シート (2)'!L6=TRUE,$L$17/$L$21,0)","v":0},{"$f":"IF('入力シート (2)'!M6=TRUE,$L$17/$M$21,0)","v":0},"個別",{"$f":"IF('入力シート (2)'!O6=TRUE,$O$17/$O$21,0)","v":0},{"$f":"IF('入力シート (2)'!P6=TRUE,$O$17/$P$21,0)","v":0},"個別",{"$f":"IF('入力シート (2)'!R6=TRUE,$R$17/$R$21,0)","v":0},{"$f":"IF('入力シート (2)'!S6=TRUE,$R$17/$S$21,0)","v":0},"個別",{"$f":"IF('入力シート (2)'!U6=TRUE,$U$17/$U$21,0)","v":0},{"$f":"IF('入力シート (2)'!V6=TRUE,$U$17/$V$21,0)","v":0},"個別"]

{"sheet":"集計表","index":4,"n_rows":24,"n_cols":9,"rows_kept":24,"cut":false,"hidden":true,"merged":[[0,8,1,8],[0,0,1,0],[0,1,1,1],[0,4,0,5],[0,6,0,7]]}
["指　導　過　程","Warm-up・帯活動","既　習　事　項　の　復　習　の　場　面",null,"新　出　事　項　の　導　入　の　場　面",null,"発　展　的　な　活　動",null,"合計"]
[null,null,"言語材料を扱うもの","教科書を扱うもの","言語材料を扱うもの","教科書を扱うもの","言語材料を扱うもの","教科書を扱うもの"]
["教師の英語",{"$f":"入力シート!C8","v":0},{"$f":"入力シート!F8","v":0},{"$f":"入力シート!I8","v":0},{"$f":"入力シート!L8","v":0},{"$f":"入力シート!O8","v":0},{"$f":"入力シート!R8","v":0},{"$f":"入力シート!U8","v":0},{"$f":"SUM(B3:H3)","v":0}]
["生徒の英語",{"$f":"入力シート!C18","v":0},{"$f":"入力シート!F18","v":0},{"$f":"入力シート!I18","v":0},{"$f":"入力シート!L18","v":0},{"$f":"入力シート!O18","v":0},{"$f":"入力シート!R18","v":0},{"$f":"入力シート!U18","v":0},{"$f":"SUM(B4:H4)","v":0}]
["指導形態別"]
["教師一斉",{"$f":"IF(SUM('入力シート (3)'!$D$4:$D$6)=0,'入力シート (3)'!C4,('入力シート (3)'!C4*0.7)+('入力シート (3)'!D4*0.3))","v":0},{"$f":"IF(SUM('入力シート (3)'!$G$4:$G$6)=0,'入力シート (3)'!F4,('入力シート (3)'!F4*0.7)+('入力シート (3)'!G4*0.3))","v":0},{"$f":"IF(SUM('入力シート (3)'!$J$4:$J$6)=0,'入力シート (3)'!I4,('入力シート (3)'!I4*0.7)+('入力シート (3)'!J4*0.3))","v":0},{"$f":"IF(SUM('入力シート (3)'!$M$4:$M$6)=0,'入力シート (3)'!L4,('入力シート (3)'!L4*0.7)+('入力シート (3)'!M4*0.3))","v":0},{"$f":"IF(SUM('入力シート (3)'!$P$4:$P$6)=0,'入力シート (3)'!O4,('入力シート (3)'!O4*0.7)+('入力シート (3)'!P4*0.3))","v":0},{"$f":"IF(SUM('入力シート (3)'!$S$4:$S$6)=0,'入力シート (3)'!R4,('入力シート (3)'!R4*0.7)+('入力シート (3)'!S4*0.3))","v":0},{"$f":"IF(SUM('入力シート (3)'!$V$4:$V$6)=0,'入力シート (3)'!U4,('入力シート (3)'!U4*0.7)+('入力シート (3)'!V4*0.3))","v":0},{"$f":"SUM(B6:H6)","v":0}]
["教師グループ",{"$f":"IF(SUM('入力シート (3)'!$D$4:$D$6)=0,'入力シート (3)'!C5,('入力シート (3)'!C5*0.7)+('入力シート (3)'!D5*0.3))","v":0},{"$f":"IF(SUM('入力シート (3)'!$G$4:$G$6)=0,'入力シート (3)'!F5,('入力シート (3)'!F5*0.7)+('入力シート (3)'!G5*0.3))","v":0},{"$f":"IF(SUM('入力シート (3)'!$J$4:$J$6)=0,'入力シート (3)'!I5,('入力シート (3)'!I5*0.7)+('入力シート (3)'!J5*0.3))","v":0},{"$f":"IF(SUM('入力シート (3)'!$M$4:$M$6)=0,'入力シート (3)'!L5,('入力シート (3)'!L5*0.7)+('入力シート (3)'!M5*0.3))","v":0},{"$f":"IF(SUM('入力シート (3)'!$P$4:$P$6)=0,'入力シート (3)'!O5,('入力シート (3)'!O5*0.7)+('入力シート (3)'!P5*0.3))","v":0},{"$f":"IF(SUM('入力シート (3)'!$S$4:$S$6)=0,'入力シート (3)'!R5,('入力シート (3)'!R5*0.7)+('入力シート (3)'!S5*0.3))","v":0},{"$f":"IF(SUM('入力シート (3)'!$V$4:$V$6)=0,'入力シート (3)'!U5,('入力シート (3)'!U5*0.7)+('入力シート (3)'!V5*0.3))","v":0},0]
["教師個別",{"$f":"IF(SUM('入力シート (3)'!$D$4:$D$6)=0,'入力シート (3)'!C6,('入力シート (3)'!C6*0.7)+('入力シート (3)'!D6*0.3))","v":0},{"$f":"IF(SUM('入力シート (3)'!$G$4:$G$6)=0,'入力シート (3)'!F6,('入力シート (3)'!F6*0.7)+('入力シート (3)'!G6*0.3))","v":0},{"$f":"IF(SUM('入力シート (3)'!$J$4:$J$6)=0,'入力シート (3)'!I6,('入力シート (3)'!I6*0.7)+('入力シート (3)'!J6*0.3))","v":0},{"$f":"IF(SUM('入力シート (3)'!$M$4:$M$6)=0,'入力シート (3)'!L6,('入力シート (3)'!L6*0.7)+('入力シート (3)'!M6*0.3))","v":0},{"$f":"IF(SUM('入力シート (3)'!$P$4:$P$6)=0,'入力シート (3)'!O6,('入力シート (3)'!O6*0.7)+('入力シート (3)'!P6*0.3))","v":0},{"$f":"IF(SUM('入力シート (3)'!$S$4:$S$6)=0,'入力シート (3)'!R6,('入力シート (3)'!R6*0.7)+('入力シート (3)'!S6*0.3))","v":0},{"$f":"IF(SUM('入力シート (3)'!$V$4:$V$6)=0,'入力シート (3)'!U6,('入力シート (3)'!U6*0.7)+('入力シート (3)'!V6*0.3))","v":0},0]
["生徒一斉",{"$f":"IF(SUM('入力シート (3)'!$D$24:$D$26)=0,'入力シート (3)'!C24,('入力シート (3)'!C24*0.7)+('入力シート (3)'!D24*0.3))","v":0},{"$f":"IF(SUM('入力シート (3)'!$G$24:$G$26)=0,'入力シート (3)'!F24,('入力シート (3)'!F24*0.7)+('入力シート (3)'!G24*0.3))","v":0},{"$f":"IF(SUM('入力シート (3)'!$J$24:$J$26)=0,'入力シート (3)'!I24,('入力シート (3)'!I24*0.7)+('入力シート (3)'!J24*0.3))","v":0},{"$f":"IF(SUM('入力シート (3)'!$M$24:$M$26)=0,'入力シート (3)'!L24,('入力シート (3)'!L24*0.7)+('入力シート (3)'!M24*0.3))","v":0},{"$f":"IF(SUM('入力シート (3)'!$P$24:$P$26)=0,'入力シート (3)'!O24,('入力シート (3)'!O24*0.7)+('入力シート (3)'!P24*0.3))","v":0},{"$f":"IF(SUM('入力シート (3)'!$S$24:$S$26)=0,'入力シート (3)'!R24,('入力シート (3)'!R24*0.7)+('入力シート (3)'!S24*0.3))","v":0},{"$f":"IF(SUM('入力シート (3)'!$V$24:$V$26)=0,'入力シート (3)'!U24,('入力シート (3)'!U24*0.7)+('入力シート (3)'!V24*0.3))","v":0},0]
["生徒グループ",{"$f":"IF(SUM('入力シート (3)'!$D$24:$D$26)=0,'入力シート (3)'!C25,('入力シート (3)'!C25*0.7)+('入力シート (3)'!D25*0.3))","v":0},{"$f":"IF(SUM('入力シート (3)'!$G$24:$G$26)=0,'入力シート (3)'!F25,('入力シート (3)'!F25*0.7)+('入力シート (3)'!G25*0.3))","v":0},{"$f":"IF(SUM('入力シート (3)'!$J$24:$J$26)=0,'入力シート (3)'!I25,('入力シート (3)'!I25*0.7)+('入力シート (3)'!J25*0.3))","v":0},{"$f":"IF(SUM('入力シート (3)'!$M$24:$M$26)=0,'入力シート (3)'!L25,('入力シート (3)'!L25*0.7)+('入力シート (3)'!M25*0.3))","v":0},{"$f":"IF(SUM('入力シート (3)'!$P$24:$P$26)=0,'入力シート (3)'!O25,('入力シート (3)'!O25*0.7)+('入力シート (3)'!P25*0.3))","v":0},{"$f":"IF(SUM('入力シート (3)'!$S$24:$S$26)=0,'入力シート (3)'!R25,('入力シート (3)'!R25*0.7)+('入力シート (3)'!S25*0.3))","v":0},{"$f":"IF(SUM('入力シート (3)'!$V$24:$V$26)=0,'入力シート (3)'!U25,('入力シート (3)'!U25*0.7)+('入力シート (3)'!V25*0.3))","v":0},0]
["生徒個別",{"$f":"IF(SUM('入力シート (3)'!$D$24:$D$26)=0,'入力シート (3)'!C26,('入力シート (3)'!C26*0.7)+('入力シート (3)'!D26*0.3))","v":0},{"$f":"IF(SUM('入力シート (3)'!$G$24:$G$26)=0,'入力シート (3)'!F26,('入力シート (3)'!F26*0.7)+('入力シート (3)'!G26*0.3))","v":0},{"$f":"IF(SUM('入力シート (3)'!$J$24:$J$26)=0,'入力シート (3)'!I26,('入力シート (3)'!I26*0.7)+('入力シート (3)'!J26*0.3))","v":0},{"$f":"IF(SUM('入力シート (3)'!$M$24:$M$26)=0,'入力シート (3)'!L26,('入力シート (3)'!L26*0.7)+('入力シート (3)'!M26*0.3))","v":0},{"$f":"IF(SUM('入力シート (3)'!$P$24:$P$26)=0,'入力シート (3)'!O26,('入力シート (3)'!O26*0.7)+('入力シート (3)'!P26*0.3))","v":0},{"$f":"IF(SUM('入力シート (3)'!$S$24:$S$26)=0,'入力シート (3)'!R26,('入力シート (3)'!R26*0.7)+('入力シート (3)'!S26*0.3))","v":0},{"$f":"IF(SUM('入力シート (3)'!$V$24:$V$26)=0,'入力シート (3)'!U26,('入力シート (3)'!U26*0.7)+('入力シート (3)'!V26*0.3))","v":0},0]
["カテゴリー別（教師）","Warm-up・帯活動","言語材料（復習）","教科書（復習）","言語材料（導入）","教科書（導入）","言語材料（発展）","教科書（発展）"]
["指示",{"$f":"IF(SUM('入力シート (3)'!$D$9:$D$16)=0,'入力シート (3)'!C9,('入力シート (3)'!C9*0.7)+('入力シート (3)'!D9*0.3))","v":0},{"$f":"IF(SUM('入力シート (3)'!$G$9:$G$16)=0,'入力シート (3)'!F9,('入力シート (3)'!F9*0.7)+('入力シート (3)'!G9*0.3))","v":0},{"$f":"IF(SUM('入力シート (3)'!$J$9:$J$16)=0,'入力シート (3)'!I9,('入力シート (3)'!I9*0.7)+('入力シート (3)'!J9*0.3))","v":0},{"$f":"IF(SUM('入力シート (3)'!$M$9:$M$16)=0,'入力シート (3)'!L9,('入力シート (3)'!L9*0.7)+('入力シート (3)'!M9*0.3))","v":0},{"$f":"IF(SUM('入力シート (3)'!$P$9:$P$16)=0,'入力シート (3)'!O9,('入力シート (3)'!O9*0.7)+('入力シート (3)'!P9*0.3))","v":0},{"$f":"IF(SUM('入力シート (3)'!$S$9:$S$16)=0,'入力シート (3)'!R9,('入力シート (3)'!R9*0.7)+('入力シート (3)'!S9*0.3))","v":0},{"$f":"IF(SUM('入力シート (3)'!$V$9:$V$16)=0,'入力シート (3)'!U9,('入力シート (3)'!U9*0.7)+('入力シート (3)'!V9*0.3))","v":0},{"$f":"SUM(B13:H13)","v":0}]
["褒め・励まし",{"$f":"IF(SUM('入力シート (3)'!$D$9:$D$16)=0,'入力シート (3)'!C10,('入力シート (3)'!C10*0.7)+('入力シート (3)'!D10*0.3))","v":0},{"$f":"IF(SUM('入力シート (3)'!$G$9:$G$16)=0,'入力シート (3)'!F10,('入力シート (3)'!F10*0.7)+('入力シート (3)'!G10*0.3))","v":0},{"$f":"IF(SUM('入力シート (3)'!$J$9:$J$16)=0,'入力シート (3)'!I10,('入力シート (3)'!I10*0.7)+('入力シート (3)'!J10*0.3))","v":0},{"$f":"IF(SUM('入力シート (3)'!$M$9:$M$16)=0,'入力シート (3)'!L10,('入力シート (3)'!L10*0.7)+('入力シート (3)'!M10*0.3))","v":0},{"$f":"IF(SUM('入力シート (3)'!$P$9:$P$16)=0,'入力シート (3)'!O10,('入力シート (3)'!O10*0.7)+('入力シート (3)'!P10*0.3))","v":0},{"$f":"IF(SUM('入力シート (3)'!$S$9:$S$16)=0,'入力シート (3)'!R10,('入力シート (3)'!R10*0.7)+('入力シート (3)'!S10*0.3))","v":0},{"$f":"IF(SUM('入力シート (3)'!$V$9:$V$16)=0,'入力シート (3)'!U10,('入力シート (3)'!U10*0.7)+('入力シート (3)'!V10*0.3))","v":0},0]
["発問（Closed）",{"$f":"IF(SUM('入力シート (3)'!$D$9:$D$16)=0,'入力シート (3)'!C11,('入力シート (3)'!C11*0.7)+('入力シート (3)'!D11*0.3))","v":0},{"$f":"IF(SUM('入力シート (3)'!$G$9:$G$16)=0,'入力シート (3)'!F11,('入力シート (3)'!F11*0.7)+('入力シート (3)'!G11*0.3))","v":0},{"$f":"IF(SUM('入力シート (3)'!$J$9:$J$16)=0,'入力シート (3)'!I11,('入力シート (3)'!I11*0.7)+('入力シート (3)'!J11*0.3))","v":0},{"$f":"IF(SUM('入力シート (3)'!$M$9:$M$16)=0,'入力シート (3)'!L11,('入力シート (3)'!L11*0.7)+('入力シート (3)'!M11*0.3))","v":0},{"$f":"IF(SUM('入力シート (3)'!$P$9:$P$16)=0,'入力シート (3)'!O11,('入力シート (3)'!O11*0.7)+('入力シート (3)'!P11*0.3))","v":0},{"$f":"IF(SUM('入力シート (3)'!$S$9:$S$16)=0,'入力シート (3)'!R11,('入力シート (3)'!R11*0.7)+('入力シート (3)'!S11*0.3))","v":0},{"$f":"IF(SUM('入力シート (3)'!$V$9:$V$16)=0,'入力シート (3)'!U11,('入力シート (3)'!U11*0.7)+('入力シート (3)'!V11*0.3))","v":0},0]
["アドバイス",{"$f":"IF(SUM('入力シート (3)'!$D$9:$D$16)=0,'入力シート (3)'!C12,('入力シート (3)'!C12*0.7)+('入力シート (3)'!D12*0.3))","v":0},{"$f":"IF(SUM('入力シート (3)'!$G$9:$G$16)=0,'入力シート (3)'!F12,('入力シート (3)'!F12*0.7)+('入力シート (3)'!G12*0.3))","v":0},{"$f":"IF(SUM('入力シート (3)'!$J$9:$J$16)=0,'入力シート (3)'!I12,('入力シート (3)'!I12*0.7)+('入力シート (3)'!J12*0.3))","v":0},{"$f":"IF(SUM('入力シート (3)'!$M$9:$M$16)=0,'入力シート (3)'!L12,('入力シート (3)'!L12*0.7)+('入力シート (3)'!M12*0.3))","v":0},{"$f":"IF(SUM('入力シート (3)'!$P$9:$P$16)=0,'入力シート (3)'!O12,('入力シート (3)'!O12*0.7)+('入力シート (3)'!P12*0.3))","v":0},{"$f":"IF(SUM('入力シート (3)'!$S$9:$S$16)=0,'入力シート (3)'!R12,('入力シート (3)'!R12*0.7)+('入力シート (3)'!S12*0.3))","v":0},{"$f":"IF(SUM('入力シート (3)'!$V$9:$V$16)=0,'入力シート (3)'!U12,('入力シート (3)'!U12*0.7)+('入力シート (3)'!V12*0.3))","v":0},0]
["発音・発話指導",{"$f":"IF(SUM('入力シート (3)'!$D$9:$D$16)=0,'入力シート (3)'!C13,('入力シート (3)'!C13*0.7)+('入力シート (3)'!D13*0.3))","v":0},{"$f":"IF(SUM('入力シート (3)'!$G$9:$G$16)=0,'入力シート (3)'!F13,('入力シート (3)'!F13*0.7)+('入力シート (3)'!G13*0.3))","v":0},{"$f":"IF(SUM('入力シート (3)'!$J$9:$J$16)=0,'入力シート (3)'!I13,('入力シート (3)'!I13*0.7)+('入力シート (3)'!J13*0.3))","v":0},{"$f":"IF(SUM('入力シート (3)'!$M$9:$M$16)=0,'入力シート (3)'!L13,('入力シート (3)'!L13*0.7)+('入力シート (3)'!M13*0.3))","v":0},{"$f":"IF(SUM('入力シート (3)'!$P$9:$P$16)=0,'入力シート (3)'!O13,('入力シート (3)'!O13*0.7)+('入力シート (3)'!P13*0.3))","v":0},{"$f":"IF(SUM('入力シート (3)'!$S$9:$S$16)=0,'入力シート (3)'!R13,('入力シート (3)'!R13*0.7)+('入力シート (3)'!S13*0.3))","v":0},{"$f":"IF(SUM('入力シート (3)'!$V$9:$V$16)=0,'入力シート (3)'!U13,('入力シート (3)'!U13*0.7)+('入力シート (3)'!V13*0.3))","v":0},0]
["本文の紹介や説明\n（Oral Introduction）",{"$f":"IF(SUM('入力シート (3)'!$D$9:$D$16)=0,'入力シート (3)'!C14,('入力シート (3)'!C14*0.7)+('入力シート (3)'!D14*0.3))","v":0},{"$f":"IF(SUM('入力シート (3)'!$G$9:$G$16)=0,'入力シート (3)'!F14,('入力シート (3)'!F14*0.7)+('入力シート (3)'!G14*0.3))","v":0},{"$f":"IF(SUM('入力シート (3)'!$J$9:$J$16)=0,'入力シート (3)'!I14,('入力シート (3)'!I14*0.7)+('入力シート (3)'!J14*0.3))","v":0},{"$f":"IF(SUM('入力シート (3)'!$M$9:$M$16)=0,'入力シート (3)'!L14,('入力シート (3)'!L14*0.7)+('入力シート (3)'!M14*0.3))","v":0},{"$f":"IF(SUM('入力シート (3)'!$P$9:$P$16)=0,'入力シート (3)'!O14,('入力シート (3)'!O14*0.7)+('入力シート (3)'!P14*0.3))","v":0},{"$f":"IF(SUM('入力シート (3)'!$S$9:$S$16)=0,'入力シート (3)'!R14,('入力シート (3)'!R14*0.7)+('入力シート (3)'!S14*0.3))","v":0},{"$f":"IF(SUM('入力シート (3)'!$V$9:$V$16)=0,'入力シート (3)'!U14,('入力シート (3)'!U14*0.7)+('入力シート (3)'!V14*0.3))","v":0},0]
["言語活動の説明",{"$f":"IF(SUM('入力シート (3)'!$D$9:$D$16)=0,'入力シート (3)'!C15,('入力シート (3)'!C15*0.7)+('入力シート (3)'!D15*0.3))","v":0},{"$f":"IF(SUM('入力シート (3)'!$G$9:$G$16)=0,'入力シート (3)'!F15,('入力シート (3)'!F15*0.7)+('入力シート (3)'!G15*0.3))","v":0},{"$f":"IF(SUM('入力シート (3)'!$J$9:$J$16)=0,'入力シート (3)'!I15,('入力シート (3)'!I15*0.7)+('入力シート (3)'!J15*0.3))","v":0},{"$f":"IF(SUM('入力シート (3)'!$M$9:$M$16)=0,'入力シート (3)'!L15,('入力シート (3)'!L15*0.7)+('入力シート (3)'!M15*0.3))","v":0},{"$f":"IF(SUM('入力シート (3)'!$P$9:$P$16)=0,'入力シート (3)'!O15,('入力シート (3)'!O15*0.7)+('入力シート (3)'!P15*0.3))","v":0},{"$f":"IF(SUM('入力シート (3)'!$S$9:$S$16)=0,'入力シート (3)'!R15,('入力シート (3)'!R15*0.7)+('入力シート (3)'!S15*0.3))","v":0},{"$f":"IF(SUM('入力シート (3)'!$V$9:$V$16)=0,'入力シート (3)'!U15,('入力シート (3)'!U15*0.7)+('入力シート (3)'!V15*0.3))","v":0},0]
["生徒の英語のパラフレーズ",{"$f":"IF(SUM('入力シート (3)'!$D$9:$D$16)=0,'入力シート (3)'!C16,('入力シート (3)'!C16*0.7)+('入力シート (3)'!D16*0.3))","v":0},{"$f":"IF(SUM('入力シート (3)'!$G$9:$G$16)=0,'入力シート (3)'!F16,('入力シート (3)'!F16*0.7)+('入力シート (3)'!G16*0.3))","v":0},{"$f":"IF(SUM('入力シート (3)'!$J$9:$J$16)=0,'入力シート (3)'!I16,('入力シート (3)'!I16*0.7)+('入力シート (3)'!J16*0.3))","v":0},{"$f":"IF(SUM('入力シート (3)'!$M$9:$M$16)=0,'入力シート (3)'!L16,('入力シート (3)'!L16*0.7)+('入力シート (3)'!M16*0.3))","v":0},{"$f":"IF(SUM('入力シート (3)'!$P$9:$P$16)=0,'入力シート (3)'!O16,('入力シート (3)'!O16*0.7)+('入力シート (3)'!P16*0.3))","v":0},{"$f":"IF(SUM('入力シート (3)'!$S$9:$S$16)=0,'入力シート (3)'!R16,('入力シート (3)'!R16*0.7)+('入力シート (3)'!S16*0.3))","v":0},{"$f":"IF(SUM('入力シート (3)'!$V$9:$V$16)=0,'入力シート (3)'!U16,('入力シート (3)'!U16*0.7)+('入力シート (3)'!V16*0.3))","v":0},0]
["カテゴリー別（教師）","Warm-up・帯活動","言語材料（復習）","教科書（復習）","言語材料（導入）","教科書（導入）","言語材料（発展）","教科書（発展）"]
["機械的な発話",{"$f":"IF(SUM('入力シート (3)'!$D$18:$D$20)=0,'入力シート (3)'!C24,('入力シート (3)'!C24*0.7)+('入力シート (3)'!D24*0.3))","v":0},{"$f":"IF(SUM('入力シート (3)'!$G$18:$G$20)=0,'入力シート (3)'!F24,('入力シート (3)'!F18*0.7)+('入力シート (3)'!G18*0.3))","v":0},{"$f":"IF(SUM('入力シート (3)'!$J$18:$J$20)=0,'入力シート (3)'!I18,('入力シート (3)'!I18*0.7)+('入力シート (3)'!J18*0.3))","v":0},{"$f":"IF(SUM('入力シート (3)'!$M$18:$M$20)=0,'入力シート (3)'!L18,('入力シート (3)'!L18*0.7)+('入力シート (3)'!M18*0.3))","v":0},{"$f":"IF(SUM('入力シート (3)'!$P$18:$P$20)=0,'入力シート (3)'!O18,('入力シート (3)'!O18*0.7)+('入力シート (3)'!P18*0.3))","v":0},{"$f":"IF(SUM('入力シート (3)'!$S$18:$S$20)=0,'入力シート (3)'!R18,('入力シート (3)'!R18*0.7)+('入力シート (3)'!S18*0.3))","v":0},{"$f":"IF(SUM('入力シート (3)'!$V$18:$V$20)=0,'入力シート (3)'!U18,('入力シート (3)'!U18*0.7)+('入力シート (3)'!V18*0.3))","v":0},{"$f":"SUM(B22:H22)","v":0}]
["準備のある発話",{"$f":"IF(SUM('入力シート (3)'!$D$18:$D$20)=0,'入力シート (3)'!C25,('入力シート (3)'!C25*0.7)+('入力シート (3)'!D25*0.3))","v":0},{"$f":"IF(SUM('入力シート (3)'!$G$18:$G$20)=0,'入力シート (3)'!F25,('入力シート (3)'!F19*0.7)+('入力シート (3)'!G19*0.3))","v":0},{"$f":"IF(SUM('入力シート (3)'!$J$18:$J$20)=0,'入力シート (3)'!I19,('入力シート (3)'!I19*0.7)+('入力シート (3)'!J19*0.3))","v":0},{"$f":"IF(SUM('入力シート (3)'!$M$18:$M$20)=0,'入力シート (3)'!L19,('入力シート (3)'!L19*0.7)+('入力シート (3)'!M19*0.3))","v":0},{"$f":"IF(SUM('入力シート (3)'!$P$18:$P$20)=0,'入力シート (3)'!O19,('入力シート (3)'!O19*0.7)+('入力シート (3)'!P19*0.3))","v":0},{"$f":"IF(SUM('入力シート (3)'!$S$18:$S$20)=0,'入力シート (3)'!R19,('入力シート (3)'!R19*0.7)+('入力シート (3)'!S19*0.3))","v":0},{"$f":"IF(SUM('入力シート (3)'!$V$18:$V$20)=0,'入力シート (3)'!U19,('入力シート (3)'!U19*0.7)+('入力シート (3)'!V19*0.3))","v":0},{"$f":"SUM(B23:H23)","v":0}]
["即興の発話",{"$f":"IF(SUM('入力シート (3)'!$D$18:$D$20)=0,'入力シート (3)'!C26,('入力シート (3)'!C26*0.7)+('入力シート (3)'!D26*0.3))","v":0},{"$f":"IF(SUM('入力シート (3)'!$G$18:$G$20)=0,'入力シート (3)'!F26,('入力シート (3)'!F20*0.7)+('入力シート (3)'!G20*0.3))","v":0},{"$f":"IF(SUM('入力シート (3)'!$J$18:$J$20)=0,'入力シート (3)'!I20,('入力シート (3)'!I20*0.7)+('入力シート (3)'!J20*0.3))","v":0},{"$f":"IF(SUM('入力シート (3)'!$M$18:$M$20)=0,'入力シート (3)'!L20,('入力シート (3)'!L20*0.7)+('入力シート (3)'!M20*0.3))","v":0},{"$f":"IF(SUM('入力シート (3)'!$P$18:$P$20)=0,'入力シート (3)'!O20,('入力シート (3)'!O20*0.7)+('入力シート (3)'!P20*0.3))","v":0},{"$f":"IF(SUM('入力シート (3)'!$S$18:$S$20)=0,'入力シート (3)'!R20,('入力シート (3)'!R20*0.7)+('入力シート (3)'!S20*0.3))","v":0},{"$f":"IF(SUM('入力シート (3)'!$V$18:$V$20)=0,'入力シート (3)'!U20,('入力シート (3)'!U20*0.7)+('入力シート (3)'!V20*0.3))","v":0},{"$f":"SUM(B24:H24)","v":0}]

{"sheet":"基本情報","index":5,"n_rows":4,"n_cols":2,"rows_kept":4,"cut":false,"hidden":true,"merged":[]}
[null,"長勝彦"]
[null,"佐藤剛"]
[null,"市町村大会提案授業"]
[null,"小学3年生"]

{"sheet":"結果","index":6,"n_rows":34,"n_cols":13,"rows_kept":34,"cut":false,"hidden":false,"merged":[[28,8,28,10],[29,8,29,10],[4,8,4,10],[5,8,5,10],[6,8,6,10],[7,8,7,10],[8,8,8,10],[9,1,9,4],[10,1,10,4],[9,8,9,10],[10,8,10,10],[27,8,27,10],[3,8,3,10],[3,1,3,2],[4,1,4,2],[5,1,5,2],[6,1,6,2],[3,3,3,5],[4,3,4,5],[5,3,5,5],[6,3,6,5]]}
[]
[]
[null,"１　基本情報",null,null,null,null,null,null,"4-1　教師の発話の種類（合計）"]
[null,"１－１　授業者",null,null,null,null,null,null,"指示",null,null,{"$f":"集計表!I13","v":0},"秒"]
[null,"１－２　対象学年",null,null,null,null,null,null,"褒め・励まし・コメント",null,null,{"$f":"集計表!I14","v":0},"秒"]
[null,"１－３　授業分類",null,null,null,null,null,null,"発問",null,null,{"$f":"集計表!I15","v":0},"秒"]
[null,"１－４　記録者",null,null,null,null,null,null,"アドバイス",null,null,{"$f":"集計表!I16","v":0},"秒"]
[null,null,null,null,null,null,null,null,"発音・発話指導",null,null,{"$f":"集計表!I17","v":0},"秒"]
[null,"２　教師と生徒の英語の発話時間の比較",null,null,null,null,null,null,"本文の紹介や説明\n（Oral Introduction）",null,null,{"$f":"集計表!I18","v":0},"秒"]
[null,"授業全体の教師の英語発話時間",null,null,null,{"$f":"集計表!I3","v":0},"秒",null,"言語活動の説明",null,null,{"$f":"集計表!I19","v":0},"秒"]
[null,"授業全体の生徒の英語発話時間",null,null,null,{"$f":"集計表!I4","v":0},"秒",null,"生徒の英語のパラフレーズ",null,null,{"$f":"集計表!I20","v":0},"秒"]
[null,null,null,null,null,null,null,null,"4-２　教師の発話の種類（指導場面別）"]
[]
[]
[]
[]
[]
[]
[]
[]
[]
[]
[]
[]
[null,"３　指導形態別教師と生徒の英語の発話時間の比較"]
[null,null,"教師",null,"生徒"]
[null,"一斉",{"$f":"集計表!I6","v":0},"秒",{"$f":"集計表!I9","v":0},"秒",null,null,"5-1　生徒の発話の種類（全体）"]
[null,"グループ",{"$f":"集計表!I7","v":0},"秒",{"$f":"集計表!I10","v":0},"秒",null,null,"機械的なリピート",null,null,{"$f":"集計表!I22","v":0},"秒"]
[null,"個別",{"$f":"集計表!I8","v":0},"秒",{"$f":"集計表!I11","v":0},"秒",null,null,"準備のある発話",null,null,{"$f":"集計表!I23","v":0},"秒"]
[null,null,null,null,null,null,null,null,"即興の発話",null,null,{"$f":"集計表!I24","v":0},"秒"]
[]
[]
[]
[null,null,null,null,null,null,null,null,"5-1　生徒の発話の種類（指導場面別）"]

{"sheet":"EX","index":7,"n_rows":70,"n_cols":5,"rows_kept":70,"cut":false,"hidden":false,"merged":[[60,1,62,13],[69,4,70,13],[1,1,2,13],[4,1,6,9],[10,1,13,13],[18,1,19,13],[22,1,23,13]]}
[]
[null,"授業に於ける教師及び生徒の発話量と質についての分析シート入力方法"]
[]
[null,"１　用意するもの"]
[null,"ストップウォッチを2つ用意します。１つは教師の発話時間を測定するためのもの、もう1つは生徒の発話時間を測定するために使います。"]
[]
[]
[]
[]
[null,"２　時間を測定する"]
[null,"授業のビデオを見ながら、授業はじめの挨拶、warm-up/ 帯活動、言語材料の復習、教科書の復習、言語材料の導入、教科書の導入、言語材料を使った発展的な活動、教科書を使った発展的な活動、終わりの挨拶の段階ごとに、教師と生徒の発話時間を累積的に測定します。"]
[]
[]
[]
[]
[null,"※授業の展開上、該当する段階がない場合は、空欄のままにする。"]
[null,"例）主に教科書を扱う授業で、挨拶→前時の教科書の復習→新しい教科書の導入→音読指導・練習→挨拶"]
[]
[null,"※グループやペア、または生徒がBuzz readingのように各自で練習している場面など、生徒個人のパフォーマンスが分からない場合は、「その時間内、生徒は英語を使用してる」と見なし、ストップウォッチは止めない。"]
[]
[]
[null,"３　「授業形態」と発話の「分類」を行う"]
[null,"それぞれの段階での発話時間の計測が終わるごとに、授業の形態（一斉／グループ・ペア／個別）と発話の分類を以下に基づいて分類する。※それぞれの分類は英語を使用しているものに限る。日本語でペアワークやグループをしているものは分類しない"]
[]
[]
[null,"①その段階のほとんどが1つの形態、教師や生徒の発話のほとんどが１つの種類である場合は、主のボックス１つにチェックを入れる。"]
[null,"例１"]
[]
[null,null,null,null,"⇦　その段階での活動形態のほとんどがグループ・ペアによるものであった時"]
[]
[null,"例２"]
[]
[]
[null,null,null,null,"⇦　その段階での教師の発話のほとんどが発音・発話指導によるものであった時"]
[]
[]
[]
[]
[]
[]
[]
[]
[]
[]
[]
[]
[]
[]
[null,"②その段階が同程度の割合で複数の形態、教師や生徒の発話は複数のカテゴリーに分類される場合は、該当する主のボックス複数にチェックを入れる。"]
[null,"例３"]
[null,null,null,null,"⇦　その段階での活動形態が、一斉と個別同程度であった場合"]
[null,null,null,null,"（全体でしっかりと説明した後に、生徒が個別でスピーチの練習をするなど）"]
[]
[]
[null,"例４"]
[null,null,null,null,"⇦　その段階での生徒の発話が、機械的な発話と即興の発話の同程度であった場合"]
[null,null,null,null,"（教師の後のリピート練習をした後、生徒に即興でオリジナルの発話を求める）"]
[]
[]
[]
[null,"③その段階の半分以上が１つの形態であったり、教師や生徒の発話の半分以上が１つのカテゴリーに分類されるが、他のカテゴリーに分類されるものもみられる場合は、半分以上を占めるカテゴリーの主のボックス１つにチェックを入れた上、その他はサブのボックスにチェックを入れる。（複数選択可）"]
[]
[]
[null,"例５"]
[null,null,null,null,"⇦　主にグループワークであったが、一斉と個別も見られた場合"]
[null,null,null,null,"（活動の指示を全体で出し、まず個人で考えた上で、グループで話し合いをするなど）"]
[]
[null,"例６"]
[null,null,null,null,"⇦　主に教師のオーラウイントロダクションであるが、その他の英語使用も見られる場合"]
[null,null,null,null,"（教科書の概要を英語で説明しながら発問しながら理解を確かめたり、重要な語句をリピートさせたり、生徒のリピートを修正している場合）"]