{"text_format":"1","workbook":"xlsx","n_sheets":5,"sheets":["入力シート","分析シート１（粗頻度）","分析シート２（分布図）","分析シート４（時系列）","分析シート３（連鎖頻度）"],"not_rendered":{"charts":2,"images":0,"macros":1,"external_links":0,"defined_names":0,"comments":2,"pivot_tables":0},"unopened":[],"bounds":{"document_bytes":16777216,"sheet_cells":100000,"rows_first":2000,"rows_last":500,"rows_between":2000,"halvings":0,"cell_chars":16384,"cell_head_chars":4096},"cells_cut":0,"cells_raw":0,"read":"whole","date_system":"1900"}

{"sheet":"入力シート","index":0,"n_rows":1001,"n_cols":19,"rows_kept":1001,"cut":false,"hidden":false,"merged":[]}
[null,null,null,"Time","Time","Activity No"]
[null,null,1,{"$f":"C2*3","v":3},3,null,null,null,null,null,null,{"$f":"F2&\"-\"&F3","v":"-"},null,null,"1~10","11~20","21~30","31~40","41~50"]
[null,null,2,{"$f":"C3*3","v":6},6,null,null,null,null,null,null,"-",null,"1,2",{"$f":"COUNTIF($F$2:$F$201,1)+COUNTIF($F$2:$F$201,2)","v":0},{"$f":"COUNTIF($F$202:$F$401,1)+COUNTIF($F$202:$F$401,2)","v":0},{"$f":"COUNTIF($F$402:$F$601,1)+COUNTIF($F$402:$F$601,2)","v":0},{"$f":"COUNTIF($F$602:$F$801,1)+COUNTIF($F$602:$F$801,2)","v":0},{"$f":"COUNTIF($F$802:$F$1001,1)+COUNTIF($F$802:$F$1001,2)","v":0}]
[null,null,3,9,9,null,null,null,null,null,null,"-",null,9,{"$f":"COUNTIF($F$2:$F$201,9)","v":0},{"$f":"COUNTIF($F$202:$F$401,9)","v":0},{"$f":"COUNTIF($F$402:$F$601,9)","v":0},{"$f":"COUNTIF($F$602:$F$801,9)","v":0},{"$f":"COUNTIF($F$802:$F$1001,9)","v":0}]
[null,null,4,{"$f":"C5*3","v":12},12,null,null,null,null,null,null,"-",null,3,{"$f":"COUNTIF($F$2:$F$201,3)","v":0},{"$f":"COUNTIF($F$202:$F$401,3)","v":0},{"$f":"COUNTIF($F$402:$F$601,3)","v":0},{"$f":"COUNTIF($F$602:$F$801,3)","v":0},{"$f":"COUNTIF($F$802:$F$1001,3)","v":0}]
[null,null,5,{"$f":"C6*3","v":15},15,null,null,null,null,null,null,"-",null,5,{"$f":"COUNTIF($F$2:$F$201,5)","v":0},{"$f":"COUNTIF($F$202:$F$401,5)","v":0},{"$f":"COUNTIF($F$402:$F$601,5)","v":0},{"$f":"COUNTIF($F$602:$F$801,5)","v":0},{"$f":"COUNTIF($F$802:$F$1001,5)","v":0}]
[null,null,6,18,18,null,null,null,null,null,null,"-",null,4,{"$f":"COUNTIF($F$2:$F$201,4)","v":0},{"$f":"COUNTIF($F$202:$F$401,4)","v":0},{"$f":"COUNTIF($F$402:$F$601,4)","v":0},{"$f":"COUNTIF($F$602:$F$801,4)","v":0},{"$f":"COUNTIF($F$802:$F$1001,4)","v":0}]
[null,null,7,21,21,null,null,null,null,null,null,"-",null,8,{"$f":"COUNTIF($F$2:$F$201,8)","v":0},{"$f":"COUNTIF($F$202:$F$401,8)","v":0},{"$f":"COUNTIF($F$402:$F$601,8)","v":0},{"$f":"COUNTIF($F$602:$F$801,8)","v":0},{"$f":"COUNTIF($F$802:$F$1001,8)","v":0}]
[null,null,8,24,24,null,null,null,null,null,null,"-",null,"6,7",{"$f":"COUNTIF($F$2:$F$201,6)+COUNTIF($F$2:$F$201,7)","v":0},{"$f":"COUNTIF($F$202:$F$401,6)+COUNTIF($F$202:$F$401,7)","v":0},{"$f":"COUNTIF($F$402:$F$601,6)+COUNTIF($F$402:$F$601,7)","v":0},{"$f":"COUNTIF($F$602:$F$8011,6)+COUNTIF($F$602:$F$801,7)","v":0},{"$f":"COUNTIF($F$802:$F$1001,6)+COUNTIF($F$802:$F$1001,7)","v":0}]
[null,null,9,27,27,null,null,null,null,null,null,"-",null,10,{"$f":"COUNTIF($F$2:$F$201,10)","v":0},{"$f":"COUNTIF($F$202:$F$401,10)","v":0},{"$f":"COUNTIF($F$402:$F$601,10)","v":0},{"$f":"COUNTIF($F$602:$F$801,10)","v":0},{"$f":"COUNTIF($F$802:$F$1001,10)","v":0}]
[null,null,10,30,30,null,null,null,null,null,null,"-"]
[null,null,11,33,33,null,null,null,null,null,null,"-",null,"11,12",{"$f":"COUNTIF($F$2:$F$201,11)+COUNTIF($F$2:$F$201,12)","v":0},{"$f":"COUNTIF($F$202:$F$401,11)+COUNTIF($F$202:$F$401,12)","v":0},{"$f":"COUNTIF($F$402:$F$601,11)+COUNTIF($F$402:$F$601,12)","v":0},{"$f":"COUNTIF($F$602:$F$801,11)+COUNTIF($F$602:$F$801,12)","v":0},{"$f":"COUNTIF($F$802:$F$1001,11)+COUNTIF($F$802:$F$1001,12)","v":0}]
[null,null,12,36,36,null,null,null,null,null,null,"-",null,19,{"$f":"COUNTIF($F$2:$F$201,19)","v":0},{"$f":"COUNTIF($F$202:$F$401,19)","v":0},{"$f":"COUNTIF($F$402:$F$601,19)","v":0},{"$f":"COUNTIF($F$602:$F$801,19)","v":0},{"$f":"COUNTIF($F$802:$F$1001,19)","v":0}]
[null,null,13,39,39,null,null,null,null,null,null,"-",null,13,{"$f":"COUNTIF($F$2:$F$201,13)","v":0},{"$f":"COUNTIF($F$202:$F$401,13)","v":0},{"$f":"COUNTIF($F$402:$F$601,13)","v":0},{"$f":"COUNTIF($F$602:$F$801,13)","v":0},{"$f":"COUNTIF($F$802:$F$1001,13)","v":0}]
[null,null,14,42,42,null,null,null,null,null,null,"-",null,15,{"$f":"COUNTIF($F$2:$F$201,15)","v":0},{"$f":"COUNTIF($F$202:$F$401,15)","v":0},{"$f":"COUNTIF($F$402:$F$601,15)","v":0},{"$f":"COUNTIF($F$602:$F$801,15)","v":0},{"$f":"COUNTIF($F$802:$F$1001,15)","v":0}]
[null,null,15,45,45,null,null,null,null,null,null,"-",null,14,{"$f":"COUNTIF($F$2:$F$201,14)","v":0},{"$f":"COUNTIF($F$202:$F$401,14)","v":0},{"$f":"COUNTIF($F$402:$F$601,14)","v":0},{"$f":"COUNTIF($F$602:$F$801,14)","v":0},{"$f":"COUNTIF($F$802:$F$1001,14)","v":0}]
[null,null,16,48,48,null,null,null,null,null,null,"-",null,18,{"$f":"COUNTIF($F$2:$F$201,18)","v":0},{"$f":"COUNTIF($F$202:$F$401,18)","v":0},{"$f":"COUNTIF($F$402:$F$601,18)","v":0},{"$f":"COUNTIF($F$602:$F$801,18)","v":0},{"$f":"COUNTIF($F$802:$F$1001,18)","v":0}]
[null,null,17,51,51,null,null,null,null,null,null,"-",null,"16,17",{"$f":"COUNTIF($F$2:$F$201,16)+COUNTIF($F$2:$F$201,17)","v":0},{"$f":"COUNTIF($F$202:$F$401,16)+COUNTIF($F$202:$F$401,17)","v":0},{"$f":"COUNTIF($F$402:$F$601,16)+COUNTIF($F$402:$F$601,17)","v":0},{"$f":"COUNTIF($F$602:$F$801,16)+COUNTIF($F$602:$F$801,17)","v":0},{"$f":"COUNTIF($F$802:$F$1001,16)+COUNTIF($F$802:$F$1001,17)","v":0}]
[null,null,18,54,54,null,null,null,null,null,null,"-",null,20,{"$f":"COUNTIF($F$2:$F$201,20)","v":0},{"$f":"COUNTIF($F$202:$F$401,20)","v":0},{"$f":"COUNTIF($F$402:$F$601,20)","v":0},{"$f":"COUNTIF($F$602:$F$801,20)","v":0},{"$f":"COUNTIF($F$802:$F$1001,20)","v":0}]
[null,null,19,57,57,null,null,null,null,null,null,"-"]
[null,"1分",20,60,60,null,null,null,null,null,null,"-"]
[null,null,21,{"$f":"C22*3","v":63},3,null,null,null,null,null,null,"-"]
[null,null,22,{"$f":"C23*3","v":66},6,null,null,null,null,null,null,"-"]
[null,null,23,69,9,null,null,null,null,null,null,"-"]
[null,null,24,{"$f":"C25*3","v":72},12,null,null,null,null,null,null,"-"]
[null,null,25,75,15,null,null,null,null,null,null,"-"]
[null,null,26,78,18,null,null,null,null,null,null,"-"]
[null,null,27,81,21,null,null,null,null,null,null,"-"]
[null,null,28,84,24,null,null,null,null,null,null,"-"]
[null,null,29,87,27,null,null,null,null,null,null,"-"]
[null,null,30,90,30,null,null,null,null,null,null,"-"]
[null,null,31,93,33,null,null,null,null,null,null,"-"]
[null,null,32,96,36,null,null,null,null,null,null,"-"]
[null,null,33,99,39,null,null,null,null,null,null,"-"]
[null,null,34,102,42,null,null,null,null,null,null,"-"]
[null,null,35,105,45,null,null,null,null,null,null,"-"]
[null,null,36,108,48,null,null,null,null,null,null,"-"]
[null,null,37,111,51,null,null,null,null,null,null,"-"]
[null,null,38,114,54,null,null,null,null,null,null,"-"]
[null,null,39,117,57,null,null,null,null,null,null,"-"]
[null,"2分",40,120,60,null,null,null,null,null,null,"-"]
[null,null,41,123,3,null,null,null,null,null,null,"-"]
[null,null,42,126,6,null,null,null,null,null,null,"-"]
[null,null,43,129,9,null,null,null,null,null,null,"-"]
[null,null,44,132,12,null,null,null,null,null,null,"-"]
[null,null,45,135,15,null,null,null,null,null,null,"-"]
[null,null,46,138,18,null,null,null,null,null,null,"-"]
[null,null,47,141,21,null,null,null,null,null,null,"-"]
[null,null,48,144,24,null,null,null,null,null,null,"-"]
[null,null,49,147,27,null,null,null,null,null,null,"-"]
[null,null,50,150,30,null,null,null,null,null,null,"-"]
[null,null,51,153,33,null,null,null,null,null,null,"-"]
[null,null,52,156,36,null,null,null,null,null,null,"-"]
[null,null,53,159,39,null,null,null,null,null,null,"-"]
[null,null,54,162,42,null,null,null,null,null,null,"-"]
[null,null,55,165,45,null,null,null,null,null,null,"-"]
[null,null,56,168,48,null,null,null,null,null,null,"-"]
[null,null,57,171,51,null,null,null,null,null,null,"-"]
[null,null,58,174,54,null,null,null,null,null,null,"-"]
[null,null,59,177,57,null,null,null,null,null,null,"-"]
[null,"3分",60,180,60,null,null,null,null,null,null,"-"]
[null,null,61,183,3,null,null,null,null,null,null,"-"]
[null,null,62,186,6,null,null,null,null,null,null,"-"]
[null,null,63,189,9,null,null,null,null,null,null,"-"]
[null,null,64,192,12,null,null,null,null,null,null,"-"]
[null,null,65,195,15,null,null,null,null,null,null,"-"]
[null,null,66,198,18,null,null,null,null,null,null,{"$f":"F67&\"-\"&F68","v":"-"}]
[null,null,67,201,21,null,null,null,null,null,null,"-"]
[null,null,68,204,24,null,null,null,null,null,null,"-"]
[null,null,69,{"$f":"C70*3","v":207},27,null,null,null,null,null,null,"-"]
[null,null,70,210,30,null,null,null,null,null,null,"-"]
[null,null,71,213,33,null,null,null,null,null,null,"-"]
[null,null,72,216,36,null,null,null,null,null,null,"-"]
[null,null,73,219,39,null,null,null,null,null,null,"-"]
[null,null,74,222,42,null,null,null,null,null,null,"-"]
[null,null,75,225,45,null,null,null,null,null,null,"-"]
[null,null,76,228,48,null,null,null,null,null,null,"-"]
[null,null,77,231,51,null,null,null,null,null,null,"-"]
[null,null,78,234,54,null,null,null,null,null,null,"-"]
[null,null,79,237,57,null,null,null,null,null,null,"-"]
[null,"4分",80,240,60,null,null,null,null,null,null,"-"]
[null,null,81,243,3,null,null,null,null,null,null,"-"]
[null,null,82,246,6,null,null,null,null,null,null,"-"]
[null,"whatday",83,249,9,null,null,null,null,null,null,"-"]
[null,"1min",84,252,12,null,null,null,null,null,null,"-"]
[null,"pair",85,255,15,null,null,null,null,null,null,"-"]
[null,null,86,258,18,null,null,null,null,null,null,"-"]
[null,null,87,261,21,null,null,null,null,null,null,"-"]
[null,null,88,264,24,null,null,null,null,null,null,"-"]
[null,null,89,267,27,null,null,null,null,null,null,"-"]
[null,null,90,270,30,null,null,null,null,null,null,"-"]
[null,null,91,273,33,null,null,null,null,null,null,"-"]
[null,null,92,276,36,null,null,null,null,null,null,"-"]
[null,null,93,279,39,null,null,null,null,null,null,"-"]
[null,null,94,282,42,null,null,null,null,null,null,"-"]
[null,null,95,285,45,null,null,null,null,null,null,"-"]
[null,null,96,288,48,null,null,null,null,null,null,"-"]
[null,null,97,291,51,null,null,null,null,null,null,"-"]
[null,null,98,294,54,null,null,null,null,null,null,"-"]
[null,null,99,297,57,null,null,null,null,null,null,"-"]
[null,"5分",100,300,60,null,null,null,null,null,null,"-"]
[null,null,101,303,3,null,null,null,null,null,null,"-"]
[null,null,102,306,6,null,null,null,null,null,null,"-"]
[null,"whatday",103,309,9,null,null,null,null,null,null,"-"]
[null,"30sec",104,312,12,null,null,null,null,null,null,"-"]
[null,"teacher",105,315,15,null,null,null,null,null,null,"-"]
[null,null,106,318,18,null,null,null,null,null,null,"-"]
[null,null,107,321,21,null,null,null,null,null,null,"-"]
[null,null,108,324,24,null,null,null,null,null,null,"-"]
[null,null,109,327,27,null,null,null,null,null,null,"-"]
[null,null,110,330,30,null,null,null,null,null,null,"-"]
[null,null,111,333,33,null,null,null,null,null,null,"-"]
[null,null,112,336,36,null,null,null,null,null,null,"-"]
[null,null,113,339,39,null,null,null,null,null,null,"-"]
[null,null,114,342,42,null,null,null,null,null,null,"-"]
[null,null,115,345,45,null,null,null,null,null,null,"-"]
[null,null,116,348,48,null,null,null,null,null,null,"-"]
[null,null,117,351,51,null,null,null,null,null,null,"-"]
[null,null,118,354,54,null,null,null,null,null,null,"-"]
[null,null,119,357,57,null,null,null,null,null,null,"-"]
[null,"6分",120,360,60,null,null,null,null,null,null,"-"]
[null,null,121,363,3,null,null,null,null,null,null,"-"]
[null,null,122,366,6,null,null,null,null,null,null,"-"]
[null,null,123,369,9,null,null,null,null,null,null,"-"]
[null,null,124,372,12,null,null,null,null,null,null,"-"]
[null,null,125,375,15,null,null,null,null,null,null,"-"]
[null,null,126,378,18,null,null,null,null,null,null,"-"]
[null,null,127,381,21,null,null,null,null,null,null,"-"]
[null,null,128,384,24,null,null,null,null,null,null,"-"]
[null,null,129,387,27,null,null,null,null,null,null,"-"]
[null,null,130,390,30,null,null,null,null,null,null,{"$f":"F131&\"-\"&F132","v":"-"}]
[null,null,131,393,33,null,null,null,null,null,null,"-"]
[null,null,132,396,36,null,null,null,null,null,null,"-"]
[null,null,133,{"$f":"C134*3","v":399},39,null,null,null,null,null,null,"-"]
[null,null,134,402,42,null,null,null,null,null,null,"-"]
[null,null,135,405,45,null,null,null,null,null,null,"-"]
[null,null,136,408,48,null,null,null,null,null,null,"-"]
[null,null,137,411,51,null,null,null,null,null,null,"-"]
[null,"BINGO",138,414,54,null,null,null,null,null,null,"-"]
[null,"read&repeat",139,417,57,null,null,null,null,null,null,"-"]
[null,"7分",140,420,60,null,null,null,null,null,null,"-"]
[null,null,141,423,3,null,null,null,null,null,null,"-"]
[null,null,142,426,6,null,null,null,null,null,null,"-"]
[null,null,143,429,9,null,null,null,null,null,null,"-"]
[null,null,144,432,12,null,null,null,null,null,null,"-"]
[null,null,145,435,15,null,null,null,null,null,null,"-"]
[null,null,146,438,18,null,null,null,null,null,null,"-"]
[null,null,147,441,21,null,null,null,null,null,null,"-"]
[null,null,148,444,24,null,null,null,null,null,null,"-"]
[null,null,149,447,27,null,null,null,null,null,null,"-"]
[null,null,150,450,30,null,null,null,null,null,null,"-"]
[null,null,151,453,33,null,null,null,null,null,null,"-"]
[null,null,152,456,36,null,null,null,null,null,null,"-"]
[null,null,153,459,39,null,null,null,null,null,null,"-"]
[null,null,154,462,42,null,null,null,null,null,null,"-"]
[null,null,155,465,45,null,null,null,null,null,null,"-"]
[null,null,156,468,48,null,null,null,null,null,null,"-"]
[null,null,157,471,51,null,null,null,null,null,null,"-"]
[null,null,158,474,54,null,null,null,null,null,null,"-"]
[null,null,159,477,57,null,null,null,null,null,null,"-"]
[null,"8分",160,480,60,null,null,null,null,null,null,"-"]
[null,null,161,483,3,null,null,null,null,null,null,"-"]
[null,null,162,486,6,null,null,null,null,null,null,"-"]
[null,null,163,489,9,null,null,null,null,null,null,"-"]
[null,null,164,492,12,null,null,null,null,null,null,"-"]
[null,null,165,495,15,null,null,null,null,null,null,"-"]
[null,null,166,498,18,null,null,null,null,null,null,"-"]
[null,null,167,501,21,null,null,null,null,null,null,"-"]
[null,"gamestart",168,504,24,null,null,null,null,null,null,"-"]
[null,null,169,507,27,null,null,null,null,null,null,"-"]
[null,null,170,510,30,null,null,null,null,null,null,"-"]
[null,null,171,513,33,null,null,null,null,null,null,"-"]
[null,null,172,516,36,null,null,null,null,null,null,"-"]
[null,null,173,519,39,null,null,null,null,null,null,"-"]
[null,null,174,522,42,null,null,null,null,null,null,"-"]
[null,null,175,525,45,null,null,null,null,null,null,"-"]
[null,null,176,528,48,null,null,null,null,null,null,"-"]
[null,null,177,531,51,null,null,null,null,null,null,"-"]
[null,null,178,534,54,null,null,null,null,null,null,"-"]
[null,null,179,537,57,null,null,null,null,null,null,"-"]
[null,"9分",180,540,60,null,null,null,null,null,null,"-"]
[null,null,181,543,3,null,null,null,null,null,null,"-"]
[null,null,182,546,6,null,null,null,null,null,null,"-"]
[null,null,183,549,9,null,null,null,null,null,null,"-"]
[null,null,184,552,12,null,null,null,null,null,null,"-"]
[null,null,185,555,15,null,null,null,null,null,null,"-"]
[null,null,186,558,18,null,null,null,null,null,null,"-"]
[null,null,187,561,21,null,null,null,null,null,null,"-"]
[null,null,188,564,24,null,null,null,null,null,null,"-"]
[null,null,189,567,27,null,null,null,null,null,null,"-"]
[null,null,190,570,30,null,null,null,null,null,null,"-"]
[null,null,191,573,33,null,null,null,null,null,null,"-"]
[null,null,192,576,36,null,null,null,null,null,null,"-"]
[null,null,193,579,39,null,null,null,null,null,null,"-"]
[null,null,194,582,42,null,null,null,null,null,null,{"$f":"F195&\"-\"&F196","v":"-"}]
[null,null,195,585,45,null,null,null,null,null,null,"-"]
[null,null,196,588,48,null,null,null,null,null,null,"-"]
[null,null,197,{"$f":"C198*3","v":591},51,null,null,null,null,null,null,"-"]
[null,null,198,594,54,null,null,null,null,null,null,"-"]
[null,null,199,597,57,null,null,null,null,null,null,"-"]
[null,"10分",200,600,60,null,null,null,null,null,null,"-"]
[null,null,201,603,3,null,null,null,null,null,null,"-"]
[null,null,202,606,6,null,null,null,null,null,null,"-"]
[null,null,203,609,9,null,null,null,null,null,null,"-"]
[null,null,204,612,12,null,null,null,null,null,null,"-"]
[null,null,205,615,15,null,null,null,null,null,null,"-"]
[null,null,206,618,18,null,null,null,null,null,null,"-"]
[null,null,207,621,21,null,null,null,null,null,null,"-"]
[null,null,208,624,24,null,null,null,null,null,null,"-"]
[null,null,209,627,27,null,null,null,null,null,null,"-"]
[null,null,210,630,30,null,null,null,null,null,null,"-"]
[null,null,211,633,33,null,null,null,null,null,null,"-"]
[null,null,212,636,36,null,null,null,null,null,null,"-"]
[null,null,213,639,39,null,null,null,null,null,null,"-"]
[null,null,214,642,42,null,null,null,null,null,null,"-"]
[null,null,215,645,45,null,null,null,null,null,null,"-"]
[null,null,216,648,48,null,null,null,null,null,null,"-"]
[null,null,217,651,51,null,null,null,null,null,null,"-"]
[null,"dictation",218,654,54,null,null,null,null,null,null,"-"]
[null,null,219,657,57,null,null,null,null,null,null,"-"]
[null,"11分",220,660,60,null,null,null,null,null,null,"-"]
[null,null,221,663,3,null,null,null,null,null,null,"-"]
[null,null,222,666,6,null,null,null,null,null,null,"-"]
[null,null,223,669,9,null,null,null,null,null,null,"-"]
[null,null,224,672,12,null,null,null,null,null,null,"-"]
[null,"1minstudy",225,675,15,null,null,null,null,null,null,"-"]
[null,null,226,678,18,null,null,null,null,null,null,"-"]
[null,null,227,681,21,null,null,null,null,null,null,"-"]
[null,null,228,684,24,null,null,null,null,null,null,"-"]
[null,null,229,687,27,null,null,null,null,null,null,"-"]
[null,null,230,690,30,null,null,null,null,null,null,"-"]
[null,null,231,693,33,null,null,null,null,null,null,"-"]
[null,null,232,696,36,null,null,null,null,null,null,"-"]
[null,null,233,699,39,null,null,null,null,null,null,"-"]
[null,null,234,702,42,null,null,null,null,null,null,"-"]
[null,null,235,705,45,null,null,null,null,null,null,"-"]
[null,null,236,708,48,null,null,null,null,null,null,"-"]
[null,null,237,711,51,null,null,null,null,null,null,"-"]
[null,null,238,714,54,null,null,null,null,null,null,"-"]
[null,null,239,717,57,null,null,null,null,null,null,"-"]
[null,"12分",240,720,60,null,null,null,null,null,null,"-"]
[null,null,241,723,3,null,null,null,null,null,null,"-"]
[null,null,242,726,6,null,null,null,null,null,null,"-"]
[null,null,243,729,9,null,null,null,null,null,null,"-"]
[null,null,244,732,12,null,null,null,null,null,null,"-"]
[null,null,245,735,15,null,null,null,null,null,null,"-"]
[null,null,246,738,18,null,null,null,null,null,null,"-"]
[null,null,247,741,21,null,null,null,null,null,null,"-"]
[null,null,248,744,24,null,null,null,null,null,null,"-"]
[null,null,249,747,27,null,null,null,null,null,null,"-"]
[null,null,250,750,30,null,null,null,null,null,null,"-"]
[null,null,251,753,33,null,null,null,null,null,null,"-"]
[null,null,252,756,36,null,null,null,null,null,null,"-"]
[null,null,253,759,39,null,null,null,null,null,null,"-"]
[null,null,254,762,42,null,null,null,null,null,null,"-"]
[null,null,255,765,45,null,null,null,null,null,null,"-"]
[null,null,256,768,48,null,null,null,null,null,null,"-"]
[null,null,257,771,51,null,null,null,null,null,null,"-"]
[null,null,258,774,54,null,null,null,null,null,null,{"$f":"F259&\"-\"&F260","v":"-"}]
[null,null,259,777,57,null,null,null,null,null,null,"-"]
[null,"13分",260,780,60,null,null,null,null,null,null,"-"]
[null,null,261,{"$f":"C262*3","v":783},3,null,null,null,null,null,null,"-"]
[null,null,262,786,6,null,null,null,null,null,null,"-"]
[null,null,263,789,9,null,null,null,null,null,null,"-"]
[null,null,264,792,12,null,null,null,null,null,null,"-"]
[null,null,265,795,15,null,null,null,null,null,null,"-"]
[null,null,266,798,18,null,null,null,null,null,null,"-"]
[null,null,267,801,21,null,null,null,null,null,null,"-"]
[null,null,268,804,24,null,null,null,null,null,null,"-"]
[null,null,269,807,27,null,null,null,null,null,null,"-"]
[null,null,270,810,30,null,null,null,null,null,null,"-"]
[null,null,271,813,33,null,null,null,null,null,null,"-"]
[null,null,272,816,36,null,null,null,null,null,null,"-"]
[null,null,273,819,39,null,null,null,null,null,null,"-"]
[null,null,274,822,42,null,null,null,null,null,null,"-"]
[null,null,275,825,45,null,null,null,null,null,null,"-"]
[null,null,276,828,48,null,null,null,null,null,null,"-"]
[null,null,277,831,51,null,null,null,null,null,null,"-"]
[null,null,278,834,54,null,null,null,null,null,null,"-"]
[null,"縦横ドリル",279,837,57,null,null,null,null,null,null,"-"]
[null,"14分",280,840,60,null,null,null,null,null,null,"-"]
[null,null,281,843,3,null,null,null,null,null,null,"-"]
[null,null,282,846,6,null,null,null,null,null,null,"-"]
[null,null,283,849,9,null,null,null,null,null,null,"-"]
[null,null,284,852,12,null,null,null,null,null,null,"-"]
[null,null,285,855,15,null,null,null,null,null,null,"-"]
[null,null,286,858,18,null,null,null,null,null,null,"-"]
[null,null,287,861,21,null,null,null,null,null,null,"-"]
[null,null,288,864,24,null,null,null,null,null,null,"-"]
[null,null,289,867,27,null,null,null,null,null,null,"-"]
[null,null,290,870,30,null,null,null,null,null,null,"-"]
[null,null,291,873,33,null,null,null,null,null,null,"-"]
[null,null,292,876,36,null,null,null,null,null,null,"-"]
[null,null,293,879,39,null,null,null,null,null,null,"-"]
[null,null,294,882,42,null,null,null,null,null,null,"-"]
[null,null,295,885,45,null,null,null,null,null,null,"-"]
[null,null,296,888,48,null,null,null,null,null,null,"-"]
[null,null,297,891,51,null,null,null,null,null,null,"-"]
[null,null,298,894,54,null,null,null,null,null,null,"-"]
[null,null,299,897,57,null,null,null,null,null,null,"-"]
[null,"15分",300,900,60,null,null,null,null,null,null,"-"]
[null,null,301,903,3,null,null,null,null,null,null,"-"]
[null,null,302,906,6,null,null,null,null,null,null,"-"]
[null,null,303,909,9,null,null,null,null,null,null,"-"]
[null,null,304,912,12,null,null,null,null,null,null,"-"]
[null,null,305,915,15,null,null,null,null,null,null,"-"]
[null,null,306,918,18,null,null,null,null,null,null,"-"]
[null,null,307,921,21,null,null,null,null,null,null,"-"]
[null,null,308,924,24,null,null,null,null,null,null,"-"]
[null,null,309,927,27,null,null,null,null,null,null,"-"]
[null,null,310,930,30,null,null,null,null,null,null,"-"]
[null,null,311,933,33,null,null,null,null,null,null,"-"]
[null,null,312,936,36,null,null,null,null,null,null,"-"]
[null,null,313,939,39,null,null,null,null,null,null,"-"]
[null,null,314,942,42,null,null,null,null,null,null,"-"]
[null,null,315,945,45,null,null,null,null,null,null,"-"]
[null,null,316,948,48,null,null,null,null,null,null,"-"]
[null,null,317,951,51,null,null,null,null,null,null,"-"]
[null,null,318,954,54,null,null,null,null,null,null,"-"]
[null,null,319,957,57,null,null,null,null,null,null,"-"]
[null,"16分",320,960,60,null,null,null,null,null,null,"-"]
[null,null,321,963,3,null,null,null,null,null,null,"-"]
["read&read",null,322,966,6,null,null,null,null,null,null,{"$f":"F323&\"-\"&F324","v":"-"}]
[null,null,323,969,9,null,null,null,null,null,null,"-"]
[null,null,324,972,12,null,null,null,null,null,null,"-"]
[null,null,325,{"$f":"C326*3","v":975},15,null,null,null,null,null,null,"-"]
[null,null,326,978,18,null,null,null,null,null,null,"-"]
[null,null,327,981,21,null,null,null,null,null,null,"-"]
[null,null,328,984,24,null,null,null,null,null,null,"-"]
[null,null,329,987,27,null,null,null,null,null,null,"-"]
[null,null,330,990,30,null,null,null,null,null,null,"-"]
[null,null,331,993,33,null,null,null,null,null,null,"-"]
[null,null,332,996,36,null,null,null,null,null,null,"-"]
[null,null,333,999,39,null,null,null,null,null,null,"-"]
[null,"read&write",334,1002,42,null,null,null,null,null,null,"-"]
[null,null,335,1005,45,null,null,null,null,null,null,"-"]
[null,null,336,1008,48,null,null,null,null,null,null,"-"]
[null,null,337,1011,51,null,null,null,null,null,null,"-"]
[null,null,338,1014,54,null,null,null,null,null,null,"-"]
[null,null,339,1017,57,null,null,null,null,null,null,"-"]
[null,"17分",340,1020,60,null,null,null,null,null,null,"-"]
[null,null,341,1023,3,null,null,null,null,null,null,"-"]
[null,null,342,1026,6,null,null,null,null,null,null,"-"]
[null,null,343,1029,9,null,null,null,null,null,null,"-"]
[null,null,344,1032,12,null,null,null,null,null,null,"-"]
[null,null,345,1035,15,null,null,null,null,null,null,"-"]
[null,null,346,1038,18,null,null,null,null,null,null,"-"]
[null,null,347,1041,21,null,null,null,null,null,null,"-"]
[null,null,348,1044,24,null,null,null,null,null,null,"-"]
[null,null,349,1047,27,null,null,null,null,null,null,"-"]
[null,null,350,1050,30,null,null,null,null,null,null,"-"]
[null,null,351,1053,33,null,null,null,null,null,null,"-"]
[null,null,352,1056,36,null,null,null,null,null,null,"-"]
[null,null,353,1059,39,null,null,null,null,null,null,"-"]
[null,null,354,1062,42,null,null,null,null,null,null,"-"]
[null,null,355,1065,45,null,null,null,null,null,null,"-"]
[null,null,356,1068,48,null,null,null,null,null,null,"-"]
[null,null,357,1071,51,null,null,null,null,null,null,"-"]
[null,null,358,1074,54,null,null,null,null,null,null,"-"]
[null,null,359,1077,57,null,null,null,null,null,null,"-"]
[null,"18分",360,1080,60,null,null,null,null,null,null,"-"]
[null,null,361,1083,3,null,null,null,null,null,null,"-"]
[null,null,362,1086,6,null,null,null,null,null,null,"-"]
[null,null,363,1089,9,null,null,null,null,null,null,"-"]
[null,null,364,1092,12,null,null,null,null,null,null,"-"]
[null,null,365,1095,15,null,null,null,null,null,null,"-"]
[null,null,366,1098,18,null,null,null,null,null,null,"-"]
[null,null,367,1101,21,null,null,null,null,null,null,"-"]
[null,null,368,1104,24,null,null,null,null,null,null,"-"]
[null,null,369,1107,27,null,null,null,null,null,null,"-"]
[null,null,370,1110,30,null,null,null,null,null,null,"-"]
[null,null,371,1113,33,null,null,null,null,null,null,"-"]
[null,null,372,1116,36,null,null,null,null,null,null,"-"]
[null,null,373,1119,39,null,null,null,null,null,null,"-"]
[null,"guessgame",374,1122,42,null,null,null,null,null,null,"-"]
[null,null,375,1125,45,null,null,null,null,null,null,"-"]
[null,null,376,1128,48,null,null,null,null,null,null,"-"]
[null,null,377,1131,51,null,null,null,null,null,null,"-"]
[null,null,378,1134,54,null,null,null,null,null,null,"-"]
[null,null,379,1137,57,null,null,null,null,null,null,"-"]
[null,"19分",380,1140,60,null,null,null,null,null,null,"-"]
[null,null,381,1143,3,null,null,null,null,null,null,"-"]
[null,null,382,1146,6,null,null,null,null,null,null,"-"]
[null,null,383,1149,9,null,null,null,null,null,null,"-"]
[null,null,384,1152,12,null,null,null,null,null,null,"-"]
[null,null,385,1155,15,null,null,null,null,null,null,"-"]
[null,null,386,1158,18,null,null,null,null,null,null,{"$f":"F387&\"-\"&F388","v":"-"}]
[null,null,387,1161,21,null,null,null,null,null,null,"-"]
[null,null,388,1164,24,null,null,null,null,null,null,"-"]
[null,null,389,{"$f":"C390*3","v":1167},27,null,null,null,null,null,null,"-"]
[null,null,390,1170,30,null,null,null,null,null,null,"-"]
[null,null,391,1173,33,null,null,null,null,null,null,"-"]
[null,null,392,1176,36,null,null,null,null,null,null,"-"]
[null,null,393,1179,39,null,null,null,null,null,null,"-"]
[null,null,394,1182,42,null,null,null,null,null,null,"-"]
[null,null,395,1185,45,null,null,null,null,null,null,"-"]
[null,null,396,1188,48,null,null,null,null,null,null,"-"]
[null,null,397,1191,51,null,null,null,null,null,null,"-"]
[null,null,398,1194,54,null,null,null,null,null,null,"-"]
[null,null,399,1197,57,null,null,null,null,null,null,"-"]
[null,"20分",400,1200,60,null,null,null,null,null,null,"-"]
[null,null,401,1203,3,null,null,null,null,null,null,"-"]
[null,null,402,1206,6,null,null,null,null,null,null,"-"]
[null,null,403,1209,9,null,null,null,null,null,null,"-"]
[null,null,404,1212,12,null,null,null,null,null,null,"-"]
[null,null,405,1215,15,null,null,null,null,null,null,"-"]
[null,null,406,1218,18,null,null,null,null,null,null,"-"]
[null,null,407,1221,21,null,null,null,null,null,null,"-"]
[null,null,408,1224,24,null,null,null,null,null,null,"-"]
[null,null,409,1227,27,null,null,null,null,null,null,"-"]
[null,null,410,1230,30,null,null,null,null,null,null,"-"]
[null,null,411,1233,33,null,null,null,null,null,null,"-"]
[null,null,412,1236,36,null,null,null,null,null,null,"-"]
[null,null,413,1239,39,null,null,null,null,null,null,"-"]
[null,null,414,1242,42,null,null,null,null,null,null,"-"]
[null,null,415,1245,45,null,null,null,null,null,null,"-"]
[null,null,416,1248,48,null,null,null,null,null,null,"-"]
[null,null,417,1251,51,null,null,null,null,null,null,"-"]
[null,null,418,1254,54,null,null,null,null,null,null,"-"]
[null,null,419,1257,57,null,null,null,null,null,null,"-"]
[null,"21分",420,1260,60,null,null,null,null,null,null,"-"]
[null,null,421,1263,3,null,null,null,null,null,null,"-"]
[null,null,422,1266,6,null,null,null,null,null,null,"-"]
[null,null,423,1269,9,null,null,null,null,null,null,"-"]
[null,null,424,1272,12,null,null,null,null,null,null,"-"]
[null,null,425,1275,15,null,null,null,null,null,null,"-"]
[null,null,426,1278,18,null,null,null,null,null,null,"-"]
[null,null,427,1281,21,null,null,null,null,null,null,"-"]
[null,null,428,1284,24,null,null,null,null,null,null,"-"]
[null,null,429,1287,27,null,null,null,null,null,null,"-"]
[null,null,430,1290,30,null,null,null,null,null,null,"-"]
[null,null,431,1293,33,null,null,null,null,null,null,"-"]
[null,null,432,1296,36,null,null,null,null,null,null,"-"]
[null,null,433,1299,39,null,null,null,null,null,null,"-"]
[null,null,434,1302,42,null,null,null,null,null,null,"-"]
[null,null,435,1305,45,null,null,null,null,null,null,"-"]
[null,null,436,1308,48,null,null,null,null,null,null,"-"]
[null,null,437,1311,51,null,null,null,null,null,null,"-"]
[null,null,438,1314,54,null,null,null,null,null,null,"-"]
[null,null,439,1317,57,null,null,null,null,null,null,"-"]
[null,"22分",440,1320,60,null,null,null,null,null,null,"-"]
[null,null,441,1323,3,null,null,null,null,null,null,"-"]
[null,"pairgame",442,1326,6,null,null,null,null,null,null,"-"]
[null,null,443,1329,9,null,null,null,null,null,null,"-"]
[null,null,444,1332,12,null,null,null,null,null,null,"-"]
[null,null,445,1335,15,null,null,null,null,null,null,"-"]
[null,null,446,1338,18,null,null,null,null,null,null,"-"]
[null,null,447,1341,21,null,null,null,null,null,null,"-"]
[null,null,448,1344,24,null,null,null,null,null,null,"-"]
[null,null,449,1347,27,null,null,null,null,null,null,"-"]
[null,null,450,1350,30,null,null,null,null,null,null,{"$f":"F451&\"-\"&F452","v":"-"}]
[null,null,451,1353,33,null,null,null,null,null,null,"-"]
[null,null,452,1356,36,null,null,null,null,null,null,"-"]
[null,null,453,{"$f":"C454*3","v":1359},39,null,null,null,null,null,null,"-"]
[null,null,454,1362,42,null,null,null,null,null,null,"-"]
[null,null,455,1365,45,null,null,null,null,null,null,"-"]
[null,null,456,1368,48,null,null,null,null,null,null,"-"]
[null,null,457,1371,51,null,null,null,null,null,null,"-"]
[null,null,458,1374,54,null,null,null,null,null,null,"-"]
[null,null,459,1377,57,null,null,null,null,null,null,"-"]
[null,"23分",460,1380,60,null,null,null,null,null,null,"-"]
[null,null,461,1383,3,null,null,null,null,null,null,"-"]
[null,null,462,1386,6,null,null,null,null,null,null,"-"]
[null,null,463,1389,9,null,null,null,null,null,null,"-"]
[null,null,464,1392,12,null,null,null,null,null,null,"-"]
[null,null,465,1395,15,null,null,null,null,null,null,"-"]
[null,null,466,1398,18,null,null,null,null,null,null,"-"]
[null,null,467,1401,21,null,null,null,null,null,null,"-"]
[null,null,468,1404,24,null,null,null,null,null,null,"-"]
[null,null,469,1407,27,null,null,null,null,null,null,"-"]
[null,null,470,1410,30,null,null,null,null,null,null,"-"]
[null,null,471,1413,33,null,null,null,null,null,null,"-"]
[null,null,472,1416,36,null,null,null,null,null,null,"-"]
[null,null,473,1419,39,null,null,null,null,null,null,"-"]
[null,null,474,1422,42,null,null,null,null,null,null,"-"]
[null,null,475,1425,45,null,null,null,null,null,null,"-"]
[null,null,476,1428,48,null,null,null,null,null,null,"-"]
[null,null,477,1431,51,null,null,null,null,null,null,"-"]
[null,null,478,1434,54,null,null,null,null,null,null,"-"]
[null,null,479,1437,57,null,null,null,null,null,null,"-"]
[null,"24分",480,1440,60,null,null,null,null,null,null,"-"]
[null,null,481,1443,3,null,null,null,null,null,null,"-"]
[null,null,482,1446,6,null,null,null,null,null,null,"-"]
[null,null,483,1449,9,null,null,null,null,null,null,"-"]
[null,null,484,1452,12,null,null,null,null,null,null,"-"]
[null,null,485,1455,15,null,null,null,null,null,null,"-"]
[null,null,486,1458,18,null,null,null,null,null,null,"-"]
[null,null,487,1461,21,null,null,null,null,null,null,"-"]
[null,null,488,1464,24,null,null,null,null,null,null,"-"]
[null,null,489,1467,27,null,null,null,null,null,null,"-"]
[null,null,490,1470,30,null,null,null,null,null,null,"-"]
[null,null,491,1473,33,null,null,null,null,null,null,"-"]
[null,"3sentence",492,1476,36,null,null,null,null,null,null,"-"]
[null,null,493,1479,39,null,null,null,null,null,null,"-"]
[null,null,494,1482,42,null,null,null,null,null,null,"-"]
[null,null,495,1485,45,null,null,null,null,null,null,"-"]
[null,null,496,1488,48,null,null,null,null,null,null,"-"]
[null,null,497,1491,51,null,null,null,null,null,null,"-"]
[null,null,498,1494,54,null,null,null,null,null,null,"-"]
[null,null,499,1497,57,null,null,null,null,null,null,"-"]
[null,"25分",500,1500,60,null,null,null,null,null,null,"-"]
[null,null,501,1503,3,null,null,null,null,null,null,"-"]
[null,null,502,1506,6,null,null,null,null,null,null,"-"]
[null,null,503,1509,9,null,null,null,null,null,null,"-"]
[null,null,504,1512,12,null,null,null,null,null,null,"-"]
[null,null,505,1515,15,null,null,null,null,null,null,"-"]
[null,null,506,1518,18,null,null,null,null,null,null,"-"]
[null,null,507,1521,21,null,null,null,null,null,null,"-"]
[null,null,508,1524,24,null,null,null,null,null,null,"-"]
[null,null,509,1527,27,null,null,null,null,null,null,"-"]
[null,null,510,1530,30,null,null,null,null,null,null,"-"]
[null,null,511,1533,33,null,null,null,null,null,null,"-"]
[null,null,512,1536,36,null,null,null,null,null,null,"-"]
[null,null,513,1539,39,null,null,null,null,null,null,"-"]
[null,null,514,1542,42,null,null,null,null,null,null,{"$f":"F515&\"-\"&F516","v":"-"}]
[null,null,515,1545,45,null,null,null,null,null,null,"-"]
[null,null,516,1548,48,null,null,null,null,null,null,"-"]
[null,null,517,{"$f":"C518*3","v":1551},51,null,null,null,null,null,null,"-"]
[null,null,518,1554,54,null,null,null,null,null,null,"-"]
[null,null,519,1557,57,null,null,null,null,null,null,"-"]
[null,"26分",520,1560,60,null,null,null,null,null,null,"-"]
[null,null,521,1563,3,null,null,null,null,null,null,"-"]
[null,null,522,1566,6,null,null,null,null,null,null,"-"]
[null,null,523,1569,9,null,null,null,null,null,null,"-"]
[null,null,524,1572,12,null,null,null,null,null,null,"-"]
[null,null,525,1575,15,null,null,null,null,null,null,"-"]
[null,null,526,1578,18,null,null,null,null,null,null,"-"]
[null,null,527,1581,21,null,null,null,null,null,null,"-"]
[null,null,528,1584,24,null,1,null,null,null,null,"-"]
[null,null,529,1587,27,null,null,null,null,null,null,"-"]
[null,null,530,1590,30,null,null,null,null,null,null,"-"]
[null,null,531,1593,33,null,null,null,null,null,null,"-"]
[null,null,532,1596,36,null,null,null,null,null,null,"-"]
[null,null,533,1599,39,null,null,null,null,null,null,"-"]
[null,null,534,1602,42,null,null,null,null,null,null,"-"]
[null,null,535,1605,45,null,null,null,null,null,null,"-"]
[null,null,536,1608,48,null,null,null,null,null,null,"-"]
[null,null,537,1611,51,null,null,null,null,null,null,"-"]
[null,null,538,1614,54,null,null,null,null,null,null,"-"]
[null,null,539,1617,57,null,null,null,null,null,null,"-"]
[null,"27分",540,1620,60,null,null,null,null,null,null,"-"]
[null,null,541,1623,3,null,null,null,null,null,null,"-"]
[null,null,542,1626,6,null,null,null,null,null,null,"-"]
[null,null,543,1629,9,null,null,null,null,null,null,"-"]
[null,null,544,1632,12,null,null,null,null,null,null,"-"]
[null,null,545,1635,15,null,null,null,null,null,null,"-"]
[null,null,546,1638,18,null,null,null,null,null,null,"-"]
[null,null,547,1641,21,null,null,null,null,null,null,"-"]
[null,null,548,1644,24,null,null,null,null,null,null,"-"]
[null,null,549,1647,27,null,null,null,null,null,null,"-"]
[null,null,550,1650,30,null,null,null,null,null,null,"-"]
[null,null,551,1653,33,null,null,null,null,null,null,"-"]
[null,null,552,1656,36,null,null,null,null,null,null,"-"]
[null,null,553,1659,39,null,null,null,null,null,null,"-"]
[null,null,554,1662,42,null,null,null,null,null,null,"-"]
[null,null,555,1665,45,null,null,null,null,null,null,"-"]
[null,null,556,1668,48,null,null,null,null,null,null,"-"]
[null,null,557,1671,51,null,null,null,null,null,null,"-"]
[null,null,558,1674,54,null,null,null,null,null,null,"-"]
[null,null,559,1677,57,null,null,null,null,null,null,"-"]
[null,"28分",560,1680,60,null,null,null,null,null,null,"-"]
[null,null,561,1683,3,null,null,null,null,null,null,"-"]
[null,null,562,1686,6,null,null,null,null,null,null,"-"]
[null,null,563,1689,9,null,null,null,null,null,null,"-"]
[null,null,564,1692,12,null,null,null,null,null,null,"-"]
[null,null,565,1695,15,null,null,null,null,null,null,"-"]
[null,null,566,1698,18,null,null,null,null,null,null,"-"]
[null,null,567,1701,21,null,null,null,null,null,null,"-"]
[null,null,568,1704,24,null,null,null,null,null,null,"-"]
[null,null,569,1707,27,null,null,null,null,null,null,"-"]
[null,null,570,1710,30,null,null,null,null,null,null,"-"]
[null,null,571,1713,33,null,null,null,null,null,null,"-"]
[null,null,572,1716,36,null,null,null,null,null,null,"-"]
[null,null,573,1719,39,null,null,null,null,null,null,"-"]
[null,null,574,1722,42,null,null,null,null,null,null,"-"]
[null,null,575,1725,45,null,null,null,null,null,null,"-"]
[null,null,576,1728,48,null,null,null,null,null,null,"-"]
[null,null,577,1731,51,null,null,null,null,null,null,"-"]
[null,null,578,1734,54,null,null,null,null,null,null,{"$f":"F579&\"-\"&F580","v":"-"}]
[null,null,579,1737,57,null,null,null,null,null,null,"-"]
[null,"29分",580,1740,60,null,null,null,null,null,null,"-"]
[null,null,581,{"$f":"C582*3","v":1743},3,null,null,null,null,null,null,"-"]
[null,null,582,1746,6,null,null,null,null,null,null,"-"]
[null,null,583,1749,9,null,null,null,null,null,null,"-"]
[null,null,584,1752,12,null,null,null,null,null,null,"-"]
[null,null,585,1755,15,null,null,null,null,null,null,"-"]
[null,null,586,1758,18,null,null,null,null,null,null,"-"]
[null,null,587,1761,21,null,null,null,null,null,null,"-"]
[null,null,588,1764,24,null,null,null,null,null,null,"-"]
[null,null,589,1767,27,null,null,null,null,null,null,"-"]
[null,null,590,1770,30,null,null,null,null,null,null,"-"]
[null,null,591,1773,33,null,null,null,null,null,null,"-"]
[null,null,592,1776,36,null,null,null,null,null,null,"-"]
[null,null,593,1779,39,null,null,null,null,null,null,"-"]
[null,null,594,1782,42,null,null,null,null,null,null,"-"]
[null,null,595,1785,45,null,null,null,null,null,null,"-"]
[null,null,596,1788,48,null,null,null,null,null,null,"-"]
[null,null,597,1791,51,null,null,null,null,null,null,"-"]
[null,null,598,1794,54,null,null,null,null,null,null,"-"]
[null,null,599,1797,57,null,null,null,null,null,null,"-"]
[null,"30分",600,1800,60,null,null,null,null,null,null,"-"]
[null,null,601,1803,3,null,null,null,null,null,null,"-"]
[null,null,602,1806,6,null,null,null,null,null,null,"-"]
[null,null,603,1809,9,null,null,null,null,null,null,"-"]
[null,null,604,1812,12,null,null,null,null,null,null,"-"]
[null,null,605,1815,15,null,null,null,null,null,null,"-"]
[null,null,606,1818,18,null,null,null,null,null,null,"-"]
[null,null,607,1821,21,null,null,null,null,null,null,"-"]
[null,null,608,1824,24,null,null,null,null,null,null,{"$f":"F609&\"-\"&F620","v":"-"}]
[null,null,609,1827,27,null,null,null,null,null,null,"-"]
[null,null,610,1830,30,null,null,null,null,null,null,"-"]
[null,null,611,1833,33,null,null,null,null,null,null,"-"]
[null,null,612,1836,36,null,null,null,null,null,null,"-"]
[null,null,613,1839,39,null,null,null,null,null,null,"-"]
[null,null,614,1842,42,null,null,null,null,null,null,"-"]
[null,null,615,1845,45,null,null,null,null,null,null,"-"]
[null,null,616,1848,48,null,null,null,null,null,null,"-"]
[null,null,617,1851,51,null,null,null,null,null,null,"-"]
[null,null,618,1854,54,null,null,null,null,null,null,"-"]
[null,null,619,1857,57,null,null,null,null,null,null,"-"]
[null,"31分",620,1860,60,null,null,null,null,null,null,"-"]
[null,null,621,1863,3,null,null,null,null,null,null,"-"]
[null,null,622,1866,6,null,null,null,null,null,null,"-"]
[null,null,623,1869,9,null,null,null,null,null,null,"-"]
[null,null,624,1872,12,null,null,null,null,null,null,"-"]
[null,null,625,1875,15,null,null,null,null,null,null,"-"]
[null,null,626,1878,18,null,null,null,null,null,null,"-"]
[null,null,627,1881,21,null,null,null,null,null,null,"-"]
[null,null,628,1884,24,null,null,null,null,null,null,"-"]
[null,null,629,1887,27,null,null,null,null,null,null,"-"]
[null,null,630,1890,30,null,null,null,null,null,null,"-"]
[null,null,631,1893,33,null,null,null,null,null,null,"-"]
[null,null,632,1896,36,null,null,null,null,null,null,"-"]
[null,null,633,1899,39,null,null,null,null,null,null,"-"]
[null,null,634,1902,42,null,null,null,null,null,null,"-"]
[null,null,635,1905,45,null,null,null,null,null,null,"-"]
[null,null,636,1908,48,null,null,null,null,null,null,"-"]
[null,null,637,1911,51,null,null,null,null,null,null,"-"]
[null,null,638,1914,54,null,null,null,null,null,null,"-"]
[null,null,639,1917,57,null,null,null,null,null,null,"-"]
[null,"32分",640,1920,60,null,null,null,null,null,null,"-"]
[null,null,641,1923,3,null,null,null,null,null,null,"-"]
[null,null,642,1926,6,null,null,null,null,null,null,{"$f":"F643&\"-\"&F644","v":"-"}]
[null,null,643,1929,9,null,null,null,null,null,null,"-"]
[null,null,644,1932,12,null,null,null,null,null,null,"-"]
[null,null,645,{"$f":"C646*3","v":1935},15,null,null,null,null,null,null,"-"]
[null,null,646,1938,18,null,null,null,null,null,null,"-"]
[null,null,647,1941,21,null,null,null,null,null,null,"-"]
[null,null,648,1944,24,null,null,null,null,null,null,"-"]
[null,null,649,1947,27,null,null,null,null,null,null,"-"]
[null,null,650,1950,30,null,null,null,null,null,null,"-"]
[null,null,651,1953,33,null,null,null,null,null,null,"-"]
[null,null,652,1956,36,null,null,null,null,null,null,"-"]
[null,null,653,1959,39,null,null,null,null,null,null,"-"]
[null,null,654,1962,42,null,null,null,null,null,null,"-"]
[null,null,655,1965,45,null,null,null,null,null,null,"-"]
[null,null,656,1968,48,null,null,null,null,null,null,"-"]
[null,null,657,1971,51,null,null,null,null,null,null,"-"]
[null,null,658,1974,54,null,null,null,null,null,null,"-"]
[null,null,659,1977,57,null,null,null,null,null,null,"-"]
[null,"33分",660,1980,60,null,null,null,null,null,null,"-"]
[null,null,661,1983,3,null,null,null,null,null,null,"-"]
[null,null,662,1986,6,null,null,null,null,null,null,"-"]
[null,null,663,1989,9,null,null,null,null,null,null,"-"]
[null,null,664,1992,12,null,null,null,null,null,null,"-"]
[null,null,665,1995,15,null,null,null,null,null,null,"-"]
[null,null,666,1998,18,null,null,null,null,null,null,"-"]
[null,null,667,2001,21,null,null,null,null,null,null,"-"]
[null,null,668,2004,24,null,null,null,null,null,null,"-"]
[null,null,669,2007,27,null,null,null,null,null,null,"-"]
[null,null,670,2010,30,null,null,null,null,null,null,"-"]
[null,null,671,2013,33,null,null,null,null,null,null,"-"]
[null,null,672,2016,36,null,null,null,null,null,null,"-"]
[null,null,673,2019,39,null,null,null,null,null,null,"-"]
[null,null,674,2022,42,null,null,null,null,null,null,"-"]
[null,null,675,2025,45,null,null,null,null,null,null,"-"]
[null,null,676,2028,48,null,null,null,null,null,null,"-"]
[null,null,677,2031,51,null,null,null,null,null,null,"-"]
[null,null,678,2034,54,null,null,null,null,null,null,"-"]
[null,null,679,2037,57,null,null,null,null,null,null,"-"]
[null,"34分",680,2040,60,null,null,null,null,null,null,"-"]
[null,null,681,2043,3,null,null,null,null,null,null,"-"]
[null,null,682,2046,6,null,null,null,null,null,null,"-"]
[null,null,683,2049,9,null,null,null,null,null,null,"-"]
[null,null,684,2052,12,null,null,null,null,null,null,"-"]
[null,null,685,2055,15,null,null,null,null,null,null,"-"]
[null,null,686,2058,18,null,null,null,null,null,null,"-"]
[null,null,687,2061,21,null,null,null,null,null,null,"-"]
[null,null,688,2064,24,null,null,null,null,null,null,"-"]
[null,null,689,2067,27,null,null,null,null,null,null,"-"]
[null,null,690,2070,30,null,null,null,null,null,null,"-"]
[null,null,691,2073,33,null,null,null,null,null,null,"-"]
[null,null,692,2076,36,null,null,null,null,null,null,"-"]
[null,null,693,2079,39,null,null,null,null,null,null,"-"]
[null,null,694,2082,42,null,null,null,null,null,null,"-"]
[null,null,695,2085,45,null,null,null,null,null,null,"-"]
[null,null,696,2088,48,null,null,null,null,null,null,"-"]
[null,null,697,2091,51,null,null,null,null,null,null,"-"]
[null,null,698,2094,54,null,null,null,null,null,null,"-"]
[null,null,699,2097,57,null,null,null,null,null,null,"-"]
[null,"35分",700,2100,60,null,null,null,null,null,null,"-"]
[null,null,701,2103,3,null,null,null,null,null,null,"-"]
[null,null,702,2106,6,null,null,null,null,null,null,"-"]
[null,null,703,2109,9,null,null,null,null,null,null,"-"]
[null,null,704,2112,12,null,null,null,null,null,null,"-"]
[null,null,705,2115,15,null,null,null,null,null,null,"-"]
[null,null,706,2118,18,null,null,null,null,null,null,{"$f":"F707&\"-\"&F708","v":"-"}]
[null,null,707,2121,21,null,null,null,null,null,null,"-"]
[null,null,708,2124,24,null,null,null,null,null,null,"-"]
[null,null,709,{"$f":"C710*3","v":2127},27,null,null,null,null,null,null,"-"]
[null,null,710,2130,30,null,null,null,null,null,null,"-"]
[null,null,711,2133,33,null,null,null,null,null,null,"-"]
[null,null,712,2136,36,null,null,null,null,null,null,"-"]
[null,null,713,2139,39,null,null,null,null,null,null,"-"]
[null,null,714,2142,42,null,null,null,null,null,null,"-"]
[null,null,715,2145,45,null,null,null,null,null,null,"-"]
[null,null,716,2148,48,null,null,null,null,null,null,"-"]
[null,null,717,2151,51,null,null,null,null,null,null,"-"]
[null,null,718,2154,54,null,null,null,null,null,null,"-"]
[null,null,719,2157,57,null,null,null,null,null,null,"-"]
[null,"36分",720,2160,60,null,null,null,null,null,null,"-"]
[null,null,721,2163,3,null,null,null,null,null,null,"-"]
[null,null,722,2166,6,null,null,null,null,null,null,"-"]
[null,null,723,2169,9,null,null,null,null,null,null,"-"]
[null,null,724,2172,12,null,null,null,null,null,null,"-"]
[null,null,725,2175,15,null,null,null,null,null,null,"-"]
[null,null,726,2178,18,null,null,null,null,null,null,"-"]
[null,null,727,2181,21,null,null,null,null,null,null,"-"]
[null,null,728,2184,24,null,null,null,null,null,null,"-"]
[null,null,729,2187,27,null,null,null,null,null,null,"-"]
[null,null,730,2190,30,null,null,null,null,null,null,"-"]
[null,null,731,2193,33,null,null,null,null,null,null,"-"]
[null,null,732,2196,36,null,null,null,null,null,null,"-"]
[null,null,733,2199,39,null,null,null,null,null,null,"-"]
[null,null,734,2202,42,null,null,null,null,null,null,"-"]
[null,null,735,2205,45,null,null,null,null,null,null,"-"]
[null,null,736,2208,48,null,null,null,null,null,null,"-"]
[null,null,737,2211,51,null,null,null,null,null,null,"-"]
[null,null,738,2214,54,null,null,null,null,null,null,"-"]
[null,null,739,2217,57,null,null,null,null,null,null,"-"]
[null,"37分",740,2220,60,null,null,null,null,null,null,"-"]
[null,null,741,2223,3,null,null,null,null,null,null,"-"]
[null,null,742,2226,6,null,null,null,null,null,null,"-"]
[null,null,743,2229,9,null,null,null,null,null,null,"-"]
[null,null,744,2232,12,null,null,null,null,null,null,"-"]
[null,null,745,2235,15,null,null,null,null,null,null,"-"]
[null,null,746,2238,18,null,null,null,null,null,null,"-"]
[null,null,747,2241,21,null,null,null,null,null,null,"-"]
[null,null,748,2244,24,null,null,null,null,null,null,"-"]
[null,null,749,2247,27,null,null,null,null,null,null,"-"]
[null,null,750,2250,30,null,null,null,null,null,null,"-"]
[null,null,751,2253,33,null,null,null,null,null,null,"-"]
[null,null,752,2256,36,null,null,null,null,null,null,"-"]
[null,null,753,2259,39,null,null,null,null,null,null,"-"]
[null,null,754,2262,42,null,null,null,null,null,null,"-"]
[null,null,755,2265,45,null,null,null,null,null,null,"-"]
[null,null,756,2268,48,null,null,null,null,null,null,"-"]
[null,null,757,2271,51,null,null,null,null,null,null,"-"]
[null,null,758,2274,54,null,null,null,null,null,null,"-"]
[null,null,759,2277,57,null,null,null,null,null,null,"-"]
[null,"38分",760,2280,60,null,null,null,null,null,null,"-"]
[null,null,761,2283,3,null,null,null,null,null,null,"-"]
[null,null,762,2286,6,null,null,null,null,null,null,"-"]
[null,null,763,2289,9,null,null,null,null,null,null,"-"]
[null,null,764,2292,12,null,null,null,null,null,null,"-"]
[null,null,765,2295,15,null,null,null,null,null,null,"-"]
[null,null,766,2298,18,null,null,null,null,null,null,"-"]
[null,null,767,2301,21,null,null,null,null,null,null,"-"]
[null,null,768,2304,24,null,null,null,null,null,null,"-"]
[null,null,769,2307,27,null,null,null,null,null,null,"-"]
[null,null,770,2310,30,null,null,null,null,null,null,{"$f":"F771&\"-\"&F772","v":"-"}]
[null,null,771,2313,33,null,null,null,null,null,null,"-"]
[null,null,772,2316,36,null,null,null,null,null,null,"-"]
[null,null,773,{"$f":"C774*3","v":2319},39,null,null,null,null,null,null,"-"]
[null,null,774,2322,42,null,null,null,null,null,null,"-"]
[null,null,775,2325,45,null,null,null,null,null,null,"-"]
[null,null,776,2328,48,null,null,null,null,null,null,"-"]
[null,null,777,2331,51,null,null,null,null,null,null,"-"]
[null,null,778,2334,54,null,null,null,null,null,null,"-"]
[null,null,779,2337,57,null,null,null,null,null,null,"-"]
[null,"39分",780,2340,60,null,null,null,null,null,null,"-"]
[null,null,781,2343,3,null,null,null,null,null,null,"-"]
[null,null,782,2346,6,null,null,null,null,null,null,"-"]
[null,null,783,2349,9,null,null,null,null,null,null,"-"]
[null,null,784,2352,12,null,null,null,null,null,null,"-"]
[null,null,785,2355,15,null,null,null,null,null,null,"-"]
[null,null,786,2358,18,null,null,null,null,null,null,"-"]
[null,null,787,2361,21,null,null,null,null,null,null,"-"]
[null,null,788,2364,24,null,null,null,null,null,null,"-"]
[null,null,789,2367,27,null,null,null,null,null,null,"-"]
[null,null,790,2370,30,null,null,null,null,null,null,"-"]
[null,null,791,2373,33,null,null,null,null,null,null,"-"]
[null,null,792,2376,36,null,null,null,null,null,null,"-"]
[null,null,793,2379,39,null,null,null,null,null,null,"-"]
[null,null,794,2382,42,null,null,null,null,null,null,"-"]
[null,null,795,2385,45,null,null,null,null,null,null,"-"]
[null,null,796,2388,48,null,null,null,null,null,null,"-"]
[null,null,797,2391,51,null,null,null,null,null,null,"-"]
[null,null,798,2394,54,null,null,null,null,null,null,"-"]
[null,null,799,2397,57,null,null,null,null,null,null,"-"]
[null,"40分",800,2400,60,null,null,null,null,null,null,"-"]
[null,null,801,2403,3,null,null,null,null,null,null,"-"]
[null,null,802,2406,6,null,null,null,null,null,null,"-"]
[null,null,803,2409,9,null,null,null,null,null,null,"-"]
[null,null,804,2412,12,null,null,null,null,null,null,"-"]
[null,null,805,2415,15,null,null,null,null,null,null,"-"]
[null,null,806,2418,18,null,null,null,null,null,null,"-"]
[null,null,807,2421,21,null,null,null,null,null,null,"-"]
[null,null,808,2424,24,null,null,null,null,null,null,"-"]
[null,null,809,2427,27,null,null,null,null,null,null,"-"]
[null,null,810,2430,30,null,null,null,null,null,null,"-"]
[null,null,811,2433,33,null,null,null,null,null,null,"-"]
[null,null,812,2436,36,null,null,null,null,null,null,"-"]
[null,null,813,2439,39,null,null,null,null,null,null,"-"]
[null,null,814,2442,42,null,null,null,null,null,null,"-"]
[null,null,815,2445,45,null,null,null,null,null,null,"-"]
[null,null,816,2448,48,null,null,null,null,null,null,"-"]
[null,null,817,2451,51,null,null,null,null,null,null,"-"]
[null,null,818,2454,54,null,null,null,null,null,null,"-"]
[null,null,819,2457,57,null,null,null,null,null,null,"-"]
[null,"41分",820,2460,60,null,null,null,null,null,null,"-"]
[null,null,821,2463,3,null,null,null,null,null,null,"-"]
[null,null,822,2466,6,null,null,null,null,null,null,"-"]
[null,null,823,2469,9,null,null,null,null,null,null,"-"]
[null,null,824,2472,12,null,null,null,null,null,null,"-"]
[null,null,825,2475,15,null,null,null,null,null,null,"-"]
[null,null,826,2478,18,null,null,null,null,null,null,"-"]
[null,null,827,2481,21,null,null,null,null,null,null,"-"]
[null,null,828,2484,24,null,null,null,null,null,null,"-"]
[null,null,829,2487,27,null,null,null,null,null,null,"-"]
[null,null,830,2490,30,null,null,null,null,null,null,"-"]
[null,null,831,2493,33,null,null,null,null,null,null,"-"]
[null,null,832,2496,36,null,null,null,null,null,null,"-"]
[null,null,833,2499,39,null,null,null,null,null,null,"-"]
[null,null,834,2502,42,null,null,null,null,null,null,{"$f":"F835&\"-\"&F836","v":"-"}]
[null,null,835,2505,45,null,null,null,null,null,null,"-"]
[null,null,836,2508,48,null,null,null,null,null,null,"-"]
[null,null,837,{"$f":"C838*3","v":2511},51,null,null,null,null,null,null,"-"]
[null,null,838,2514,54,null,null,null,null,null,null,"-"]
[null,null,839,2517,57,null,null,null,null,null,null,"-"]
[null,"42分",840,2520,60,null,null,null,null,null,null,"-"]
[null,null,841,2523,3,null,null,null,null,null,null,"-"]
[null,null,842,2526,6,null,null,null,null,null,null,"-"]
[null,null,843,2529,9,null,null,null,null,null,null,"-"]
[null,null,844,2532,12,null,null,null,null,null,null,"-"]
[null,null,845,2535,15,null,null,null,null,null,null,"-"]
[null,null,846,2538,18,null,null,null,null,null,null,"-"]
[null,null,847,2541,21,null,null,null,null,null,null,"-"]
[null,null,848,2544,24,null,null,null,null,null,null,"-"]
[null,null,849,2547,27,null,null,null,null,null,null,"-"]
[null,null,850,2550,30,null,null,null,null,null,null,"-"]
[null,null,851,2553,33,null,null,null,null,null,null,"-"]
[null,null,852,2556,36,null,null,null,null,null,null,"-"]
[null,null,853,2559,39,null,null,null,null,null,null,"-"]
[null,null,854,2562,42,null,null,null,null,null,null,"-"]
[null,null,855,2565,45,null,null,null,null,null,null,"-"]
[null,null,856,2568,48,null,null,null,null,null,null,"-"]
[null,null,857,2571,51,null,null,null,null,null,null,"-"]
[null,null,858,2574,54,null,null,null,null,null,null,"-"]
[null,null,859,2577,57,null,null,null,null,null,null,"-"]
[null,"43分",860,2580,60,null,null,null,null,null,null,"-"]
[null,null,861,2583,3,null,null,null,null,null,null,"-"]
[null,null,862,2586,6,null,null,null,null,null,null,"-"]
[null,null,863,2589,9,null,null,null,null,null,null,"-"]
[null,null,864,2592,12,null,null,null,null,null,null,"-"]
[null,null,865,2595,15,null,null,null,null,null,null,"-"]
[null,null,866,2598,18,null,null,null,null,null,null,"-"]
[null,null,867,2601,21,null,null,null,null,null,null,"-"]
[null,null,868,2604,24,null,null,null,null,null,null,"-"]
[null,null,869,2607,27,null,null,null,null,null,null,"-"]
[null,null,870,2610,30,null,null,null,null,null,null,"-"]
[null,null,871,2613,33,null,null,null,null,null,null,"-"]
[null,null,872,2616,36,null,null,null,null,null,null,"-"]
[null,null,873,2619,39,null,null,null,null,null,null,"-"]
[null,null,874,2622,42,null,null,null,null,null,null,"-"]
[null,null,875,2625,45,null,null,null,null,null,null,"-"]
[null,null,876,2628,48,null,null,null,null,null,null,"-"]
[null,null,877,2631,51,null,null,null,null,null,null,"-"]
[null,null,878,2634,54,null,null,null,null,null,null,"-"]
[null,null,879,2637,57,null,null,null,null,null,null,"-"]
[null,"44分",880,2640,60,null,null,null,null,null,null,"-"]
[null,null,881,2643,3,null,null,null,null,null,null,"-"]
[null,null,882,2646,6,null,null,null,null,null,null,"-"]
[null,null,883,2649,9,null,null,null,null,null,null,"-"]
[null,null,884,2652,12,null,null,null,null,null,null,"-"]
[null,null,885,2655,15,null,null,null,null,null,null,"-"]
[null,null,886,2658,18,null,null,null,null,null,null,"-"]
[null,null,887,2661,21,null,null,null,null,null,null,"-"]
[null,null,888,2664,24,null,null,null,null,null,null,"-"]
[null,null,889,2667,27,null,null,null,null,null,null,"-"]
[null,null,890,2670,30,null,null,null,null,null,null,"-"]
[null,null,891,2673,33,null,null,null,null,null,null,"-"]
[null,null,892,2676,36,null,null,null,null,null,null,"-"]
[null,null,893,2679,39,null,null,null,null,null,null,"-"]
[null,null,894,2682,42,null,null,null,null,null,null,"-"]
[null,null,895,2685,45,null,null,null,null,null,null,"-"]
[null,null,896,2688,48,null,null,null,null,null,null,"-"]
[null,null,897,2691,51,null,null,null,null,null,null,"-"]
[null,null,898,2694,54,null,null,null,null,null,null,{"$f":"F899&\"-\"&F900","v":"-"}]
[null,null,899,2697,57,null,null,null,null,null,null,"-"]
[null,"45分",900,2700,60,null,null,null,null,null,null,"-"]
[null,null,901,{"$f":"C902*3","v":2703},3,null,null,null,null,null,null,"-"]
[null,null,902,2706,6,null,null,null,null,null,null,"-"]
[null,null,903,2709,9,null,null,null,null,null,null,"-"]
[null,null,904,2712,12,null,null,null,null,null,null,"-"]
[null,null,905,2715,15,null,null,null,null,null,null,"-"]
[null,null,906,2718,18,null,null,null,null,null,null,"-"]
[null,null,907,2721,21,null,null,null,null,null,null,"-"]
[null,null,908,2724,24,null,null,null,null,null,null,"-"]
[null,null,909,2727,27,null,null,null,null,null,null,"-"]
[null,null,910,2730,30,null,null,null,null,null,null,"-"]
[null,null,911,2733,33,null,null,null,null,null,null,"-"]
[null,null,912,2736,36,null,null,null,null,null,null,"-"]
[null,null,913,2739,39,null,null,null,null,null,null,"-"]
[null,null,914,2742,42,null,null,null,null,null,null,"-"]
[null,null,915,2745,45,null,null,null,null,null,null,"-"]
[null,null,916,2748,48,null,null,null,null,null,null,"-"]
[null,null,917,2751,51,null,null,null,null,null,null,"-"]
[null,null,918,2754,54,null,null,null,null,null,null,"-"]
[null,null,919,2757,57,null,null,null,null,null,null,"-"]
[null,"46分",920,2760,60,null,null,null,null,null,null,"-"]
[null,null,921,2763,3,null,null,null,null,null,null,"-"]
[null,null,922,2766,6,null,null,null,null,null,null,"-"]
[null,null,923,2769,9,null,null,null,null,null,null,"-"]
[null,null,924,2772,12,null,null,null,null,null,null,"-"]
[null,null,925,2775,15,null,null,null,null,null,null,"-"]
[null,null,926,2778,18,null,null,null,null,null,null,"-"]
[null,null,927,2781,21,null,null,null,null,null,null,"-"]
[null,null,928,2784,24,null,null,null,null,null,null,"-"]
[null,null,929,2787,27,null,null,null,null,null,null,"-"]
[null,null,930,2790,30,null,null,null,null,null,null,"-"]
[null,null,931,2793,33,null,null,null,null,null,null,"-"]
[null,null,932,2796,36,null,null,null,null,null,null,"-"]
[null,null,933,2799,39,null,null,null,null,null,null,"-"]
[null,null,934,2802,42,null,null,null,null,null,null,"-"]
[null,null,935,2805,45,null,null,null,null,null,null,"-"]
[null,null,936,2808,48,null,null,null,null,null,null,"-"]
[null,null,937,2811,51,null,null,null,null,null,null,"-"]
[null,null,938,2814,54,null,null,null,null,null,null,"-"]
[null,null,939,2817,57,null,null,null,null,null,null,"-"]
[null,"47分",940,2820,60,null,null,null,null,null,null,"-"]
[null,null,941,2823,3,null,null,null,null,null,null,"-"]
[null,null,942,2826,6,null,null,null,null,null,null,"-"]
[null,null,943,2829,9,null,null,null,null,null,null,"-"]
[null,null,944,2832,12,null,null,null,null,null,null,"-"]
[null,null,945,2835,15,null,null,null,null,null,null,"-"]
[null,null,946,2838,18,null,null,null,null,null,null,"-"]
[null,null,947,2841,21,null,null,null,null,null,null,"-"]
[null,null,948,2844,24,null,null,null,null,null,null,"-"]
[null,null,949,2847,27,null,null,null,null,null,null,"-"]
[null,null,950,2850,30,null,null,null,null,null,null,"-"]
[null,null,951,2853,33,null,null,null,null,null,null,"-"]
[null,null,952,2856,36,null,null,null,null,null,null,"-"]
[null,null,953,2859,39,null,null,null,null,null,null,"-"]
[null,null,954,2862,42,null,null,null,null,null,null,"-"]
[null,null,955,2865,45,null,null,null,null,null,null,"-"]
[null,null,956,2868,48,null,null,null,null,null,null,"-"]
[null,null,957,2871,51,null,null,null,null,null,null,"-"]
[null,null,958,2874,54,null,null,null,null,null,null,"-"]
[null,null,959,2877,57,null,null,null,null,null,null,"-"]
[null,"48分",960,2880,60,null,null,null,null,null,null,"-"]
[null,null,961,2883,3,null,null,null,null,null,null,"-"]
[null,null,962,2886,6,null,null,null,null,null,null,{"$f":"F963&\"-\"&F964","v":"-"}]
[null,null,963,2889,9,null,null,null,null,null,null,"-"]
[null,null,964,2892,12,null,null,null,null,null,null,"-"]
[null,null,965,{"$f":"C966*3","v":2895},15,null,null,null,null,null,null,"-"]
[null,null,966,2898,18,null,null,null,null,null,null,"-"]
[null,null,967,2901,21,null,null,null,null,null,null,"-"]
[null,null,968,2904,24,null,null,null,null,null,null,"-"]
[null,null,969,2907,27,null,null,null,null,null,null,"-"]
[null,null,970,2910,30,null,null,null,null,null,null,"-"]
[null,null,971,2913,33,null,null,null,null,null,null,"-"]
[null,null,972,2916,36,null,null,null,null,null,null,"-"]
[null,null,973,2919,39,null,null,null,null,null,null,"-"]
[null,null,974,2922,42,null,null,null,null,null,null,"-"]
[null,null,975,2925,45,null,null,null,null,null,null,"-"]
[null,null,976,2928,48,null,null,null,null,null,null,"-"]
[null,null,977,2931,51,null,null,null,null,null,null,"-"]
[null,null,978,2934,54,null,null,null,null,null,null,"-"]
[null,null,979,2937,57,null,null,null,null,null,null,"-"]
[null,"49分",980,2940,60,null,null,null,null,null,null,"-"]
[null,null,981,2943,3,null,null,null,null,null,null,"-"]
[null,null,982,2946,6,null,null,null,null,null,null,"-"]
[null,null,983,2949,9,null,null,null,null,null,null,"-"]
[null,null,984,2952,12,null,null,null,null,null,null,"-"]
[null,null,985,2955,15,null,null,null,null,null,null,"-"]
[null,null,986,2958,18,null,null,null,null,null,null,"-"]
[null,null,987,2961,21,null,null,null,null,null,null,"-"]
[null,null,988,2964,24,null,null,null,null,null,null,"-"]
[null,null,989,2967,27,null,null,null,null,null,null,"-"]
[null,null,990,2970,30,null,null,null,null,null,null,"-"]
[null,null,991,2973,33,null,null,null,null,null,null,"-"]
[null,null,992,2976,36,null,null,null,null,null,null,"-"]
[null,null,993,2979,39,null,null,null,null,null,null,"-"]
[null,null,994,2982,42,null,null,null,null,null,null,"-"]
[null,null,995,2985,45,null,null,null,null,null,null,"-"]
[null,null,996,2988,48,null,null,null,null,null,null,"-"]
[null,null,997,2991,51,null,null,null,null,null,null,"-"]
[null,null,998,2994,54,null,null,null,null,null,null,"-"]
[null,null,999,2997,57,null,null,null,null,null,null,"-"]
[null,"50分",1000,3000,60]

{"sheet":"分析シート１（粗頻度）","index":1,"n_rows":32,"n_cols":25,"rows_kept":32,"cut":false,"hidden":false,"merged":[[30,0,30,1],[1,2,1,11],[1,12,1,21],[1,0,2,1],[9,0,15,0],[3,0,3,1],[4,0,4,1],[2,2,2,8],[2,9,2,10],[16,0,17,0],[20,0,26,0],[27,0,28,0],[2,12,2,18],[2,19,2,20],[19,0,19,1]]}
["カテゴリー粗頻度",null,null,"（論文表示用）"]
[null,null,"日本語",null,null,null,null,null,null,null,null,null,"英語"]
[null,null,"教師の発言",null,null,null,null,null,null,"生徒の発言",null,"沈黙","教師の発言",null,null,null,null,null,null,"生徒の発言",null,"沈黙"]
["カテゴリー",null,1,2,3,4,5,6,7,8,9,10,11,12,13,14,15,16,17,18,19,20,"計"]
["頻度",null,{"$f":"COUNTIF(入力シート!$F$2:$F$1001,1)","v":0},{"$f":"COUNTIF(入力シート!$F$2:$F$1001,2)","v":0},{"$f":"COUNTIF(入力シート!$F$2:$F$1001,3)","v":0},{"$f":"COUNTIF(入力シート!$F$2:$F$1001,4)","v":0},{"$f":"COUNTIF(入力シート!$F$2:$F$1001,5)","v":0},{"$f":"COUNTIF(入力シート!$F$2:$F$1001,6)","v":0},{"$f":"COUNTIF(入力シート!$F$2:$F$1001,7)","v":0},{"$f":"COUNTIF(入力シート!$F$2:$F$1001,8)","v":0},{"$f":"COUNTIF(入力シート!$F$2:$F$1001,9)","v":0},{"$f":"COUNTIF(入力シート!$F$2:$F$1001,10)","v":0},{"$f":"COUNTIF(入力シート!$F$2:$F$1001,11)","v":0},{"$f":"COUNTIF(入力シート!$F$2:$F$1001,12)","v":0},{"$f":"COUNTIF(入力シート!$F$2:$F$1001,13)","v":0},{"$f":"COUNTIF(入力シート!$F$2:$F$1001,14)","v":0},{"$f":"COUNTIF(入力シート!$F$2:$F$1001,15)","v":0},{"$f":"COUNTIF(入力シート!$F$2:$F$1001,16)","v":0},{"$f":"COUNTIF(入力シート!$F$2:$F$1001,17)","v":0},{"$f":"COUNTIF(入力シート!$F$2:$F$1001,18)","v":0},{"$f":"COUNTIF(入力シート!$F$2:$F$1001,19)","v":0},{"$f":"COUNTIF(入力シート!$F$2:$F$1001,20)","v":0},{"$f":"SUM(C5:V5)","v":0}]
[]
["カテゴリー粗頻度",null,null,"（分析用）"]
[]
[null,"CT","FR","%"]
["教師の発言",1,{"$f":"C5","v":0},{"$f":"C10/$C$32*100","v":{"$error":"#DIV/0!"}},null,null,null,null,null,null,null,null,null,null,null,null,null,null,null,null,null,null,"CT","JP","EN"]
[null,2,{"$f":"D5","v":0},{"$error":"#DIV/0!"},null,null,null,null,null,null,null,null,null,null,null,null,null,null,null,null,null,null,"1(11)",{"$f":"D10","v":{"$error":"#DIV/0!"}},{"$f":"D21","v":{"$error":"#DIV/0!"}}]
[null,3,{"$f":"E5","v":0},{"$error":"#DIV/0!"},null,null,null,null,null,null,null,null,null,null,null,null,null,null,null,null,null,null,"2(12)",{"$f":"D11","v":{"$error":"#DIV/0!"}},{"$error":"#DIV/0!"}]
[null,4,{"$f":"F5","v":0},{"$error":"#DIV/0!"},null,null,null,null,null,null,null,null,null,null,null,null,null,null,null,null,null,null,"3(13)",{"$error":"#DIV/0!"},{"$error":"#DIV/0!"}]
[null,5,{"$f":"G5","v":0},{"$error":"#DIV/0!"},null,null,null,null,null,null,null,null,null,null,null,null,null,null,null,null,null,null,"4(14)",{"$error":"#DIV/0!"},{"$error":"#DIV/0!"}]
[null,6,{"$f":"H5","v":0},{"$error":"#DIV/0!"},null,null,null,null,null,null,null,null,null,null,null,null,null,null,null,null,null,null,"5(15)",{"$error":"#DIV/0!"},{"$error":"#DIV/0!"}]
[null,7,{"$f":"I5","v":0},{"$error":"#DIV/0!"},null,null,null,null,null,null,null,null,null,null,null,null,null,null,null,null,null,null,"6(16)",{"$error":"#DIV/0!"},{"$error":"#DIV/0!"}]
["生徒の発言",8,{"$f":"J5","v":0},{"$error":"#DIV/0!"},null,null,null,null,null,null,null,null,null,null,null,null,null,null,null,null,null,null,"7(17)",{"$error":"#DIV/0!"},{"$error":"#DIV/0!"}]
[null,9,{"$f":"K5","v":0},{"$error":"#DIV/0!"},null,null,null,null,null,null,null,null,null,null,null,null,null,null,null,null,null,null,"8(18)",{"$error":"#DIV/0!"},{"$error":"#DIV/0!"}]
["沈黙",10,{"$f":"L5","v":0},{"$error":"#DIV/0!"},null,null,null,null,null,null,null,null,null,null,null,null,null,null,null,null,null,null,"9(19)",{"$error":"#DIV/0!"},{"$error":"#DIV/0!"}]
["日本語計",null,{"$f":"SUM(C10:C19)","v":0},{"$f":"C20/W5*100","v":{"$error":"#DIV/0!"}},null,null,null,null,null,null,null,null,null,null,null,null,null,null,null,null,null,null,"10(20)",{"$error":"#DIV/0!"},{"$error":"#DIV/0!"}]
["教師の発言",11,{"$f":"M5","v":0},{"$f":"C21/$C$32*100","v":{"$error":"#DIV/0!"}}]
[null,12,{"$f":"N5","v":0},{"$error":"#DIV/0!"}]
[null,13,{"$f":"O5","v":0},{"$error":"#DIV/0!"}]
[null,14,{"$f":"P5","v":0},{"$error":"#DIV/0!"}]
[null,15,{"$f":"Q5","v":0},{"$error":"#DIV/0!"}]
[null,16,{"$f":"R5","v":0},{"$error":"#DIV/0!"}]
[null,17,{"$f":"S5","v":0},{"$error":"#DIV/0!"}]
["生徒の発言",18,{"$f":"T5","v":0},{"$error":"#DIV/0!"}]
[null,19,{"$f":"U5","v":0},{"$error":"#DIV/0!"}]
["沈黙",20,{"$f":"V5","v":0},{"$error":"#DIV/0!"}]
["英語計",null,{"$f":"SUM(C21:C30)","v":0},{"$f":"C31/W5*100","v":{"$error":"#DIV/0!"}}]
[null,"計",{"$f":"SUM(C10:C19,C21:C29)","v":0},{"$f":"C32/$C$32*100","v":{"$error":"#DIV/0!"}}]

{"sheet":"分析シート２（分布図）","index":2,"n_rows":22,"n_cols":45,"rows_kept":22,"cut":false,"hidden":false,"merged":[[1,22,2,23],[1,24,1,33],[1,34,1,43],[2,24,2,30],[2,31,2,32],[2,34,2,40],[2,41,2,42],[7,22,7,23],[8,22,8,23],[9,22,9,23],[9,29,9,31],[3,22,3,23],[4,22,4,23]]}
["カテゴリー分布図"]
[null,1,2,3,4,5,6,7,8,9,10,11,12,13,14,15,16,17,18,19,20,null,null,null,"日本語",null,null,null,null,null,null,null,null,null,"英語"]
[1,{"$f":"COUNTIF(入力シート!$L$2:$L$1000,\"1-1\")","v":0},{"$f":"COUNTIF(入力シート!$L$2:$L$1000,\"1-2\")","v":0},{"$f":"COUNTIF(入力シート!$L$2:$L$1000,\"1-3\")","v":0},{"$f":"COUNTIF(入力シート!$L$2:$L$1000,\"1-4\")","v":0},{"$f":"COUNTIF(入力シート!$L$2:$L$1000,\"1-5\")","v":0},{"$f":"COUNTIF(入力シート!$L$2:$L$1000,\"1-6\")","v":0},{"$f":"COUNTIF(入力シート!$L$2:$L$1000,\"1-7\")","v":0},{"$f":"COUNTIF(入力シート!$L$2:$L$1000,\"1-8\")","v":0},{"$f":"COUNTIF(入力シート!$L$2:$L$1000,\"1-9\")","v":0},{"$f":"COUNTIF(入力シート!$L$2:$L$1000,\"1-10\")","v":0},{"$f":"COUNTIF(入力シート!$L$2:$L$1000,\"1-11\")","v":0},{"$f":"COUNTIF(入力シート!$L$2:$L$1000,\"1-12\")","v":0},{"$f":"COUNTIF(入力シート!$L$2:$L$1000,\"1-13\")","v":0},{"$f":"COUNTIF(入力シート!$L$2:$L$1000,\"1-14\")","v":0},{"$f":"COUNTIF(入力シート!$L$2:$L$1000,\"1-15\")","v":0},{"$f":"COUNTIF(入力シート!$L$2:$L$1000,\"1-16\")","v":0},{"$f":"COUNTIF(入力シート!$L$2:$L$1000,\"1-17\")","v":0},{"$f":"COUNTIF(入力シート!$L$2:$L$1000,\"1-18\")","v":0},{"$f":"COUNTIF(入力シート!$L$2:$L$1000,\"1-19\")","v":0},{"$f":"COUNTIF(入力シート!$L$2:$L$1000,\"1-20\")","v":0},null,null,null,"教師の発言",null,null,null,null,null,null,"生徒の発言",null,"沈黙","教師の発言",null,null,null,null,null,null,"生徒の発言",null,"沈黙"]
[2,{"$f":"COUNTIF(入力シート!$L$2:$L$1000,\"2-1\")","v":0},{"$f":"COUNTIF(入力シート!$L$2:$L$1000,\"2-2\")","v":0},{"$f":"COUNTIF(入力シート!$L$2:$L$1000,\"2-3\")","v":0},{"$f":"COUNTIF(入力シート!$L$2:$L$1000,\"2-4\")","v":0},{"$f":"COUNTIF(入力シート!$L$2:$L$1000,\"2-5\")","v":0},{"$f":"COUNTIF(入力シート!$L$2:$L$1000,\"2-6\")","v":0},{"$f":"COUNTIF(入力シート!$L$2:$L$1000,\"2-7\")","v":0},{"$f":"COUNTIF(入力シート!$L$2:$L$1000,\"2-8\")","v":0},{"$f":"COUNTIF(入力シート!$L$2:$L$1000,\"2-9\")","v":0},{"$f":"COUNTIF(入力シート!$L$2:$L$1000,\"2-10\")","v":0},{"$f":"COUNTIF(入力シート!$L$2:$L$1000,\"2-11\")","v":0},{"$f":"COUNTIF(入力シート!$L$2:$L$1000,\"2-12\")","v":0},{"$f":"COUNTIF(入力シート!$L$2:$L$1000,\"2-13\")","v":0},{"$f":"COUNTIF(入力シート!$L$2:$L$1000,\"2-14\")","v":0},{"$f":"COUNTIF(入力シート!$L$2:$L$1000,\"2-15\")","v":0},{"$f":"COUNTIF(入力シート!$L$2:$L$1000,\"2-16\")","v":0},{"$f":"COUNTIF(入力シート!$L$2:$L$1000,\"2-17\")","v":0},{"$f":"COUNTIF(入力シート!$L$2:$L$1000,\"2-18\")","v":0},{"$f":"COUNTIF(入力シート!$L$2:$L$1000,\"2-19\")","v":0},{"$f":"COUNTIF(入力シート!$L$2:$L$1000,\"2-20\")","v":0},null,"カテゴリー",null,1,2,3,4,5,6,7,8,9,10,11,12,13,14,15,16,17,18,19,20,"計"]
[3,{"$f":"COUNTIF(入力シート!$L$2:$L$1000,\"3-1\")","v":0},{"$f":"COUNTIF(入力シート!$L$2:$L$1000,\"3-2\")","v":0},{"$f":"COUNTIF(入力シート!$L$2:$L$1000,\"3-3\")","v":0},{"$f":"COUNTIF(入力シート!$L$2:$L$1000,\"3-4\")","v":0},{"$f":"COUNTIF(入力シート!$L$2:$L$1000,\"3-5\")","v":0},{"$f":"COUNTIF(入力シート!$L$2:$L$1000,\"3-6\")","v":0},{"$f":"COUNTIF(入力シート!$L$2:$L$1000,\"3-7\")","v":0},{"$f":"COUNTIF(入力シート!$L$2:$L$1000,\"3-8\")","v":0},{"$f":"COUNTIF(入力シート!$L$2:$L$1000,\"3-9\")","v":0},{"$f":"COUNTIF(入力シート!$L$2:$L$1000,\"3-10\")","v":0},{"$f":"COUNTIF(入力シート!$L$2:$L$1000,\"3-11\")","v":0},{"$f":"COUNTIF(入力シート!$L$2:$L$1000,\"3-12\")","v":0},{"$f":"COUNTIF(入力シート!$L$2:$L$1000,\"3-13\")","v":0},{"$f":"COUNTIF(入力シート!$L$2:$L$1000,\"3-14\")","v":0},{"$f":"COUNTIF(入力シート!$L$2:$L$1000,\"3-15\")","v":0},{"$f":"COUNTIF(入力シート!$L$2:$L$1000,\"3-16\")","v":0},{"$f":"COUNTIF(入力シート!$L$2:$L$1000,\"3-17\")","v":0},{"$f":"COUNTIF(入力シート!$L$2:$L$1000,\"3-18\")","v":0},{"$f":"COUNTIF(入力シート!$L$2:$L$1000,\"3-19\")","v":0},{"$f":"COUNTIF(入力シート!$L$2:$L$1000,\"3-20\")","v":0},null,"頻度",null,{"$f":"COUNTIF(入力シート!$F$2:$F$1001,1)","v":0},{"$f":"COUNTIF(入力シート!$F$2:$F$1001,2)","v":0},{"$f":"COUNTIF(入力シート!$F$2:$F$1001,3)","v":0},{"$f":"COUNTIF(入力シート!$F$2:$F$1001,4)","v":0},{"$f":"COUNTIF(入力シート!$F$2:$F$1001,5)","v":0},{"$f":"COUNTIF(入力シート!$F$2:$F$1001,6)","v":0},{"$f":"COUNTIF(入力シート!$F$2:$F$1001,7)","v":0},{"$f":"COUNTIF(入力シート!$F$2:$F$1001,8)","v":0},{"$f":"COUNTIF(入力シート!$F$2:$F$1001,9)","v":0},{"$f":"COUNTIF(入力シート!$F$2:$F$1001,10)","v":0},{"$f":"COUNTIF(入力シート!$F$2:$F$1001,11)","v":0},{"$f":"COUNTIF(入力シート!$F$2:$F$1001,12)","v":0},{"$f":"COUNTIF(入力シート!$F$2:$F$1001,13)","v":0},{"$f":"COUNTIF(入力シート!$F$2:$F$1001,14)","v":0},{"$f":"COUNTIF(入力シート!$F$2:$F$1001,15)","v":0},{"$f":"COUNTIF(入力シート!$F$2:$F$1001,16)","v":0},{"$f":"COUNTIF(入力シート!$F$2:$F$1001,17)","v":0},{"$f":"COUNTIF(入力シート!$F$2:$F$1001,18)","v":0},{"$f":"COUNTIF(入力シート!$F$2:$F$1001,19)","v":0},{"$f":"COUNTIF(入力シート!$F$2:$F$1001,20)","v":0},{"$f":"SUM(Y5:AR5)","v":0}]
[4,{"$f":"COUNTIF(入力シート!$L$2:$L$1000,\"4-1\")","v":0},{"$f":"COUNTIF(入力シート!$L$2:$L$1000,\"4-2\")","v":0},{"$f":"COUNTIF(入力シート!$L$2:$L$1000,\"4-3\")","v":0},{"$f":"COUNTIF(入力シート!$L$2:$L$1000,\"4-4\")","v":0},{"$f":"COUNTIF(入力シート!$L$2:$L$1000,\"4-5\")","v":0},{"$f":"COUNTIF(入力シート!$L$2:$L$1000,\"4-6\")","v":0},{"$f":"COUNTIF(入力シート!$L$2:$L$1000,\"4-7\")","v":0},{"$f":"COUNTIF(入力シート!$L$2:$L$1000,\"4-8\")","v":0},{"$f":"COUNTIF(入力シート!$L$2:$L$1000,\"4-9\")","v":0},{"$f":"COUNTIF(入力シート!$L$2:$L$1000,\"4-10\")","v":0},{"$f":"COUNTIF(入力シート!$L$2:$L$1000,\"4-11\")","v":0},{"$f":"COUNTIF(入力シート!$L$2:$L$1000,\"4-12\")","v":0},{"$f":"COUNTIF(入力シート!$L$2:$L$1000,\"4-13\")","v":0},{"$f":"COUNTIF(入力シート!$L$2:$L$1000,\"4-14\")","v":0},{"$f":"COUNTIF(入力シート!$L$2:$L$1000,\"4-15\")","v":0},{"$f":"COUNTIF(入力シート!$L$2:$L$1000,\"4-16\")","v":0},{"$f":"COUNTIF(入力シート!$L$2:$L$1000,\"4-17\")","v":0},{"$f":"COUNTIF(入力シート!$L$2:$L$1000,\"4-18\")","v":0},{"$f":"COUNTIF(入力シート!$L$2:$L$1000,\"4-19\")","v":0},{"$f":"COUNTIF(入力シート!$L$2:$L$1000,\"4-20\")","v":0}]
[5,{"$f":"COUNTIF(入力シート!$L$2:$L$1000,\"5-1\")","v":0},{"$f":"COUNTIF(入力シート!$L$2:$L$1000,\"5-2\")","v":0},{"$f":"COUNTIF(入力シート!$L$2:$L$1000,\"5-3\")","v":0},{"$f":"COUNTIF(入力シート!$L$2:$L$1000,\"5-4\")","v":0},{"$f":"COUNTIF(入力シート!$L$2:$L$1000,\"5-5\")","v":0},{"$f":"COUNTIF(入力シート!$L$2:$L$1000,\"5-6\")","v":0},{"$f":"COUNTIF(入力シート!$L$2:$L$1000,\"5-7\")","v":0},{"$f":"COUNTIF(入力シート!$L$2:$L$1000,\"5-8\")","v":0},{"$f":"COUNTIF(入力シート!$L$2:$L$1000,\"5-9\")","v":0},{"$f":"COUNTIF(入力シート!$L$2:$L$1000,\"5-10\")","v":0},{"$f":"COUNTIF(入力シート!$L$2:$L$1000,\"5-11\")","v":0},{"$f":"COUNTIF(入力シート!$L$2:$L$1000,\"5-12\")","v":0},{"$f":"COUNTIF(入力シート!$L$2:$L$1000,\"5-13\")","v":0},{"$f":"COUNTIF(入力シート!$L$2:$L$1000,\"5-14\")","v":0},{"$f":"COUNTIF(入力シート!$L$2:$L$1000,\"5-15\")","v":0},{"$f":"COUNTIF(入力シート!$L$2:$L$1000,\"5-16\")","v":0},{"$f":"COUNTIF(入力シート!$L$2:$L$1000,\"5-17\")","v":0},{"$f":"COUNTIF(入力シート!$L$2:$L$1000,\"5-18\")","v":0},{"$f":"COUNTIF(入力シート!$L$2:$L$1000,\"5-19\")","v":0},{"$f":"COUNTIF(入力シート!$L$2:$L$1000,\"5-20\")","v":0},null,null,null,"Total","%","TT","PT","SC","TTR","TQR","PIR","TTR89","TQR89","CCR","SSR","PSSR"]
[6,{"$f":"COUNTIF(入力シート!$L$2:$L$1000,\"6-1\")","v":0},{"$f":"COUNTIF(入力シート!$L$2:$L$1000,\"6-2\")","v":0},{"$f":"COUNTIF(入力シート!$L$2:$L$1000,\"6-3\")","v":0},{"$f":"COUNTIF(入力シート!$L$2:$L$1000,\"6-4\")","v":0},{"$f":"COUNTIF(入力シート!$L$2:$L$1000,\"6-5\")","v":0},{"$f":"COUNTIF(入力シート!$L$2:$L$1000,\"6-6\")","v":0},{"$f":"COUNTIF(入力シート!$L$2:$L$1000,\"6-7\")","v":0},{"$f":"COUNTIF(入力シート!$L$2:$L$1000,\"6-8\")","v":0},{"$f":"COUNTIF(入力シート!$L$2:$L$1000,\"6-9\")","v":0},{"$f":"COUNTIF(入力シート!$L$2:$L$1000,\"6-10\")","v":0},{"$f":"COUNTIF(入力シート!$L$2:$L$1000,\"6-11\")","v":0},{"$f":"COUNTIF(入力シート!$L$2:$L$1000,\"6-12\")","v":0},{"$f":"COUNTIF(入力シート!$L$2:$L$1000,\"6-13\")","v":0},{"$f":"COUNTIF(入力シート!$L$2:$L$1000,\"6-14\")","v":0},{"$f":"COUNTIF(入力シート!$L$2:$L$1000,\"6-15\")","v":0},{"$f":"COUNTIF(入力シート!$L$2:$L$1000,\"6-16\")","v":0},{"$f":"COUNTIF(入力シート!$L$2:$L$1000,\"6-17\")","v":0},{"$f":"COUNTIF(入力シート!$L$2:$L$1000,\"6-18\")","v":0},{"$f":"COUNTIF(入力シート!$L$2:$L$1000,\"6-19\")","v":0},{"$f":"COUNTIF(入力シート!$L$2:$L$1000,\"6-20\")","v":0},null,"日本語",null,{"$f":"SUM(B3:K12)","v":0},{"$f":"Y8*100/SUM($Y$8:$Y$10)","v":{"$error":"#DIV/0!"}},{"$f":"SUM(B3:H9)*100/SUM(B3:K12)","v":{"$error":"#DIV/0!"}},{"$f":"(SUM(B10:J11)+SUM(I3:J9))*100/SUM(B3:K12)","v":{"$error":"#DIV/0!"}},{"$f":"(SUM(B12:K12)+SUM(K3:K11))*100/Y8","v":{"$error":"#DIV/0!"}},{"$f":"SUM(Y5:AA5)*100/(Y5+Z5+AA5+AD5+AE5)","v":{"$error":"#DIV/0!"}},{"$f":"AB5*100/SUM(AB5:AC5)","v":{"$error":"#DIV/0!"}},{"$f":"AG5*100/(AF5+AG5)","v":{"$error":"#DIV/0!"}},{"$f":"SUM(B10:D11)*100/(SUM(B10:D11)+SUM(G10:H11))","v":{"$error":"#DIV/0!"}},{"$f":"(E10+E11)*100/SUM(E10:F11)","v":{"$error":"#DIV/0!"}},{"$f":"(SUM(B6:K7)+SUM(E3:F5)+SUM(E8:F12))*100/Y8","v":{"$error":"#DIV/0!"}},{"$f":"(B3+C4+D5+E6+F7+G8+H9+I10+J11+K12)*100/Y8","v":{"$error":"#DIV/0!"}},{"$f":"(I10+J11)*100/(SUM(B10:K11)+SUM(I3:J9)+SUM(I12:J12))","v":{"$error":"#DIV/0!"}}]
[7,{"$f":"COUNTIF(入力シート!$L$2:$L$1000,\"7-1\")","v":0},{"$f":"COUNTIF(入力シート!$L$2:$L$1000,\"7-2\")","v":0},{"$f":"COUNTIF(入力シート!$L$2:$L$1000,\"7-3\")","v":0},{"$f":"COUNTIF(入力シート!$L$2:$L$1000,\"7-4\")","v":0},{"$f":"COUNTIF(入力シート!$L$2:$L$1000,\"7-5\")","v":0},{"$f":"COUNTIF(入力シート!$L$2:$L$1000,\"7-6\")","v":0},{"$f":"COUNTIF(入力シート!$L$2:$L$1000,\"7-7\")","v":0},{"$f":"COUNTIF(入力シート!$L$2:$L$1000,\"7-8\")","v":0},{"$f":"COUNTIF(入力シート!$L$2:$L$1000,\"7-9\")","v":0},{"$f":"COUNTIF(入力シート!$L$2:$L$1000,\"7-10\")","v":0},{"$f":"COUNTIF(入力シート!$L$2:$L$1000,\"7-11\")","v":0},{"$f":"COUNTIF(入力シート!$L$2:$L$1000,\"7-12\")","v":0},{"$f":"COUNTIF(入力シート!$L$2:$L$1000,\"7-13\")","v":0},{"$f":"COUNTIF(入力シート!$L$2:$L$1000,\"7-14\")","v":0},{"$f":"COUNTIF(入力シート!$L$2:$L$1000,\"7-15\")","v":0},{"$f":"COUNTIF(入力シート!$L$2:$L$1000,\"7-16\")","v":0},{"$f":"COUNTIF(入力シート!$L$2:$L$1000,\"7-17\")","v":0},{"$f":"COUNTIF(入力シート!$L$2:$L$1000,\"7-18\")","v":0},{"$f":"COUNTIF(入力シート!$L$2:$L$1000,\"7-19\")","v":0},{"$f":"COUNTIF(入力シート!$L$2:$L$1000,\"7-20\")","v":0},null,"英語",null,{"$f":"SUM(L13:U22)","v":0},{"$f":"Y9*100/SUM($Y$8:$Y$10)","v":{"$error":"#DIV/0!"}},{"$f":"SUM(L13:R19)*100/SUM(L13:U22)","v":{"$error":"#DIV/0!"}},{"$f":"(SUM(L20:T21)+SUM(S13:T19))*100/Y9","v":{"$error":"#DIV/0!"}},{"$f":"(SUM(L22:U22)+SUM(U13:U21))*100/Y9","v":{"$error":"#DIV/0!"}},{"$f":"SUM(AI5:AK5)*100/(AI5+AJ5+AK5+AN5+AO5)","v":{"$error":"#DIV/0!"}},{"$f":"AL5*100/(AL5+AM5)","v":{"$error":"#DIV/0!"}},{"$f":"AQ5*100/(AP5+AQ5)","v":{"$error":"#DIV/0!"}},{"$f":"SUM(L20:N21)*100/(SUM(L20:N21)+SUM(Q20:R21))","v":{"$error":"#DIV/0!"}},{"$f":"(O20+O21)*100/SUM(O20:P21)","v":{"$error":"#DIV/0!"}},{"$f":"(SUM(L16:U17)+SUM(O13:P15)+SUM(O18:P22))*100/Y9","v":{"$error":"#DIV/0!"}},{"$f":"(L13+M14+N15+O16+P17+Q18+R19+S20+T21+U22)*100/Y9","v":{"$error":"#DIV/0!"}},{"$f":"(S20+T21)*100/(SUM(L20:U21)+SUM(S13:T19)+SUM(S22:T22))","v":{"$error":"#DIV/0!"}}]
[8,{"$f":"COUNTIF(入力シート!$L$2:$L$1000,\"8-1\")","v":0},{"$f":"COUNTIF(入力シート!$L$2:$L$1000,\"8-2\")","v":0},{"$f":"COUNTIF(入力シート!$L$2:$L$1000,\"8-3\")","v":0},{"$f":"COUNTIF(入力シート!$L$2:$L$1000,\"8-4\")","v":0},{"$f":"COUNTIF(入力シート!$L$2:$L$1000,\"8-5\")","v":0},{"$f":"COUNTIF(入力シート!$L$2:$L$1000,\"8-6\")","v":0},{"$f":"COUNTIF(入力シート!$L$2:$L$1000,\"8-7\")","v":0},{"$f":"COUNTIF(入力シート!$L$2:$L$1000,\"8-8\")","v":0},{"$f":"COUNTIF(入力シート!$L$2:$L$1000,\"8-9\")","v":0},{"$f":"COUNTIF(入力シート!$L$2:$L$1000,\"8-10\")","v":0},{"$f":"COUNTIF(入力シート!$L$2:$L$1000,\"8-11\")","v":0},{"$f":"COUNTIF(入力シート!$L$2:$L$1000,\"8-12\")","v":0},{"$f":"COUNTIF(入力シート!$L$2:$L$1000,\"8-13\")","v":0},{"$f":"COUNTIF(入力シート!$L$2:$L$1000,\"8-14\")","v":0},{"$f":"COUNTIF(入力シート!$L$2:$L$1000,\"8-15\")","v":0},{"$f":"COUNTIF(入力シート!$L$2:$L$1000,\"8-16\")","v":0},{"$f":"COUNTIF(入力シート!$L$2:$L$1000,\"8-17\")","v":0},{"$f":"COUNTIF(入力シート!$L$2:$L$1000,\"8-18\")","v":0},{"$f":"COUNTIF(入力シート!$L$2:$L$1000,\"8-19\")","v":0},{"$f":"COUNTIF(入力シート!$L$2:$L$1000,\"8-20\")","v":0},null,"日本語・英語",null,{"$f":"SUM(L3:U12)+SUM(B13:K22)","v":0},{"$f":"Y10*100/SUM($Y$8:$Y$10)","v":{"$error":"#DIV/0!"}},{"$f":"(SUM(L3:R9)+SUM(B13:H19))*100/Y10","v":{"$error":"#DIV/0!"}},{"$f":"(SUM(L10:T11)+SUM(S3:T9)+SUM(B20:J21)+SUM(I13:J19)*100/Y10)","v":{"$error":"#DIV/0!"}},{"$f":"(SUM(L12:U12)+SUM(U3:U11)+SUM(B22:K22)+SUM(K13:K21))*100/Y10","v":{"$error":"#DIV/0!"}},null,null,null,{"$f":"(SUM(L10:N11)+SUM(B20:D21))*100/(SUM(L10:N11)+SUM(Q10:R11)+SUM(B20:D21)+SUM(G20:H21))","v":{"$error":"#DIV/0!"}},{"$f":"(O10+O11+E20+E21)*100/(SUM(O10:P11)+SUM(E20:F21))","v":{"$error":"#DIV/0!"}},{"$f":"(SUM(L6:U7)+SUM(O3:P5)+SUM(O8:P12)+SUM(E13:F22)+SUM(B16:D17)+SUM(G16:K17))*100/Y10","v":{"$error":"#DIV/0!"}},{"$f":"(L3+M4+N5+O6+P7+Q8+R9+S10+T11+U12+B13+C14+D15+E16+F17+G18+H19+I20+J21+K22)*100/Y10","v":{"$error":"#DIV/0!"}},{"$f":"(S10+T11+I20+J21)*100/(SUM(L10:U11)+SUM(S3:T9)+SUM(S12:T12)+SUM(B20:K21)+SUM(I13:J19)+SUM(I22:J22))","v":{"$error":"#DIV/0!"}}]
[9,{"$f":"COUNTIF(入力シート!$L$2:$L$1000,\"9-1\")","v":0},{"$f":"COUNTIF(入力シート!$L$2:$L$1000,\"9-2\")","v":0},{"$f":"COUNTIF(入力シート!$L$2:$L$1000,\"9-3\")","v":0},{"$f":"COUNTIF(入力シート!$L$2:$L$1000,\"9-4\")","v":0},{"$f":"COUNTIF(入力シート!$L$2:$L$1000,\"9-5\")","v":0},{"$f":"COUNTIF(入力シート!$L$2:$L$1000,\"9-6\")","v":0},{"$f":"COUNTIF(入力シート!$L$2:$L$1000,\"9-7\")","v":0},{"$f":"COUNTIF(入力シート!$L$2:$L$1000,\"9-8\")","v":0},{"$f":"COUNTIF(入力シート!$L$2:$L$1000,\"9-9\")","v":0},{"$f":"COUNTIF(入力シート!$L$2:$L$1000,\"9-10\")","v":0},{"$f":"COUNTIF(入力シート!$L$2:$L$1000,\"9-11\")","v":0},{"$f":"COUNTIF(入力シート!$L$2:$L$1000,\"9-12\")","v":0},{"$f":"COUNTIF(入力シート!$L$2:$L$1000,\"9-13\")","v":0},{"$f":"COUNTIF(入力シート!$L$2:$L$1000,\"9-14\")","v":0},{"$f":"COUNTIF(入力シート!$L$2:$L$1000,\"9-15\")","v":0},{"$f":"COUNTIF(入力シート!$L$2:$L$1000,\"9-16\")","v":0},{"$f":"COUNTIF(入力シート!$L$2:$L$1000,\"9-17\")","v":0},{"$f":"COUNTIF(入力シート!$L$2:$L$1000,\"9-18\")","v":0},{"$f":"COUNTIF(入力シート!$L$2:$L$1000,\"9-19\")","v":0},{"$f":"COUNTIF(入力シート!$L$2:$L$1000,\"9-20\")","v":0}]
[10,{"$f":"COUNTIF(入力シート!$L$2:$L$1000,\"10-1\")","v":0},{"$f":"COUNTIF(入力シート!$L$2:$L$1000,\"10-2\")","v":0},{"$f":"COUNTIF(入力シート!$L$2:$L$1000,\"10-3\")","v":0},{"$f":"COUNTIF(入力シート!$L$2:$L$1000,\"10-4\")","v":0},{"$f":"COUNTIF(入力シート!$L$2:$L$1000,\"10-5\")","v":0},{"$f":"COUNTIF(入力シート!$L$2:$L$1000,\"10-6\")","v":0},{"$f":"COUNTIF(入力シート!$L$2:$L$1000,\"10-7\")","v":0},{"$f":"COUNTIF(入力シート!$L$2:$L$1000,\"10-8\")","v":0},{"$f":"COUNTIF(入力シート!$L$2:$L$1000,\"10-9\")","v":0},{"$f":"COUNTIF(入力シート!$L$2:$L$1000,\"10-10\")","v":0},{"$f":"COUNTIF(入力シート!$L$2:$L$1000,\"10-11\")","v":0},{"$f":"COUNTIF(入力シート!$L$2:$L$1000,\"10-12\")","v":0},{"$f":"COUNTIF(入力シート!$L$2:$L$1000,\"10-13\")","v":0},{"$f":"COUNTIF(入力シート!$L$2:$L$1000,\"10-14\")","v":0},{"$f":"COUNTIF(入力シート!$L$2:$L$1000,\"10-15\")","v":0},{"$f":"COUNTIF(入力シート!$L$2:$L$1000,\"10-16\")","v":0},{"$f":"COUNTIF(入力シート!$L$2:$L$1000,\"10-17\")","v":0},{"$f":"COUNTIF(入力シート!$L$2:$L$1000,\"10-18\")","v":0},{"$f":"COUNTIF(入力シート!$L$2:$L$1000,\"10-19\")","v":0},{"$f":"COUNTIF(入力シート!$L$2:$L$1000,\"10-20\")","v":0}]
[11,{"$f":"COUNTIF(入力シート!$L$2:$L$1000,\"11-1\")","v":0},{"$f":"COUNTIF(入力シート!$L$2:$L$1000,\"11-2\")","v":0},{"$f":"COUNTIF(入力シート!$L$2:$L$1000,\"11-3\")","v":0},{"$f":"COUNTIF(入力シート!$L$2:$L$1000,\"11-4\")","v":0},{"$f":"COUNTIF(入力シート!$L$2:$L$1000,\"11-5\")","v":0},{"$f":"COUNTIF(入力シート!$L$2:$L$1000,\"11-6\")","v":0},{"$f":"COUNTIF(入力シート!$L$2:$L$1000,\"11-7\")","v":0},{"$f":"COUNTIF(入力シート!$L$2:$L$1000,\"11-8\")","v":0},{"$f":"COUNTIF(入力シート!$L$2:$L$1000,\"11-9\")","v":0},{"$f":"COUNTIF(入力シート!$L$2:$L$1000,\"11-10\")","v":0},{"$f":"COUNTIF(入力シート!$L$2:$L$1000,\"11-11\")","v":0},{"$f":"COUNTIF(入力シート!$L$2:$L$1000,\"11-12\")","v":0},{"$f":"COUNTIF(入力シート!$L$2:$L$1000,\"11-13\")","v":0},{"$f":"COUNTIF(入力シート!$L$2:$L$1000,\"11-14\")","v":0},{"$f":"COUNTIF(入力シート!$L$2:$L$1000,\"11-15\")","v":0},{"$f":"COUNTIF(入力シート!$L$2:$L$1000,\"11-16\")","v":0},{"$f":"COUNTIF(入力シート!$L$2:$L$1000,\"11-17\")","v":0},{"$f":"COUNTIF(入力シート!$L$2:$L$1000,\"11-18\")","v":0},{"$f":"COUNTIF(入力シート!$L$2:$L$1000,\"11-19\")","v":0},{"$f":"COUNTIF(入力シート!$L$2:$L$1000,\"11-20\")","v":0}]
[12,{"$f":"COUNTIF(入力シート!$L$2:$L$1000,\"12-1\")","v":0},{"$f":"COUNTIF(入力シート!$L$2:$L$1000,\"12-2\")","v":0},{"$f":"COUNTIF(入力シート!$L$2:$L$1000,\"12-3\")","v":0},{"$f":"COUNTIF(入力シート!$L$2:$L$1000,\"12-4\")","v":0},{"$f":"COUNTIF(入力シート!$L$2:$L$1000,\"12-5\")","v":0},{"$f":"COUNTIF(入力シート!$L$2:$L$1000,\"12-6\")","v":0},{"$f":"COUNTIF(入力シート!$L$2:$L$1000,\"12-7\")","v":0},{"$f":"COUNTIF(入力シート!$L$2:$L$1000,\"12-8\")","v":0},{"$f":"COUNTIF(入力シート!$L$2:$L$1000,\"12-9\")","v":0},{"$f":"COUNTIF(入力シート!$L$2:$L$1000,\"12-10\")","v":0},{"$f":"COUNTIF(入力シート!$L$2:$L$1000,\"12-11\")","v":0},{"$f":"COUNTIF(入力シート!$L$2:$L$1000,\"12-12\")","v":0},{"$f":"COUNTIF(入力シート!$L$2:$L$1000,\"12-13\")","v":0},{"$f":"COUNTIF(入力シート!$L$2:$L$1000,\"12-14\")","v":0},{"$f":"COUNTIF(入力シート!$L$2:$L$1000,\"12-15\")","v":0},{"$f":"COUNTIF(入力シート!$L$2:$L$1000,\"12-16\")","v":0},{"$f":"COUNTIF(入力シート!$L$2:$L$1000,\"12-17\")","v":0},{"$f":"COUNTIF(入力シート!$L$2:$L$1000,\"12-18\")","v":0},{"$f":"COUNTIF(入力シート!$L$2:$L$1000,\"12-19\")","v":0},{"$f":"COUNTIF(入力シート!$L$2:$L$1000,\"12-20\")","v":0}]
[13,{"$f":"COUNTIF(入力シート!$L$2:$L$1000,\"13-1\")","v":0},{"$f":"COUNTIF(入力シート!$L$2:$L$1000,\"13-2\")","v":0},{"$f":"COUNTIF(入力シート!$L$2:$L$1000,\"13-3\")","v":0},{"$f":"COUNTIF(入力シート!$L$2:$L$1000,\"13-4\")","v":0},{"$f":"COUNTIF(入力シート!$L$2:$L$1000,\"13-5\")","v":0},{"$f":"COUNTIF(入力シート!$L$2:$L$1000,\"13-6\")","v":0},{"$f":"COUNTIF(入力シート!$L$2:$L$1000,\"13-7\")","v":0},{"$f":"COUNTIF(入力シート!$L$2:$L$1000,\"13-8\")","v":0},{"$f":"COUNTIF(入力シート!$L$2:$L$1000,\"13-9\")","v":0},{"$f":"COUNTIF(入力シート!$L$2:$L$1000,\"13-10\")","v":0},{"$f":"COUNTIF(入力シート!$L$2:$L$1000,\"13-11\")","v":0},{"$f":"COUNTIF(入力シート!$L$2:$L$1000,\"13-12\")","v":0},{"$f":"COUNTIF(入力シート!$L$2:$L$1000,\"13-13\")","v":0},{"$f":"COUNTIF(入力シート!$L$2:$L$1000,\"13-14\")","v":0},{"$f":"COUNTIF(入力シート!$L$2:$L$1000,\"13-15\")","v":0},{"$f":"COUNTIF(入力シート!$L$2:$L$1000,\"13-16\")","v":0},{"$f":"COUNTIF(入力シート!$L$2:$L$1000,\"13-17\")","v":0},{"$f":"COUNTIF(入力シート!$L$2:$L$1000,\"13-18\")","v":0},{"$f":"COUNTIF(入力シート!$L$2:$L$1000,\"13-19\")","v":0},{"$f":"COUNTIF(入力シート!$L$2:$L$1000,\"13-20\")","v":0}]
[14,{"$f":"COUNTIF(入力シート!$L$2:$L$1000,\"14-1\")","v":0},{"$f":"COUNTIF(入力シート!$L$2:$L$1000,\"14-2\")","v":0},{"$f":"COUNTIF(入力シート!$L$2:$L$1000,\"14-3\")","v":0},{"$f":"COUNTIF(入力シート!$L$2:$L$1000,\"14-4\")","v":0},{"$f":"COUNTIF(入力シート!$L$2:$L$1000,\"14-5\")","v":0},{"$f":"COUNTIF(入力シート!$L$2:$L$1000,\"14-6\")","v":0},{"$f":"COUNTIF(入力シート!$L$2:$L$1000,\"14-7\")","v":0},{"$f":"COUNTIF(入力シート!$L$2:$L$1000,\"14-8\")","v":0},{"$f":"COUNTIF(入力シート!$L$2:$L$1000,\"14-9\")","v":0},{"$f":"COUNTIF(入力シート!$L$2:$L$1000,\"14-10\")","v":0},{"$f":"COUNTIF(入力シート!$L$2:$L$1000,\"14-11\")","v":0},{"$f":"COUNTIF(入力シート!$L$2:$L$1000,\"14-12\")","v":0},{"$f":"COUNTIF(入力シート!$L$2:$L$1000,\"14-13\")","v":0},{"$f":"COUNTIF(入力シート!$L$2:$L$1000,\"14-14\")","v":0},{"$f":"COUNTIF(入力シート!$L$2:$L$1000,\"14-15\")","v":0},{"$f":"COUNTIF(入力シート!$L$2:$L$1000,\"14-16\")","v":0},{"$f":"COUNTIF(入力シート!$L$2:$L$1000,\"14-17\")","v":0},{"$f":"COUNTIF(入力シート!$L$2:$L$1000,\"14-18\")","v":0},{"$f":"COUNTIF(入力シート!$L$2:$L$1000,\"14-19\")","v":0},{"$f":"COUNTIF(入力シート!$L$2:$L$1000,\"14-20\")","v":0}]
[15,{"$f":"COUNTIF(入力シート!$L$2:$L$1000,\"15-1\")","v":0},{"$f":"COUNTIF(入力シート!$L$2:$L$1000,\"15-2\")","v":0},{"$f":"COUNTIF(入力シート!$L$2:$L$1000,\"15-3\")","v":0},{"$f":"COUNTIF(入力シート!$L$2:$L$1000,\"15-4\")","v":0},{"$f":"COUNTIF(入力シート!$L$2:$L$1000,\"15-5\")","v":0},{"$f":"COUNTIF(入力シート!$L$2:$L$1000,\"15-6\")","v":0},{"$f":"COUNTIF(入力シート!$L$2:$L$1000,\"15-7\")","v":0},{"$f":"COUNTIF(入力シート!$L$2:$L$1000,\"15-8\")","v":0},{"$f":"COUNTIF(入力シート!$L$2:$L$1000,\"15-9\")","v":0},{"$f":"COUNTIF(入力シート!$L$2:$L$1000,\"15-10\")","v":0},{"$f":"COUNTIF(入力シート!$L$2:$L$1000,\"15-11\")","v":0},{"$f":"COUNTIF(入力シート!$L$2:$L$1000,\"15-12\")","v":0},{"$f":"COUNTIF(入力シート!$L$2:$L$1000,\"15-13\")","v":0},{"$f":"COUNTIF(入力シート!$L$2:$L$1000,\"15-14\")","v":0},{"$f":"COUNTIF(入力シート!$L$2:$L$1000,\"15-15\")","v":0},{"$f":"COUNTIF(入力シート!$L$2:$L$1000,\"15-16\")","v":0},{"$f":"COUNTIF(入力シート!$L$2:$L$1000,\"15-17\")","v":0},{"$f":"COUNTIF(入力シート!$L$2:$L$1000,\"15-18\")","v":0},{"$f":"COUNTIF(入力シート!$L$2:$L$1000,\"15-19\")","v":0},{"$f":"COUNTIF(入力シート!$L$2:$L$1000,\"15-20\")","v":0}]
[16,{"$f":"COUNTIF(入力シート!$L$2:$L$1000,\"16-1\")","v":0},{"$f":"COUNTIF(入力シート!$L$2:$L$1000,\"16-2\")","v":0},{"$f":"COUNTIF(入力シート!$L$2:$L$1000,\"16-3\")","v":0},{"$f":"COUNTIF(入力シート!$L$2:$L$1000,\"16-4\")","v":0},{"$f":"COUNTIF(入力シート!$L$2:$L$1000,\"16-5\")","v":0},{"$f":"COUNTIF(入力シート!$L$2:$L$1000,\"16-6\")","v":0},{"$f":"COUNTIF(入力シート!$L$2:$L$1000,\"16-7\")","v":0},{"$f":"COUNTIF(入力シート!$L$2:$L$1000,\"16-8\")","v":0},{"$f":"COUNTIF(入力シート!$L$2:$L$1000,\"16-9\")","v":0},{"$f":"COUNTIF(入力シート!$L$2:$L$1000,\"16-10\")","v":0},{"$f":"COUNTIF(入力シート!$L$2:$L$1000,\"16-11\")","v":0},{"$f":"COUNTIF(入力シート!$L$2:$L$1000,\"16-12\")","v":0},{"$f":"COUNTIF(入力シート!$L$2:$L$1000,\"16-13\")","v":0},{"$f":"COUNTIF(入力シート!$L$2:$L$1000,\"16-14\")","v":0},{"$f":"COUNTIF(入力シート!$L$2:$L$1000,\"16-15\")","v":0},{"$f":"COUNTIF(入力シート!$L$2:$L$1000,\"16-16\")","v":0},{"$f":"COUNTIF(入力シート!$L$2:$L$1000,\"16-17\")","v":0},{"$f":"COUNTIF(入力シート!$L$2:$L$1000,\"16-18\")","v":0},{"$f":"COUNTIF(入力シート!$L$2:$L$1000,\"16-19\")","v":0},{"$f":"COUNTIF(入力シート!$L$2:$L$1000,\"16-20\")","v":0}]
[17,{"$f":"COUNTIF(入力シート!$L$2:$L$1000,\"17-1\")","v":0},{"$f":"COUNTIF(入力シート!$L$2:$L$1000,\"17-2\")","v":0},{"$f":"COUNTIF(入力シート!$L$2:$L$1000,\"17-3\")","v":0},{"$f":"COUNTIF(入力シート!$L$2:$L$1000,\"17-4\")","v":0},{"$f":"COUNTIF(入力シート!$L$2:$L$1000,\"17-5\")","v":0},{"$f":"COUNTIF(入力シート!$L$2:$L$1000,\"17-6\")","v":0},{"$f":"COUNTIF(入力シート!$L$2:$L$1000,\"17-7\")","v":0},{"$f":"COUNTIF(入力シート!$L$2:$L$1000,\"17-8\")","v":0},{"$f":"COUNTIF(入力シート!$L$2:$L$1000,\"17-9\")","v":0},{"$f":"COUNTIF(入力シート!$L$2:$L$1000,\"17-10\")","v":0},{"$f":"COUNTIF(入力シート!$L$2:$L$1000,\"17-11\")","v":0},{"$f":"COUNTIF(入力シート!$L$2:$L$1000,\"17-12\")","v":0},{"$f":"COUNTIF(入力シート!$L$2:$L$1000,\"17-13\")","v":0},{"$f":"COUNTIF(入力シート!$L$2:$L$1000,\"17-14\")","v":0},{"$f":"COUNTIF(入力シート!$L$2:$L$1000,\"17-15\")","v":0},{"$f":"COUNTIF(入力シート!$L$2:$L$1000,\"17-16\")","v":0},{"$f":"COUNTIF(入力シート!$L$2:$L$1000,\"17-17\")","v":0},{"$f":"COUNTIF(入力シート!$L$2:$L$1000,\"17-18\")","v":0},{"$f":"COUNTIF(入力シート!$L$2:$L$1000,\"17-19\")","v":0},{"$f":"COUNTIF(入力シート!$L$2:$L$1000,\"17-20\")","v":0}]
[18,{"$f":"COUNTIF(入力シート!$L$2:$L$1000,\"18-1\")","v":0},{"$f":"COUNTIF(入力シート!$L$2:$L$1000,\"18-2\")","v":0},{"$f":"COUNTIF(入力シート!$L$2:$L$1000,\"18-3\")","v":0},{"$f":"COUNTIF(入力シート!$L$2:$L$1000,\"18-4\")","v":0},{"$f":"COUNTIF(入力シート!$L$2:$L$1000,\"18-5\")","v":0},{"$f":"COUNTIF(入力シート!$L$2:$L$1000,\"18-6\")","v":0},{"$f":"COUNTIF(入力シート!$L$2:$L$1000,\"18-7\")","v":0},{"$f":"COUNTIF(入力シート!$L$2:$L$1000,\"18-8\")","v":0},{"$f":"COUNTIF(入力シート!$L$2:$L$1000,\"18-9\")","v":0},{"$f":"COUNTIF(入力シート!$L$2:$L$1000,\"18-10\")","v":0},{"$f":"COUNTIF(入力シート!$L$2:$L$1000,\"18-11\")","v":0},{"$f":"COUNTIF(入力シート!$L$2:$L$1000,\"18-12\")","v":0},{"$f":"COUNTIF(入力シート!$L$2:$L$1000,\"18-13\")","v":0},{"$f":"COUNTIF(入力シート!$L$2:$L$1000,\"18-14\")","v":0},{"$f":"COUNTIF(入力シート!$L$2:$L$1000,\"18-15\")","v":0},{"$f":"COUNTIF(入力シート!$L$2:$L$1000,\"18-16\")","v":0},{"$f":"COUNTIF(入力シート!$L$2:$L$1000,\"18-17\")","v":0},{"$f":"COUNTIF(入力シート!$L$2:$L$1000,\"18-18\")","v":0},{"$f":"COUNTIF(入力シート!$L$2:$L$1000,\"18-19\")","v":0},{"$f":"COUNTIF(入力シート!$L$2:$L$1000,\"18-20\")","v":0}]
[19,{"$f":"COUNTIF(入力シート!$L$2:$L$1000,\"19-1\")","v":0},{"$f":"COUNTIF(入力シート!$L$2:$L$1000,\"19-2\")","v":0},{"$f":"COUNTIF(入力シート!$L$2:$L$1000,\"19-3\")","v":0},{"$f":"COUNTIF(入力シート!$L$2:$L$1000,\"19-4\")","v":0},{"$f":"COUNTIF(入力シート!$L$2:$L$1000,\"19-5\")","v":0},{"$f":"COUNTIF(入力シート!$L$2:$L$1000,\"19-6\")","v":0},{"$f":"COUNTIF(入力シート!$L$2:$L$1000,\"19-7\")","v":0},{"$f":"COUNTIF(入力シート!$L$2:$L$1000,\"19-8\")","v":0},{"$f":"COUNTIF(入力シート!$L$2:$L$1000,\"19-9\")","v":0},{"$f":"COUNTIF(入力シート!$L$2:$L$1000,\"19-10\")","v":0},{"$f":"COUNTIF(入力シート!$L$2:$L$1000,\"19-11\")","v":0},{"$f":"COUNTIF(入力シート!$L$2:$L$1000,\"19-12\")","v":0},{"$f":"COUNTIF(入力シート!$L$2:$L$1000,\"19-13\")","v":0},{"$f":"COUNTIF(入力シート!$L$2:$L$1000,\"19-14\")","v":0},{"$f":"COUNTIF(入力シート!$L$2:$L$1000,\"19-15\")","v":0},{"$f":"COUNTIF(入力シート!$L$2:$L$1000,\"19-16\")","v":0},{"$f":"COUNTIF(入力シート!$L$2:$L$1000,\"19-17\")","v":0},{"$f":"COUNTIF(入力シート!$L$2:$L$1000,\"19-18\")","v":0},{"$f":"COUNTIF(入力シート!$L$2:$L$1000,\"19-19\")","v":0},{"$f":"COUNTIF(入力シート!$L$2:$L$1000,\"19-20\")","v":0}]
[20,{"$f":"COUNTIF(入力シート!$L$2:$L$1000,\"20-1\")","v":0},{"$f":"COUNTIF(入力シート!$L$2:$L$1000,\"20-2\")","v":0},{"$f":"COUNTIF(入力シート!$L$2:$L$1000,\"20-3\")","v":0},{"$f":"COUNTIF(入力シート!$L$2:$L$1000,\"20-4\")","v":0},{"$f":"COUNTIF(入力シート!$L$2:$L$1000,\"20-5\")","v":0},{"$f":"COUNTIF(入力シート!$L$2:$L$1000,\"20-6\")","v":0},{"$f":"COUNTIF(入力シート!$L$2:$L$1000,\"20-7\")","v":0},{"$f":"COUNTIF(入力シート!$L$2:$L$1000,\"20-8\")","v":0},{"$f":"COUNTIF(入力シート!$L$2:$L$1000,\"20-9\")","v":0},{"$f":"COUNTIF(入力シート!$L$2:$L$1000,\"20-10\")","v":0},{"$f":"COUNTIF(入力シート!$L$2:$L$1000,\"20-11\")","v":0},{"$f":"COUNTIF(入力シート!$L$2:$L$1000,\"20-12\")","v":0},{"$f":"COUNTIF(入力シート!$L$2:$L$1000,\"20-13\")","v":0},{"$f":"COUNTIF(入力シート!$L$2:$L$1000,\"20-14\")","v":0},{"$f":"COUNTIF(入力シート!$L$2:$L$1000,\"20-15\")","v":0},{"$f":"COUNTIF(入力シート!$L$2:$L$1000,\"20-16\")","v":0},{"$f":"COUNTIF(入力シート!$L$2:$L$1000,\"20-17\")","v":0},{"$f":"COUNTIF(入力シート!$L$2:$L$1000,\"20-18\")","v":0},{"$f":"COUNTIF(入力シート!$L$2:$L$1000,\"20-19\")","v":0},{"$f":"COUNTIF(入力シート!$L$2:$L$1000,\"20-20\")","v":0}]

{"sheet":"分析シート４（時系列）","index":3,"n_rows":1,"n_cols":1,"rows_kept":1,"cut":false,"hidden":false,"merged":[]}
["カテゴリー連鎖頻度"]

{"sheet":"分析シート３（連鎖頻度）","index":4,"n_rows":403,"n_cols":111,"rows_kept":403,"cut":false,"hidden":false,"merged":[[1,3,1,4]]}
[]
[]
[null,null,null,null,null,null,null,null,"頻度","ＩＣ","ＷＨ",null,null,null,"頻度","ランク",null,null,null,"頻度","ランク",null,null,null,"頻度","ランク",null,null,null,"頻度","ランク",null,null,null,"頻度","ランク",null,null,null,"頻度","ランク",null,null,null,"頻度","ランク",null,null,null,"頻度","ランク",null,null,null,"頻度","ランク",null,null,null,"頻度","ランク",null,null,null,"頻度","ランク",null,null,null,"頻度","ランク",null,null,null,"頻度","ランク",null,null,null,"頻度","ランク",null,null,null,"頻度","ランク",null,null,null,"頻度","ランク",null,null,null,"頻度","ランク",null,null,null,"頻度","ランク",null,null,null,"頻度","ランク",null,null,null,"頻度","ランク"]
[1,1,{"$f":"COUNTIF(入力シート!$L$2:$L$1000,\"1-1\")","v":0},{"$f":"RANK(C4,$C$4:$C$23)","v":1},{"$f":"RANK(C4,$C$4:$C$403)","v":1},null,18,18,{"$f":"COUNTIF(入力シート!$L$2:$L$1000,\"18-18\")","v":0},{"$f":"RANK(I4,$C$344:$C$363)","v":1},{"$f":"RANK(I4,$C$4:$C$403)","v":1},null,1,16,{"$f":"COUNTIF(入力シート!$L$2:$L$1000,\"1-16\")","v":0},{"$f":"RANK(O4,$C$4:$C$23)","v":1},null,2,15,{"$f":"COUNTIF(入力シート!$L$2:$L$1000,\"2-15\")","v":0},{"$f":"RANK(T4,$C$24:$C$43)","v":1},null,3,15,{"$f":"COUNTIF(入力シート!$L$2:$L$1000,\"3-15\")","v":0},{"$f":"RANK(Y4,$C$44:$C$63)","v":1},null,4,10,{"$f":"COUNTIF(入力シート!$L$2:$L$1000,\"4-10\")","v":0},{"$f":"RANK(AD4,$C$64:$C$83)","v":1},null,5,5,{"$f":"COUNTIF(入力シート!$L$2:$L$1000,\"5-5\")","v":0},{"$f":"RANK(AI4,$C$84:$C$103)","v":1},null,6,15,{"$f":"COUNTIF(入力シート!$L$2:$L$1000,\"6-15\")","v":0},{"$f":"RANK(AN4,$C$104:$C$123)","v":1},null,7,1,{"$f":"COUNTIF(入力シート!$L$2:$L$1000,\"7-1\")","v":0},{"$f":"RANK(AS4,$C$124:$C$143)","v":1},null,8,10,{"$f":"COUNTIF(入力シート!$L$2:$L$1000,\"8-10\")","v":0},{"$f":"RANK(AX4,$C$144:$C$163)","v":1},null,9,1,{"$f":"COUNTIF(入力シート!$L$2:$L$1000,\"9-1\")","v":0},{"$f":"RANK(BC4,$C$164:$C$183)","v":1},null,10,10,{"$f":"COUNTIF(入力シート!$L$2:$L$1000,\"10-10\")","v":0},{"$f":"RANK(BH4,$C$184:$C$203)","v":1},null,11,12,{"$f":"COUNTIF(入力シート!$L$2:$L$1000,\"11-12\")","v":0},{"$f":"RANK(BM4,$C$204:$C$223)","v":1},null,12,18,{"$f":"COUNTIF(入力シート!$L$2:$L$1000,\"12-18\")","v":0},{"$f":"RANK(BR4,$C$224:$C$243)","v":1},null,13,10,{"$f":"COUNTIF(入力シート!$L$2:$L$1000,\"13-10\")","v":0},{"$f":"RANK(BW4,$C$244:$C$263)","v":1},null,14,12,{"$f":"COUNTIF(入力シート!$L$2:$L$1000,\"14-12\")","v":0},{"$f":"RANK(CB4,$C$264:$C$283)","v":1},null,15,15,{"$f":"COUNTIF(入力シート!$L$2:$L$1000,\"15-15\")","v":0},{"$f":"RANK(CG4,$C$284:$C$303)","v":1},null,16,16,{"$f":"COUNTIF(入力シート!$L$2:$L$1000,\"16-16\")","v":0},{"$f":"RANK(CL4,$C$304:$C$323)","v":1},null,17,10,{"$f":"COUNTIF(入力シート!$L$2:$L$1000,\"17-10\")","v":0},{"$f":"RANK(CQ4,$C$324:$C$343)","v":1},null,18,18,{"$f":"COUNTIF(入力シート!$L$2:$L$1000,\"18-18\")","v":0},{"$f":"RANK(CV4,$C$344:$C$363)","v":1},null,19,19,{"$f":"COUNTIF(入力シート!$L$2:$L$1000,\"19-19\")","v":0},{"$f":"RANK(DA4,$C$364:$C$383)","v":1},null,20,1,{"$f":"COUNTIF(入力シート!$L$2:$L$1000,\"20-1\")","v":0},{"$f":"RANK(DF4,$C$384:$C$403)","v":1}]
[1,2,{"$f":"COUNTIF(入力シート!$L$2:$L$1000,\"1-2\")","v":0},{"$f":"RANK(C5,$C$4:$C$23)","v":1},{"$f":"RANK(C5,$C$4:$C$403)","v":1},null,19,19,{"$f":"COUNTIF(入力シート!$L$2:$L$1000,\"19-19\")","v":0},{"$f":"RANK(I5,$C$364:$C$383)","v":1},1,null,1,18,{"$f":"COUNTIF(入力シート!$L$2:$L$1000,\"1-18\")","v":0},1,null,2,1,{"$f":"COUNTIF(入力シート!$L$2:$L$1000,\"2-1\")","v":0},1,null,3,18,{"$f":"COUNTIF(入力シート!$L$2:$L$1000,\"3-18\")","v":0},1,null,4,1,{"$f":"COUNTIF(入力シート!$L$2:$L$1000,\"4-1\")","v":0},1,null,5,4,{"$f":"COUNTIF(入力シート!$L$2:$L$1000,\"5-4\")","v":0},1,null,6,1,{"$f":"COUNTIF(入力シート!$L$2:$L$1000,\"6-1\")","v":0},1,null,7,2,{"$f":"COUNTIF(入力シート!$L$2:$L$1000,\"7-2\")","v":0},1,null,8,8,{"$f":"COUNTIF(入力シート!$L$2:$L$1000,\"8-8\")","v":0},1,null,9,2,{"$f":"COUNTIF(入力シート!$L$2:$L$1000,\"9-2\")","v":0},1,null,10,19,{"$f":"COUNTIF(入力シート!$L$2:$L$1000,\"10-19\")","v":0},1,null,11,14,{"$f":"COUNTIF(入力シート!$L$2:$L$1000,\"11-14\")","v":0},1,null,12,14,{"$f":"COUNTIF(入力シート!$L$2:$L$1000,\"12-14\")","v":0},1,null,13,14,{"$f":"COUNTIF(入力シート!$L$2:$L$1000,\"13-14\")","v":0},1,null,14,14,{"$f":"COUNTIF(入力シート!$L$2:$L$1000,\"14-14\")","v":0},1,null,15,18,{"$f":"COUNTIF(入力シート!$L$2:$L$1000,\"15-18\")","v":0},1,null,16,18,{"$f":"COUNTIF(入力シート!$L$2:$L$1000,\"16-18\")","v":0},1,null,17,18,{"$f":"COUNTIF(入力シート!$L$2:$L$1000,\"17-18\")","v":0},1,null,18,16,{"$f":"COUNTIF(入力シート!$L$2:$L$1000,\"18-16\")","v":0},1,null,19,10,{"$f":"COUNTIF(入力シート!$L$2:$L$1000,\"19-10\")","v":0},1,null,20,2,{"$f":"COUNTIF(入力シート!$L$2:$L$1000,\"20-2\")","v":0},1]
[1,3,{"$f":"COUNTIF(入力シート!$L$2:$L$1000,\"1-3\")","v":0},1,1,null,10,10,{"$f":"COUNTIF(入力シート!$L$2:$L$1000,\"10-10\")","v":0},{"$f":"RANK(I6,$C$184:$C$203)","v":1},1,null,1,1,{"$f":"COUNTIF(入力シート!$L$2:$L$1000,\"1-1\")","v":0},1,null,2,2,{"$f":"COUNTIF(入力シート!$L$2:$L$1000,\"2-2\")","v":0},1,null,3,1,{"$f":"COUNTIF(入力シート!$L$2:$L$1000,\"3-1\")","v":0},1,null,4,2,{"$f":"COUNTIF(入力シート!$L$2:$L$1000,\"4-2\")","v":0},1,null,5,6,{"$f":"COUNTIF(入力シート!$L$2:$L$1000,\"5-6\")","v":0},1,null,6,2,{"$f":"COUNTIF(入力シート!$L$2:$L$1000,\"6-2\")","v":0},1,null,7,3,{"$f":"COUNTIF(入力シート!$L$2:$L$1000,\"7-3\")","v":0},1,null,8,18,{"$f":"COUNTIF(入力シート!$L$2:$L$1000,\"8-18\")","v":0},1,null,9,3,{"$f":"COUNTIF(入力シート!$L$2:$L$1000,\"9-3\")","v":0},1,null,10,16,{"$f":"COUNTIF(入力シート!$L$2:$L$1000,\"10-16\")","v":0},1,null,11,16,{"$f":"COUNTIF(入力シート!$L$2:$L$1000,\"11-16\")","v":0},1,null,12,10,{"$f":"COUNTIF(入力シート!$L$2:$L$1000,\"12-10\")","v":0},1,null,13,13,{"$f":"COUNTIF(入力シート!$L$2:$L$1000,\"13-13\")","v":0},1,null,14,18,{"$f":"COUNTIF(入力シート!$L$2:$L$1000,\"14-18\")","v":0},1,null,15,10,{"$f":"COUNTIF(入力シート!$L$2:$L$1000,\"15-10\")","v":0},1,null,16,10,{"$f":"COUNTIF(入力シート!$L$2:$L$1000,\"16-10\")","v":0},1,null,17,12,{"$f":"COUNTIF(入力シート!$L$2:$L$1000,\"17-12\")","v":0},1,null,18,10,{"$f":"COUNTIF(入力シート!$L$2:$L$1000,\"18-10\")","v":0},1,null,19,16,{"$f":"COUNTIF(入力シート!$L$2:$L$1000,\"19-16\")","v":0},1,null,20,3,{"$f":"COUNTIF(入力シート!$L$2:$L$1000,\"20-3\")","v":0},1]
[1,4,{"$f":"COUNTIF(入力シート!$L$2:$L$1000,\"1-4\")","v":0},1,1,null,16,16,{"$f":"COUNTIF(入力シート!$L$2:$L$1000,\"16-16\")","v":0},{"$f":"RANK(I7,$C$304:$C$323)","v":1},1,null,1,2,{"$f":"COUNTIF(入力シート!$L$2:$L$1000,\"1-2\")","v":0},1,null,2,3,{"$f":"COUNTIF(入力シート!$L$2:$L$1000,\"2-3\")","v":0},1,null,3,2,{"$f":"COUNTIF(入力シート!$L$2:$L$1000,\"3-2\")","v":0},1,null,4,3,{"$f":"COUNTIF(入力シート!$L$2:$L$1000,\"4-3\")","v":0},1,null,5,12,{"$f":"COUNTIF(入力シート!$L$2:$L$1000,\"5-12\")","v":0},1,null,6,3,{"$f":"COUNTIF(入力シート!$L$2:$L$1000,\"6-3\")","v":0},1,null,7,4,{"$f":"COUNTIF(入力シート!$L$2:$L$1000,\"7-4\")","v":0},1,null,8,1,{"$f":"COUNTIF(入力シート!$L$2:$L$1000,\"8-1\")","v":0},1,null,9,4,{"$f":"COUNTIF(入力シート!$L$2:$L$1000,\"9-4\")","v":0},1,null,10,18,{"$f":"COUNTIF(入力シート!$L$2:$L$1000,\"10-18\")","v":0},1,null,11,19,{"$f":"COUNTIF(入力シート!$L$2:$L$1000,\"11-19\")","v":0},1,null,12,16,{"$f":"COUNTIF(入力シート!$L$2:$L$1000,\"12-16\")","v":0},1,null,13,16,{"$f":"COUNTIF(入力シート!$L$2:$L$1000,\"13-16\")","v":0},1,null,14,15,{"$f":"COUNTIF(入力シート!$L$2:$L$1000,\"14-15\")","v":0},1,null,15,14,{"$f":"COUNTIF(入力シート!$L$2:$L$1000,\"15-14\")","v":0},1,null,16,12,{"$f":"COUNTIF(入力シート!$L$2:$L$1000,\"16-12\")","v":0},1,null,17,13,{"$f":"COUNTIF(入力シート!$L$2:$L$1000,\"17-13\")","v":0},1,null,18,12,{"$f":"COUNTIF(入力シート!$L$2:$L$1000,\"18-12\")","v":0},1,null,19,13,{"$f":"COUNTIF(入力シート!$L$2:$L$1000,\"19-13\")","v":0},1,null,20,4,{"$f":"COUNTIF(入力シート!$L$2:$L$1000,\"20-4\")","v":0},1]
[1,5,{"$f":"COUNTIF(入力シート!$L$2:$L$1000,\"1-5\")","v":0},1,1,null,10,19,{"$f":"COUNTIF(入力シート!$L$2:$L$1000,\"10-19\")","v":0},{"$f":"RANK(I8,$C$184:$C$203)","v":1},1,null,1,3,{"$f":"COUNTIF(入力シート!$L$2:$L$1000,\"1-3\")","v":0},1,null,2,4,{"$f":"COUNTIF(入力シート!$L$2:$L$1000,\"2-4\")","v":0},1,null,3,3,{"$f":"COUNTIF(入力シート!$L$2:$L$1000,\"3-3\")","v":0},1,null,4,4,{"$f":"COUNTIF(入力シート!$L$2:$L$1000,\"4-4\")","v":0},1,null,5,16,{"$f":"COUNTIF(入力シート!$L$2:$L$1000,\"5-16\")","v":0},1,null,6,4,{"$f":"COUNTIF(入力シート!$L$2:$L$1000,\"6-4\")","v":0},1,null,7,5,{"$f":"COUNTIF(入力シート!$L$2:$L$1000,\"7-5\")","v":0},1,null,8,2,{"$f":"COUNTIF(入力シート!$L$2:$L$1000,\"8-2\")","v":0},1,null,9,5,{"$f":"COUNTIF(入力シート!$L$2:$L$1000,\"9-5\")","v":0},1,null,10,15,{"$f":"COUNTIF(入力シート!$L$2:$L$1000,\"10-15\")","v":0},1,null,11,1,{"$f":"COUNTIF(入力シート!$L$2:$L$1000,\"11-1\")","v":0},1,null,12,12,{"$f":"COUNTIF(入力シート!$L$2:$L$1000,\"12-12\")","v":0},1,null,13,15,{"$f":"COUNTIF(入力シート!$L$2:$L$1000,\"13-15\")","v":0},1,null,14,10,{"$f":"COUNTIF(入力シート!$L$2:$L$1000,\"14-10\")","v":0},1,null,15,16,{"$f":"COUNTIF(入力シート!$L$2:$L$1000,\"15-16\")","v":0},1,null,16,14,{"$f":"COUNTIF(入力シート!$L$2:$L$1000,\"16-14\")","v":0},1,null,17,14,{"$f":"COUNTIF(入力シート!$L$2:$L$1000,\"17-14\")","v":0},1,null,18,13,{"$f":"COUNTIF(入力シート!$L$2:$L$1000,\"18-13\")","v":0},1,null,19,12,{"$f":"COUNTIF(入力シート!$L$2:$L$1000,\"19-12\")","v":0},1,null,20,5,{"$f":"COUNTIF(入力シート!$L$2:$L$1000,\"20-5\")","v":0},1]
[1,6,{"$f":"COUNTIF(入力シート!$L$2:$L$1000,\"1-6\")","v":0},1,1,null,19,10,{"$f":"COUNTIF(入力シート!$L$2:$L$1000,\"19-10\")","v":0},{"$f":"RANK(I9,$C$364:$C$383)","v":1},1,null,1,4,{"$f":"COUNTIF(入力シート!$L$2:$L$1000,\"1-4\")","v":0},1,null,2,5,{"$f":"COUNTIF(入力シート!$L$2:$L$1000,\"2-5\")","v":0},1,null,3,4,{"$f":"COUNTIF(入力シート!$L$2:$L$1000,\"3-4\")","v":0},1,null,4,5,{"$f":"COUNTIF(入力シート!$L$2:$L$1000,\"4-5\")","v":0},1,null,5,18,{"$f":"COUNTIF(入力シート!$L$2:$L$1000,\"5-18\")","v":0},1,null,6,5,{"$f":"COUNTIF(入力シート!$L$2:$L$1000,\"6-5\")","v":0},1,null,7,6,{"$f":"COUNTIF(入力シート!$L$2:$L$1000,\"7-6\")","v":0},1,null,8,3,{"$f":"COUNTIF(入力シート!$L$2:$L$1000,\"8-3\")","v":0},1,null,9,6,{"$f":"COUNTIF(入力シート!$L$2:$L$1000,\"9-6\")","v":0},1,null,10,13,{"$f":"COUNTIF(入力シート!$L$2:$L$1000,\"10-13\")","v":0},1,null,11,2,{"$f":"COUNTIF(入力シート!$L$2:$L$1000,\"11-2\")","v":0},1,null,12,17,{"$f":"COUNTIF(入力シート!$L$2:$L$1000,\"12-17\")","v":0},1,null,13,19,{"$f":"COUNTIF(入力シート!$L$2:$L$1000,\"13-19\")","v":0},1,null,14,13,{"$f":"COUNTIF(入力シート!$L$2:$L$1000,\"14-13\")","v":0},1,null,15,12,{"$f":"COUNTIF(入力シート!$L$2:$L$1000,\"15-12\")","v":0},1,null,16,19,{"$f":"COUNTIF(入力シート!$L$2:$L$1000,\"16-19\")","v":0},1,null,17,16,{"$f":"COUNTIF(入力シート!$L$2:$L$1000,\"17-16\")","v":0},1,null,18,14,{"$f":"COUNTIF(入力シート!$L$2:$L$1000,\"18-14\")","v":0},1,null,19,11,{"$f":"COUNTIF(入力シート!$L$2:$L$1000,\"19-11\")","v":0},1,null,20,6,{"$f":"COUNTIF(入力シート!$L$2:$L$1000,\"20-6\")","v":0},1]
[1,7,{"$f":"COUNTIF(入力シート!$L$2:$L$1000,\"1-7\")","v":0},1,1,null,16,18,{"$f":"COUNTIF(入力シート!$L$2:$L$1000,\"16-18\")","v":0},{"$f":"RANK(I10,$C$304:$C$323)","v":1},1,null,1,5,{"$f":"COUNTIF(入力シート!$L$2:$L$1000,\"1-5\")","v":0},1,null,2,6,{"$f":"COUNTIF(入力シート!$L$2:$L$1000,\"2-6\")","v":0},1,null,3,5,{"$f":"COUNTIF(入力シート!$L$2:$L$1000,\"3-5\")","v":0},1,null,4,6,{"$f":"COUNTIF(入力シート!$L$2:$L$1000,\"4-6\")","v":0},1,null,5,1,{"$f":"COUNTIF(入力シート!$L$2:$L$1000,\"5-1\")","v":0},1,null,6,6,{"$f":"COUNTIF(入力シート!$L$2:$L$1000,\"6-6\")","v":0},1,null,7,7,{"$f":"COUNTIF(入力シート!$L$2:$L$1000,\"7-7\")","v":0},1,null,8,4,{"$f":"COUNTIF(入力シート!$L$2:$L$1000,\"8-4\")","v":0},1,null,9,7,{"$f":"COUNTIF(入力シート!$L$2:$L$1000,\"9-7\")","v":0},1,null,10,14,{"$f":"COUNTIF(入力シート!$L$2:$L$1000,\"10-14\")","v":0},1,null,11,3,{"$f":"COUNTIF(入力シート!$L$2:$L$1000,\"11-3\")","v":0},1,null,12,15,{"$f":"COUNTIF(入力シート!$L$2:$L$1000,\"12-15\")","v":0},1,null,13,18,{"$f":"COUNTIF(入力シート!$L$2:$L$1000,\"13-18\")","v":0},1,null,14,16,{"$f":"COUNTIF(入力シート!$L$2:$L$1000,\"14-16\")","v":0},1,null,15,2,{"$f":"COUNTIF(入力シート!$L$2:$L$1000,\"15-2\")","v":0},1,null,16,15,{"$f":"COUNTIF(入力シート!$L$2:$L$1000,\"16-15\")","v":0},1,null,17,17,{"$f":"COUNTIF(入力シート!$L$2:$L$1000,\"17-17\")","v":0},1,null,18,15,{"$f":"COUNTIF(入力シート!$L$2:$L$1000,\"18-15\")","v":0},1,null,19,14,{"$f":"COUNTIF(入力シート!$L$2:$L$1000,\"19-14\")","v":0},1,null,20,7,{"$f":"COUNTIF(入力シート!$L$2:$L$1000,\"20-7\")","v":0},1]
[1,8,{"$f":"COUNTIF(入力シート!$L$2:$L$1000,\"1-8\")","v":0},1,1,null,18,16,{"$f":"COUNTIF(入力シート!$L$2:$L$1000,\"18-16\")","v":0},{"$f":"RANK(I11,$C$344:$C$363)","v":1},1,null,1,6,{"$f":"COUNTIF(入力シート!$L$2:$L$1000,\"1-6\")","v":0},1,null,2,7,{"$f":"COUNTIF(入力シート!$L$2:$L$1000,\"2-7\")","v":0},1,null,3,6,{"$f":"COUNTIF(入力シート!$L$2:$L$1000,\"3-6\")","v":0},1,null,4,7,{"$f":"COUNTIF(入力シート!$L$2:$L$1000,\"4-7\")","v":0},1,null,5,2,{"$f":"COUNTIF(入力シート!$L$2:$L$1000,\"5-2\")","v":0},1,null,6,7,{"$f":"COUNTIF(入力シート!$L$2:$L$1000,\"6-7\")","v":0},1,null,7,8,{"$f":"COUNTIF(入力シート!$L$2:$L$1000,\"7-8\")","v":0},1,null,8,5,{"$f":"COUNTIF(入力シート!$L$2:$L$1000,\"8-5\")","v":0},1,null,9,8,{"$f":"COUNTIF(入力シート!$L$2:$L$1000,\"9-8\")","v":0},1,null,10,17,{"$f":"COUNTIF(入力シート!$L$2:$L$1000,\"10-17\")","v":0},1,null,11,4,{"$f":"COUNTIF(入力シート!$L$2:$L$1000,\"11-4\")","v":0},1,null,12,19,{"$f":"COUNTIF(入力シート!$L$2:$L$1000,\"12-19\")","v":0},1,null,13,12,{"$f":"COUNTIF(入力シート!$L$2:$L$1000,\"13-12\")","v":0},1,null,14,11,{"$f":"COUNTIF(入力シート!$L$2:$L$1000,\"14-11\")","v":0},1,null,15,3,{"$f":"COUNTIF(入力シート!$L$2:$L$1000,\"15-3\")","v":0},1,null,16,13,{"$f":"COUNTIF(入力シート!$L$2:$L$1000,\"16-13\")","v":0},1,null,17,1,{"$f":"COUNTIF(入力シート!$L$2:$L$1000,\"17-1\")","v":0},1,null,18,17,{"$f":"COUNTIF(入力シート!$L$2:$L$1000,\"18-17\")","v":0},1,null,19,17,{"$f":"COUNTIF(入力シート!$L$2:$L$1000,\"19-17\")","v":0},1,null,20,8,{"$f":"COUNTIF(入力シート!$L$2:$L$1000,\"20-8\")","v":0},1]
[1,9,{"$f":"COUNTIF(入力シート!$L$2:$L$1000,\"1-9\")","v":0},1,1,null,10,16,{"$f":"COUNTIF(入力シート!$L$2:$L$1000,\"10-16\")","v":0},{"$f":"RANK(I12,$C$184:$C$203)","v":1},1,null,1,7,{"$f":"COUNTIF(入力シート!$L$2:$L$1000,\"1-7\")","v":0},1,null,2,8,{"$f":"COUNTIF(入力シート!$L$2:$L$1000,\"2-8\")","v":0},1,null,3,7,{"$f":"COUNTIF(入力シート!$L$2:$L$1000,\"3-7\")","v":0},1,null,4,8,{"$f":"COUNTIF(入力シート!$L$2:$L$1000,\"4-8\")","v":0},1,null,5,3,{"$f":"COUNTIF(入力シート!$L$2:$L$1000,\"5-3\")","v":0},1,null,6,8,{"$f":"COUNTIF(入力シート!$L$2:$L$1000,\"6-8\")","v":0},1,null,7,9,{"$f":"COUNTIF(入力シート!$L$2:$L$1000,\"7-9\")","v":0},1,null,8,6,{"$f":"COUNTIF(入力シート!$L$2:$L$1000,\"8-6\")","v":0},1,null,9,9,{"$f":"COUNTIF(入力シート!$L$2:$L$1000,\"9-9\")","v":0},1,null,10,2,{"$f":"COUNTIF(入力シート!$L$2:$L$1000,\"10-2\")","v":0},1,null,11,5,{"$f":"COUNTIF(入力シート!$L$2:$L$1000,\"11-5\")","v":0},1,null,12,13,{"$f":"COUNTIF(入力シート!$L$2:$L$1000,\"12-13\")","v":0},1,null,13,1,{"$f":"COUNTIF(入力シート!$L$2:$L$1000,\"13-1\")","v":0},1,null,14,1,{"$f":"COUNTIF(入力シート!$L$2:$L$1000,\"14-1\")","v":0},1,null,15,6,{"$f":"COUNTIF(入力シート!$L$2:$L$1000,\"15-6\")","v":0},1,null,16,1,{"$f":"COUNTIF(入力シート!$L$2:$L$1000,\"16-1\")","v":0},1,null,17,2,{"$f":"COUNTIF(入力シート!$L$2:$L$1000,\"17-2\")","v":0},1,null,18,19,{"$f":"COUNTIF(入力シート!$L$2:$L$1000,\"18-19\")","v":0},1,null,19,18,{"$f":"COUNTIF(入力シート!$L$2:$L$1000,\"19-18\")","v":0},1,null,20,9,{"$f":"COUNTIF(入力シート!$L$2:$L$1000,\"20-9\")","v":0},1]
[1,10,{"$f":"COUNTIF(入力シート!$L$2:$L$1000,\"1-10\")","v":0},1,1,null,16,10,{"$f":"COUNTIF(入力シート!$L$2:$L$1000,\"16-10\")","v":0},{"$f":"RANK(I13,$C$304:$C$323)","v":1},1,null,1,8,{"$f":"COUNTIF(入力シート!$L$2:$L$1000,\"1-8\")","v":0},1,null,2,9,{"$f":"COUNTIF(入力シート!$L$2:$L$1000,\"2-9\")","v":0},1,null,3,8,{"$f":"COUNTIF(入力シート!$L$2:$L$1000,\"3-8\")","v":0},1,null,4,9,{"$f":"COUNTIF(入力シート!$L$2:$L$1000,\"4-9\")","v":0},1,null,5,7,{"$f":"COUNTIF(入力シート!$L$2:$L$1000,\"5-7\")","v":0},1,null,6,9,{"$f":"COUNTIF(入力シート!$L$2:$L$1000,\"6-9\")","v":0},1,null,7,10,{"$f":"COUNTIF(入力シート!$L$2:$L$1000,\"7-10\")","v":0},1,null,8,7,{"$f":"COUNTIF(入力シート!$L$2:$L$1000,\"8-7\")","v":0},1,null,9,10,{"$f":"COUNTIF(入力シート!$L$2:$L$1000,\"9-10\")","v":0},1,null,10,5,{"$f":"COUNTIF(入力シート!$L$2:$L$1000,\"10-5\")","v":0},1,null,11,6,{"$f":"COUNTIF(入力シート!$L$2:$L$1000,\"11-6\")","v":0},1,null,12,1,{"$f":"COUNTIF(入力シート!$L$2:$L$1000,\"12-1\")","v":0},1,null,13,2,{"$f":"COUNTIF(入力シート!$L$2:$L$1000,\"13-2\")","v":0},1,null,14,2,{"$f":"COUNTIF(入力シート!$L$2:$L$1000,\"14-2\")","v":0},1,null,15,13,{"$f":"COUNTIF(入力シート!$L$2:$L$1000,\"15-13\")","v":0},1,null,16,5,{"$f":"COUNTIF(入力シート!$L$2:$L$1000,\"16-5\")","v":0},1,null,17,3,{"$f":"COUNTIF(入力シート!$L$2:$L$1000,\"17-3\")","v":0},1,null,18,1,{"$f":"COUNTIF(入力シート!$L$2:$L$1000,\"18-1\")","v":0},1,null,19,1,{"$f":"COUNTIF(入力シート!$L$2:$L$1000,\"19-1\")","v":0},1,null,20,10,{"$f":"COUNTIF(入力シート!$L$2:$L$1000,\"20-10\")","v":0},1]
[1,11,{"$f":"COUNTIF(入力シート!$L$2:$L$1000,\"1-11\")","v":0},1,1,null,10,18,{"$f":"COUNTIF(入力シート!$L$2:$L$1000,\"10-18\")","v":0},{"$f":"RANK(I14,$C$184:$C$203)","v":1},1,null,1,9,{"$f":"COUNTIF(入力シート!$L$2:$L$1000,\"1-9\")","v":0},1,null,2,10,{"$f":"COUNTIF(入力シート!$L$2:$L$1000,\"2-10\")","v":0},1,null,3,9,{"$f":"COUNTIF(入力シート!$L$2:$L$1000,\"3-9\")","v":0},1,null,4,11,{"$f":"COUNTIF(入力シート!$L$2:$L$1000,\"4-11\")","v":0},1,null,5,8,{"$f":"COUNTIF(入力シート!$L$2:$L$1000,\"5-8\")","v":0},1,null,6,10,{"$f":"COUNTIF(入力シート!$L$2:$L$1000,\"6-10\")","v":0},1,null,7,11,{"$f":"COUNTIF(入力シート!$L$2:$L$1000,\"7-11\")","v":0},1,null,8,9,{"$f":"COUNTIF(入力シート!$L$2:$L$1000,\"8-9\")","v":0},1,null,9,11,{"$f":"COUNTIF(入力シート!$L$2:$L$1000,\"9-11\")","v":0},1,null,10,8,{"$f":"COUNTIF(入力シート!$L$2:$L$1000,\"10-8\")","v":0},1,null,11,7,{"$f":"COUNTIF(入力シート!$L$2:$L$1000,\"11-7\")","v":0},1,null,12,2,{"$f":"COUNTIF(入力シート!$L$2:$L$1000,\"12-2\")","v":0},1,null,13,3,{"$f":"COUNTIF(入力シート!$L$2:$L$1000,\"13-3\")","v":0},1,null,14,3,{"$f":"COUNTIF(入力シート!$L$2:$L$1000,\"14-3\")","v":0},1,null,15,1,{"$f":"COUNTIF(入力シート!$L$2:$L$1000,\"15-1\")","v":0},1,null,16,11,{"$f":"COUNTIF(入力シート!$L$2:$L$1000,\"16-11\")","v":0},1,null,17,4,{"$f":"COUNTIF(入力シート!$L$2:$L$1000,\"17-4\")","v":0},1,null,18,3,{"$f":"COUNTIF(入力シート!$L$2:$L$1000,\"18-3\")","v":0},1,null,19,2,{"$f":"COUNTIF(入力シート!$L$2:$L$1000,\"19-2\")","v":0},1,null,20,11,{"$f":"COUNTIF(入力シート!$L$2:$L$1000,\"20-11\")","v":0},1]
[1,12,{"$f":"COUNTIF(入力シート!$L$2:$L$1000,\"1-12\")","v":0},1,1,null,18,10,{"$f":"COUNTIF(入力シート!$L$2:$L$1000,\"18-10\")","v":0},{"$f":"RANK(I15,$C$344:$C$363)","v":1},1,null,1,10,{"$f":"COUNTIF(入力シート!$L$2:$L$1000,\"1-10\")","v":0},1,null,2,11,{"$f":"COUNTIF(入力シート!$L$2:$L$1000,\"2-11\")","v":0},1,null,3,10,{"$f":"COUNTIF(入力シート!$L$2:$L$1000,\"3-10\")","v":0},1,null,4,12,{"$f":"COUNTIF(入力シート!$L$2:$L$1000,\"4-12\")","v":0},1,null,5,9,{"$f":"COUNTIF(入力シート!$L$2:$L$1000,\"5-9\")","v":0},1,null,6,11,{"$f":"COUNTIF(入力シート!$L$2:$L$1000,\"6-11\")","v":0},1,null,7,12,{"$f":"COUNTIF(入力シート!$L$2:$L$1000,\"7-12\")","v":0},1,null,8,11,{"$f":"COUNTIF(入力シート!$L$2:$L$1000,\"8-11\")","v":0},1,null,9,12,{"$f":"COUNTIF(入力シート!$L$2:$L$1000,\"9-12\")","v":0},1,null,10,12,{"$f":"COUNTIF(入力シート!$L$2:$L$1000,\"10-12\")","v":0},1,null,11,8,{"$f":"COUNTIF(入力シート!$L$2:$L$1000,\"11-8\")","v":0},1,null,12,3,{"$f":"COUNTIF(入力シート!$L$2:$L$1000,\"12-3\")","v":0},1,null,13,4,{"$f":"COUNTIF(入力シート!$L$2:$L$1000,\"13-4\")","v":0},1,null,14,4,{"$f":"COUNTIF(入力シート!$L$2:$L$1000,\"14-4\")","v":0},1,null,15,4,{"$f":"COUNTIF(入力シート!$L$2:$L$1000,\"15-4\")","v":0},1,null,16,2,{"$f":"COUNTIF(入力シート!$L$2:$L$1000,\"16-2\")","v":0},1,null,17,5,{"$f":"COUNTIF(入力シート!$L$2:$L$1000,\"17-5\")","v":0},1,null,18,5,{"$f":"COUNTIF(入力シート!$L$2:$L$1000,\"18-5\")","v":0},1,null,19,3,{"$f":"COUNTIF(入力シート!$L$2:$L$1000,\"19-3\")","v":0},1,null,20,12,{"$f":"COUNTIF(入力シート!$L$2:$L$1000,\"20-12\")","v":0},1]
[1,13,{"$f":"COUNTIF(入力シート!$L$2:$L$1000,\"1-13\")","v":0},1,1,null,15,15,{"$f":"COUNTIF(入力シート!$L$2:$L$1000,\"15-15\")","v":0},{"$f":"RANK(I16,$C$284:$C$303)","v":1},1,null,1,11,{"$f":"COUNTIF(入力シート!$L$2:$L$1000,\"1-11\")","v":0},1,null,2,12,{"$f":"COUNTIF(入力シート!$L$2:$L$1000,\"2-12\")","v":0},1,null,3,11,{"$f":"COUNTIF(入力シート!$L$2:$L$1000,\"3-11\")","v":0},1,null,4,13,{"$f":"COUNTIF(入力シート!$L$2:$L$1000,\"4-13\")","v":0},1,null,5,10,{"$f":"COUNTIF(入力シート!$L$2:$L$1000,\"5-10\")","v":0},1,null,6,12,{"$f":"COUNTIF(入力シート!$L$2:$L$1000,\"6-12\")","v":0},1,null,7,13,{"$f":"COUNTIF(入力シート!$L$2:$L$1000,\"7-13\")","v":0},1,null,8,12,{"$f":"COUNTIF(入力シート!$L$2:$L$1000,\"8-12\")","v":0},1,null,9,13,{"$f":"COUNTIF(入力シート!$L$2:$L$1000,\"9-13\")","v":0},1,null,10,1,{"$f":"COUNTIF(入力シート!$L$2:$L$1000,\"10-1\")","v":0},1,null,11,9,{"$f":"COUNTIF(入力シート!$L$2:$L$1000,\"11-9\")","v":0},1,null,12,4,{"$f":"COUNTIF(入力シート!$L$2:$L$1000,\"12-4\")","v":0},1,null,13,5,{"$f":"COUNTIF(入力シート!$L$2:$L$1000,\"13-5\")","v":0},1,null,14,5,{"$f":"COUNTIF(入力シート!$L$2:$L$1000,\"14-5\")","v":0},1,null,15,5,{"$f":"COUNTIF(入力シート!$L$2:$L$1000,\"15-5\")","v":0},1,null,16,3,{"$f":"COUNTIF(入力シート!$L$2:$L$1000,\"16-3\")","v":0},1,null,17,6,{"$f":"COUNTIF(入力シート!$L$2:$L$1000,\"17-6\")","v":0},1,null,18,8,{"$f":"COUNTIF(入力シート!$L$2:$L$1000,\"18-8\")","v":0},1,null,19,4,{"$f":"COUNTIF(入力シート!$L$2:$L$1000,\"19-4\")","v":0},1,null,20,13,{"$f":"COUNTIF(入力シート!$L$2:$L$1000,\"20-13\")","v":0},1]
[1,14,{"$f":"COUNTIF(入力シート!$L$2:$L$1000,\"1-14\")","v":0},1,1,null,12,18,{"$f":"COUNTIF(入力シート!$L$2:$L$1000,\"12-18\")","v":0},{"$f":"RANK(I17,$C$224:$C$243)","v":1},1,null,1,12,{"$f":"COUNTIF(入力シート!$L$2:$L$1000,\"1-12\")","v":0},1,null,2,13,{"$f":"COUNTIF(入力シート!$L$2:$L$1000,\"2-13\")","v":0},1,null,3,12,{"$f":"COUNTIF(入力シート!$L$2:$L$1000,\"3-12\")","v":0},1,null,4,14,{"$f":"COUNTIF(入力シート!$L$2:$L$1000,\"4-14\")","v":0},1,null,5,11,{"$f":"COUNTIF(入力シート!$L$2:$L$1000,\"5-11\")","v":0},1,null,6,13,{"$f":"COUNTIF(入力シート!$L$2:$L$1000,\"6-13\")","v":0},1,null,7,14,{"$f":"COUNTIF(入力シート!$L$2:$L$1000,\"7-14\")","v":0},1,null,8,13,{"$f":"COUNTIF(入力シート!$L$2:$L$1000,\"8-13\")","v":0},1,null,9,14,{"$f":"COUNTIF(入力シート!$L$2:$L$1000,\"9-14\")","v":0},1,null,10,3,{"$f":"COUNTIF(入力シート!$L$2:$L$1000,\"10-3\")","v":0},1,null,11,10,{"$f":"COUNTIF(入力シート!$L$2:$L$1000,\"11-10\")","v":0},1,null,12,5,{"$f":"COUNTIF(入力シート!$L$2:$L$1000,\"12-5\")","v":0},1,null,13,6,{"$f":"COUNTIF(入力シート!$L$2:$L$1000,\"13-6\")","v":0},1,null,14,6,{"$f":"COUNTIF(入力シート!$L$2:$L$1000,\"14-6\")","v":0},1,null,15,7,{"$f":"COUNTIF(入力シート!$L$2:$L$1000,\"15-7\")","v":0},1,null,16,4,{"$f":"COUNTIF(入力シート!$L$2:$L$1000,\"16-4\")","v":0},1,null,17,7,{"$f":"COUNTIF(入力シート!$L$2:$L$1000,\"17-7\")","v":0},1,null,18,2,{"$f":"COUNTIF(入力シート!$L$2:$L$1000,\"18-2\")","v":0},1,null,19,5,{"$f":"COUNTIF(入力シート!$L$2:$L$1000,\"19-5\")","v":0},1,null,20,14,{"$f":"COUNTIF(入力シート!$L$2:$L$1000,\"20-14\")","v":0},1]
[1,15,{"$f":"COUNTIF(入力シート!$L$2:$L$1000,\"1-15\")","v":0},1,1,null,18,12,{"$f":"COUNTIF(入力シート!$L$2:$L$1000,\"18-12\")","v":0},{"$f":"RANK(I18,$C$344:$C$363)","v":1},1,null,1,13,{"$f":"COUNTIF(入力シート!$L$2:$L$1000,\"1-13\")","v":0},1,null,2,14,{"$f":"COUNTIF(入力シート!$L$2:$L$1000,\"2-14\")","v":0},1,null,3,13,{"$f":"COUNTIF(入力シート!$L$2:$L$1000,\"3-13\")","v":0},1,null,4,15,{"$f":"COUNTIF(入力シート!$L$2:$L$1000,\"4-15\")","v":0},1,null,5,13,{"$f":"COUNTIF(入力シート!$L$2:$L$1000,\"5-13\")","v":0},1,null,6,14,{"$f":"COUNTIF(入力シート!$L$2:$L$1000,\"6-14\")","v":0},1,null,7,15,{"$f":"COUNTIF(入力シート!$L$2:$L$1000,\"7-15\")","v":0},1,null,8,14,{"$f":"COUNTIF(入力シート!$L$2:$L$1000,\"8-14\")","v":0},1,null,9,15,{"$f":"COUNTIF(入力シート!$L$2:$L$1000,\"9-15\")","v":0},1,null,10,4,{"$f":"COUNTIF(入力シート!$L$2:$L$1000,\"10-4\")","v":0},1,null,11,11,{"$f":"COUNTIF(入力シート!$L$2:$L$1000,\"11-11\")","v":0},1,null,12,6,{"$f":"COUNTIF(入力シート!$L$2:$L$1000,\"12-6\")","v":0},1,null,13,7,{"$f":"COUNTIF(入力シート!$L$2:$L$1000,\"13-7\")","v":0},1,null,14,7,{"$f":"COUNTIF(入力シート!$L$2:$L$1000,\"14-7\")","v":0},1,null,15,8,{"$f":"COUNTIF(入力シート!$L$2:$L$1000,\"15-8\")","v":0},1,null,16,6,{"$f":"COUNTIF(入力シート!$L$2:$L$1000,\"16-6\")","v":0},1,null,17,8,{"$f":"COUNTIF(入力シート!$L$2:$L$1000,\"17-8\")","v":0},1,null,18,4,{"$f":"COUNTIF(入力シート!$L$2:$L$1000,\"18-4\")","v":0},1,null,19,6,{"$f":"COUNTIF(入力シート!$L$2:$L$1000,\"19-6\")","v":0},1,null,20,15,{"$f":"COUNTIF(入力シート!$L$2:$L$1000,\"20-15\")","v":0},1]
[1,16,{"$f":"COUNTIF(入力シート!$L$2:$L$1000,\"1-16\")","v":0},1,1,null,12,14,{"$f":"COUNTIF(入力シート!$L$2:$L$1000,\"12-14\")","v":0},{"$f":"RANK(I19,$C$224:$C$243)","v":1},1,null,1,14,{"$f":"COUNTIF(入力シート!$L$2:$L$1000,\"1-14\")","v":0},1,null,2,16,{"$f":"COUNTIF(入力シート!$L$2:$L$1000,\"2-16\")","v":0},1,null,3,14,{"$f":"COUNTIF(入力シート!$L$2:$L$1000,\"3-14\")","v":0},1,null,4,16,{"$f":"COUNTIF(入力シート!$L$2:$L$1000,\"4-16\")","v":0},1,null,5,14,{"$f":"COUNTIF(入力シート!$L$2:$L$1000,\"5-14\")","v":0},1,null,6,16,{"$f":"COUNTIF(入力シート!$L$2:$L$1000,\"6-16\")","v":0},1,null,7,16,{"$f":"COUNTIF(入力シート!$L$2:$L$1000,\"7-16\")","v":0},1,null,8,15,{"$f":"COUNTIF(入力シート!$L$2:$L$1000,\"8-15\")","v":0},1,null,9,16,{"$f":"COUNTIF(入力シート!$L$2:$L$1000,\"9-16\")","v":0},1,null,10,6,{"$f":"COUNTIF(入力シート!$L$2:$L$1000,\"10-6\")","v":0},1,null,11,13,{"$f":"COUNTIF(入力シート!$L$2:$L$1000,\"11-13\")","v":0},1,null,12,7,{"$f":"COUNTIF(入力シート!$L$2:$L$1000,\"12-7\")","v":0},1,null,13,8,{"$f":"COUNTIF(入力シート!$L$2:$L$1000,\"13-8\")","v":0},1,null,14,8,{"$f":"COUNTIF(入力シート!$L$2:$L$1000,\"14-8\")","v":0},1,null,15,9,{"$f":"COUNTIF(入力シート!$L$2:$L$1000,\"15-9\")","v":0},1,null,16,7,{"$f":"COUNTIF(入力シート!$L$2:$L$1000,\"16-7\")","v":0},1,null,17,9,{"$f":"COUNTIF(入力シート!$L$2:$L$1000,\"17-9\")","v":0},1,null,18,6,{"$f":"COUNTIF(入力シート!$L$2:$L$1000,\"18-6\")","v":0},1,null,19,7,{"$f":"COUNTIF(入力シート!$L$2:$L$1000,\"19-7\")","v":0},1,null,20,16,{"$f":"COUNTIF(入力シート!$L$2:$L$1000,\"20-16\")","v":0},1]
[1,17,{"$f":"COUNTIF(入力シート!$L$2:$L$1000,\"1-17\")","v":0},1,1,null,14,12,{"$f":"COUNTIF(入力シート!$L$2:$L$1000,\"14-12\")","v":0},{"$f":"RANK(I20,$C$264:$C$283)","v":1},1,null,1,15,{"$f":"COUNTIF(入力シート!$L$2:$L$1000,\"1-15\")","v":0},1,null,2,17,{"$f":"COUNTIF(入力シート!$L$2:$L$1000,\"2-17\")","v":0},1,null,3,16,{"$f":"COUNTIF(入力シート!$L$2:$L$1000,\"3-16\")","v":0},1,null,4,17,{"$f":"COUNTIF(入力シート!$L$2:$L$1000,\"4-17\")","v":0},1,null,5,15,{"$f":"COUNTIF(入力シート!$L$2:$L$1000,\"5-15\")","v":0},1,null,6,17,{"$f":"COUNTIF(入力シート!$L$2:$L$1000,\"6-17\")","v":0},1,null,7,17,{"$f":"COUNTIF(入力シート!$L$2:$L$1000,\"7-17\")","v":0},1,null,8,16,{"$f":"COUNTIF(入力シート!$L$2:$L$1000,\"8-16\")","v":0},1,null,9,17,{"$f":"COUNTIF(入力シート!$L$2:$L$1000,\"9-17\")","v":0},1,null,10,7,{"$f":"COUNTIF(入力シート!$L$2:$L$1000,\"10-7\")","v":0},1,null,11,15,{"$f":"COUNTIF(入力シート!$L$2:$L$1000,\"11-15\")","v":0},1,null,12,8,{"$f":"COUNTIF(入力シート!$L$2:$L$1000,\"12-8\")","v":0},1,null,13,9,{"$f":"COUNTIF(入力シート!$L$2:$L$1000,\"13-9\")","v":0},1,null,14,9,{"$f":"COUNTIF(入力シート!$L$2:$L$1000,\"14-9\")","v":0},1,null,15,11,{"$f":"COUNTIF(入力シート!$L$2:$L$1000,\"15-11\")","v":0},1,null,16,8,{"$f":"COUNTIF(入力シート!$L$2:$L$1000,\"16-8\")","v":0},1,null,17,11,{"$f":"COUNTIF(入力シート!$L$2:$L$1000,\"17-11\")","v":0},1,null,18,7,{"$f":"COUNTIF(入力シート!$L$2:$L$1000,\"18-7\")","v":0},1,null,19,8,{"$f":"COUNTIF(入力シート!$L$2:$L$1000,\"19-8\")","v":0},1,null,20,17,{"$f":"COUNTIF(入力シート!$L$2:$L$1000,\"20-17\")","v":0},1]
[1,18,{"$f":"COUNTIF(入力シート!$L$2:$L$1000,\"1-18\")","v":0},1,1,null,14,14,{"$f":"COUNTIF(入力シート!$L$2:$L$1000,\"14-14\")","v":0},{"$f":"RANK(I21,$C$264:$C$283)","v":1},1,null,1,17,{"$f":"COUNTIF(入力シート!$L$2:$L$1000,\"1-17\")","v":0},1,null,2,18,{"$f":"COUNTIF(入力シート!$L$2:$L$1000,\"2-18\")","v":0},1,null,3,17,{"$f":"COUNTIF(入力シート!$L$2:$L$1000,\"3-17\")","v":0},1,null,4,18,{"$f":"COUNTIF(入力シート!$L$2:$L$1000,\"4-18\")","v":0},1,null,5,17,{"$f":"COUNTIF(入力シート!$L$2:$L$1000,\"5-17\")","v":0},1,null,6,18,{"$f":"COUNTIF(入力シート!$L$2:$L$1000,\"6-18\")","v":0},1,null,7,18,{"$f":"COUNTIF(入力シート!$L$2:$L$1000,\"7-18\")","v":0},1,null,8,17,{"$f":"COUNTIF(入力シート!$L$2:$L$1000,\"8-17\")","v":0},1,null,9,18,{"$f":"COUNTIF(入力シート!$L$2:$L$1000,\"9-18\")","v":0},1,null,10,9,{"$f":"COUNTIF(入力シート!$L$2:$L$1000,\"10-9\")","v":0},1,null,11,17,{"$f":"COUNTIF(入力シート!$L$2:$L$1000,\"11-17\")","v":0},1,null,12,9,{"$f":"COUNTIF(入力シート!$L$2:$L$1000,\"12-9\")","v":0},1,null,13,11,{"$f":"COUNTIF(入力シート!$L$2:$L$1000,\"13-11\")","v":0},1,null,14,17,{"$f":"COUNTIF(入力シート!$L$2:$L$1000,\"14-17\")","v":0},1,null,15,17,{"$f":"COUNTIF(入力シート!$L$2:$L$1000,\"15-17\")","v":0},1,null,16,9,{"$f":"COUNTIF(入力シート!$L$2:$L$1000,\"16-9\")","v":0},1,null,17,15,{"$f":"COUNTIF(入力シート!$L$2:$L$1000,\"17-15\")","v":0},1,null,18,9,{"$f":"COUNTIF(入力シート!$L$2:$L$1000,\"18-9\")","v":0},1,null,19,9,{"$f":"COUNTIF(入力シート!$L$2:$L$1000,\"19-9\")","v":0},1,null,20,18,{"$f":"COUNTIF(入力シート!$L$2:$L$1000,\"20-18\")","v":0},1]
[1,19,{"$f":"COUNTIF(入力シート!$L$2:$L$1000,\"1-19\")","v":0},1,1,null,15,18,{"$f":"COUNTIF(入力シート!$L$2:$L$1000,\"15-18\")","v":0},{"$f":"RANK(I22,$C$284:$C$303)","v":1},1,null,1,19,{"$f":"COUNTIF(入力シート!$L$2:$L$1000,\"1-19\")","v":0},1,null,2,19,{"$f":"COUNTIF(入力シート!$L$2:$L$1000,\"2-19\")","v":0},1,null,3,19,{"$f":"COUNTIF(入力シート!$L$2:$L$1000,\"3-19\")","v":0},1,null,4,19,{"$f":"COUNTIF(入力シート!$L$2:$L$1000,\"4-19\")","v":0},1,null,5,19,{"$f":"COUNTIF(入力シート!$L$2:$L$1000,\"5-19\")","v":0},1,null,6,19,{"$f":"COUNTIF(入力シート!$L$2:$L$1000,\"6-19\")","v":0},1,null,7,19,{"$f":"COUNTIF(入力シート!$L$2:$L$1000,\"7-19\")","v":0},1,null,8,19,{"$f":"COUNTIF(入力シート!$L$2:$L$1000,\"8-19\")","v":0},1,null,9,19,{"$f":"COUNTIF(入力シート!$L$2:$L$1000,\"9-19\")","v":0},1,null,10,11,{"$f":"COUNTIF(入力シート!$L$2:$L$1000,\"10-11\")","v":0},1,null,11,18,{"$f":"COUNTIF(入力シート!$L$2:$L$1000,\"11-18\")","v":0},1,null,12,11,{"$f":"COUNTIF(入力シート!$L$2:$L$1000,\"12-11\")","v":0},1,null,13,17,{"$f":"COUNTIF(入力シート!$L$2:$L$1000,\"13-17\")","v":0},1,null,14,19,{"$f":"COUNTIF(入力シート!$L$2:$L$1000,\"14-19\")","v":0},1,null,15,19,{"$f":"COUNTIF(入力シート!$L$2:$L$1000,\"15-19\")","v":0},1,null,16,17,{"$f":"COUNTIF(入力シート!$L$2:$L$1000,\"16-17\")","v":0},1,null,17,19,{"$f":"COUNTIF(入力シート!$L$2:$L$1000,\"17-19\")","v":0},1,null,18,11,{"$f":"COUNTIF(入力シート!$L$2:$L$1000,\"18-11\")","v":0},1,null,19,15,{"$f":"COUNTIF(入力シート!$L$2:$L$1000,\"19-15\")","v":0},1,null,20,19,{"$f":"COUNTIF(入力シート!$L$2:$L$1000,\"20-19\")","v":0},1]
[1,20,{"$f":"COUNTIF(入力シート!$L$2:$L$1000,\"1-20\")","v":0},1,1,null,14,18,{"$f":"COUNTIF(入力シート!$L$2:$L$1000,\"14-18\")","v":0},{"$f":"RANK(I23,$C$264:$C$283)","v":1},1,null,1,20,{"$f":"COUNTIF(入力シート!$L$2:$L$1000,\"1-20\")","v":0},1,null,2,20,{"$f":"COUNTIF(入力シート!$L$2:$L$1000,\"2-20\")","v":0},1,null,3,20,{"$f":"COUNTIF(入力シート!$L$2:$L$1000,\"3-20\")","v":0},1,null,4,20,{"$f":"COUNTIF(入力シート!$L$2:$L$1000,\"4-20\")","v":0},1,null,5,20,{"$f":"COUNTIF(入力シート!$L$2:$L$1000,\"5-20\")","v":0},1,null,6,20,{"$f":"COUNTIF(入力シート!$L$2:$L$1000,\"6-20\")","v":0},1,null,7,20,{"$f":"COUNTIF(入力シート!$L$2:$L$1000,\"7-20\")","v":0},1,null,8,20,{"$f":"COUNTIF(入力シート!$L$2:$L$1000,\"8-20\")","v":0},1,null,9,20,{"$f":"COUNTIF(入力シート!$L$2:$L$1000,\"9-20\")","v":0},1,null,10,20,{"$f":"COUNTIF(入力シート!$L$2:$L$1000,\"10-20\")","v":0},1,null,11,20,{"$f":"COUNTIF(入力シート!$L$2:$L$1000,\"11-20\")","v":0},1,null,12,20,{"$f":"COUNTIF(入力シート!$L$2:$L$1000,\"12-20\")","v":0},1,null,13,20,{"$f":"COUNTIF(入力シート!$L$2:$L$1000,\"13-20\")","v":0},1,null,14,20,{"$f":"COUNTIF(入力シート!$L$2:$L$1000,\"14-20\")","v":0},1,null,15,20,{"$f":"COUNTIF(入力シート!$L$2:$L$1000,\"15-20\")","v":0},1,null,16,20,{"$f":"COUNTIF(入力シート!$L$2:$L$1000,\"16-20\")","v":0},1,null,17,20,{"$f":"COUNTIF(入力シート!$L$2:$L$1000,\"17-20\")","v":0},1,null,18,20,{"$f":"COUNTIF(入力シート!$L$2:$L$1000,\"18-20\")","v":0},1,null,19,20,{"$f":"COUNTIF(入力シート!$L$2:$L$1000,\"19-20\")","v":0},1,null,20,20,{"$f":"COUNTIF(入力シート!$L$2:$L$1000,\"20-20\")","v":0},1]
[2,1,{"$f":"COUNTIF(入力シート!$L$2:$L$1000,\"2-1\")","v":0},{"$f":"RANK(C24,$C$24:$C$43)","v":1},1,null,5,5,{"$f":"COUNTIF(入力シート!$L$2:$L$1000,\"5-5\")","v":0},{"$f":"RANK(I24,$C$84:$C$103)","v":1},1]
[2,2,{"$f":"COUNTIF(入力シート!$L$2:$L$1000,\"2-2\")","v":0},{"$f":"RANK(C25,$C$24:$C$43)","v":1},1,null,10,15,{"$f":"COUNTIF(入力シート!$L$2:$L$1000,\"10-15\")","v":0},{"$f":"RANK(I25,$C$184:$C$203)","v":1},1]
[2,3,{"$f":"COUNTIF(入力シート!$L$2:$L$1000,\"2-3\")","v":0},1,1,null,15,10,{"$f":"COUNTIF(入力シート!$L$2:$L$1000,\"15-10\")","v":0},{"$f":"RANK(I26,$C$284:$C$303)","v":1},1]
[2,4,{"$f":"COUNTIF(入力シート!$L$2:$L$1000,\"2-4\")","v":0},1,1,null,18,13,{"$f":"COUNTIF(入力シート!$L$2:$L$1000,\"18-13\")","v":0},{"$f":"RANK(I27,$C$344:$C$363)","v":1},1]
[2,5,{"$f":"COUNTIF(入力シート!$L$2:$L$1000,\"2-5\")","v":0},1,1,null,12,10,{"$f":"COUNTIF(入力シート!$L$2:$L$1000,\"12-10\")","v":0},{"$f":"RANK(I28,$C$224:$C$243)","v":1},1]
[2,6,{"$f":"COUNTIF(入力シート!$L$2:$L$1000,\"2-6\")","v":0},1,1,null,12,16,{"$f":"COUNTIF(入力シート!$L$2:$L$1000,\"12-16\")","v":0},{"$f":"RANK(I29,$C$224:$C$243)","v":1},1]
[2,7,{"$f":"COUNTIF(入力シート!$L$2:$L$1000,\"2-7\")","v":0},1,1,null,14,15,{"$f":"COUNTIF(入力シート!$L$2:$L$1000,\"14-15\")","v":0},{"$f":"RANK(I30,$C$264:$C$283)","v":1},1]
[2,8,{"$f":"COUNTIF(入力シート!$L$2:$L$1000,\"2-8\")","v":0},1,1,null,16,12,{"$f":"COUNTIF(入力シート!$L$2:$L$1000,\"16-12\")","v":0},{"$f":"RANK(I31,$C$304:$C$323)","v":1},1]
[2,9,{"$f":"COUNTIF(入力シート!$L$2:$L$1000,\"2-9\")","v":0},1,1,null,18,14,{"$f":"COUNTIF(入力シート!$L$2:$L$1000,\"18-14\")","v":0},{"$f":"RANK(I32,$C$344:$C$363)","v":1},1]
[2,10,{"$f":"COUNTIF(入力シート!$L$2:$L$1000,\"2-10\")","v":0},1,1,null,10,13,{"$f":"COUNTIF(入力シート!$L$2:$L$1000,\"10-13\")","v":0},{"$f":"RANK(I33,$C$184:$C$203)","v":1},1]
[2,11,{"$f":"COUNTIF(入力シート!$L$2:$L$1000,\"2-11\")","v":0},1,1,null,10,14,{"$f":"COUNTIF(入力シート!$L$2:$L$1000,\"10-14\")","v":0},{"$f":"RANK(I34,$C$184:$C$203)","v":1},1]
[2,12,{"$f":"COUNTIF(入力シート!$L$2:$L$1000,\"2-12\")","v":0},1,1,null,13,10,{"$f":"COUNTIF(入力シート!$L$2:$L$1000,\"13-10\")","v":0},{"$f":"RANK(I35,$C$244:$C$263)","v":1},1]
[2,13,{"$f":"COUNTIF(入力シート!$L$2:$L$1000,\"2-13\")","v":0},1,1,null,14,10,{"$f":"COUNTIF(入力シート!$L$2:$L$1000,\"14-10\")","v":0},{"$f":"RANK(I36,$C$264:$C$283)","v":1},1]
[2,14,{"$f":"COUNTIF(入力シート!$L$2:$L$1000,\"2-14\")","v":0},1,1,null,15,14,{"$f":"COUNTIF(入力シート!$L$2:$L$1000,\"15-14\")","v":0},{"$f":"RANK(I37,$C$284:$C$303)","v":1},1]
[2,15,{"$f":"COUNTIF(入力シート!$L$2:$L$1000,\"2-15\")","v":0},1,1,null,16,14,{"$f":"COUNTIF(入力シート!$L$2:$L$1000,\"16-14\")","v":0},{"$f":"RANK(I38,$C$304:$C$323)","v":1},1]
[2,16,{"$f":"COUNTIF(入力シート!$L$2:$L$1000,\"2-16\")","v":0},1,1,null,18,15,{"$f":"COUNTIF(入力シート!$L$2:$L$1000,\"18-15\")","v":0},{"$f":"RANK(I39,$C$344:$C$363)","v":1},1]
[2,17,{"$f":"COUNTIF(入力シート!$L$2:$L$1000,\"2-17\")","v":0},1,1,null,18,17,{"$f":"COUNTIF(入力シート!$L$2:$L$1000,\"18-17\")","v":0},{"$f":"RANK(I40,$C$344:$C$363)","v":1},1]
[2,18,{"$f":"COUNTIF(入力シート!$L$2:$L$1000,\"2-18\")","v":0},1,1,null,10,17,{"$f":"COUNTIF(入力シート!$L$2:$L$1000,\"10-17\")","v":0},{"$f":"RANK(I41,$C$184:$C$203)","v":1},1]
[2,19,{"$f":"COUNTIF(入力シート!$L$2:$L$1000,\"2-19\")","v":0},1,1,null,12,12,{"$f":"COUNTIF(入力シート!$L$2:$L$1000,\"12-12\")","v":0},{"$f":"RANK(I42,$C$224:$C$243)","v":1},1]
[2,20,{"$f":"COUNTIF(入力シート!$L$2:$L$1000,\"2-20\")","v":0},1,1,null,13,14,{"$f":"COUNTIF(入力シート!$L$2:$L$1000,\"13-14\")","v":0},{"$f":"RANK(I43,$C$244:$C$263)","v":1},1]
[3,1,{"$f":"COUNTIF(入力シート!$L$2:$L$1000,\"3-1\")","v":0},{"$f":"RANK(C44,$C$44:$C$63)","v":1},1,null,14,13,{"$f":"COUNTIF(入力シート!$L$2:$L$1000,\"14-13\")","v":0},{"$f":"RANK(I44,$C$264:$C$283)","v":1},1]
[3,2,{"$f":"COUNTIF(入力シート!$L$2:$L$1000,\"3-2\")","v":0},{"$f":"RANK(C45,$C$44:$C$63)","v":1},1,null,15,16,{"$f":"COUNTIF(入力シート!$L$2:$L$1000,\"15-16\")","v":0},{"$f":"RANK(I45,$C$284:$C$303)","v":1},1]
[3,3,{"$f":"COUNTIF(入力シート!$L$2:$L$1000,\"3-3\")","v":0},1,1,null,17,10,{"$f":"COUNTIF(入力シート!$L$2:$L$1000,\"17-10\")","v":0},{"$f":"RANK(I46,$C$324:$C$343)","v":1},1]
[3,4,{"$f":"COUNTIF(入力シート!$L$2:$L$1000,\"3-4\")","v":0},1,1,null,17,18,{"$f":"COUNTIF(入力シート!$L$2:$L$1000,\"17-18\")","v":0},{"$f":"RANK(I47,$C$324:$C$343)","v":1},1]
[3,5,{"$f":"COUNTIF(入力シート!$L$2:$L$1000,\"3-5\")","v":0},1,1,null,18,19,{"$f":"COUNTIF(入力シート!$L$2:$L$1000,\"18-19\")","v":0},{"$f":"RANK(I48,$C$344:$C$363)","v":1},1]
[3,6,{"$f":"COUNTIF(入力シート!$L$2:$L$1000,\"3-6\")","v":0},1,1,null,12,17,{"$f":"COUNTIF(入力シート!$L$2:$L$1000,\"12-17\")","v":0},{"$f":"RANK(I49,$C$224:$C$243)","v":1},1]
[3,7,{"$f":"COUNTIF(入力シート!$L$2:$L$1000,\"3-7\")","v":0},1,1,null,13,13,{"$f":"COUNTIF(入力シート!$L$2:$L$1000,\"13-13\")","v":0},{"$f":"RANK(I50,$C$244:$C$263)","v":1},1]
[3,8,{"$f":"COUNTIF(入力シート!$L$2:$L$1000,\"3-8\")","v":0},1,1,null,13,16,{"$f":"COUNTIF(入力シート!$L$2:$L$1000,\"13-16\")","v":0},{"$f":"RANK(I51,$C$244:$C$263)","v":1},1]
[3,9,{"$f":"COUNTIF(入力シート!$L$2:$L$1000,\"3-9\")","v":0},1,1,null,14,16,{"$f":"COUNTIF(入力シート!$L$2:$L$1000,\"14-16\")","v":0},{"$f":"RANK(I52,$C$264:$C$283)","v":1},1]
[3,10,{"$f":"COUNTIF(入力シート!$L$2:$L$1000,\"3-10\")","v":0},1,1,null,16,19,{"$f":"COUNTIF(入力シート!$L$2:$L$1000,\"16-19\")","v":0},{"$f":"RANK(I53,$C$304:$C$323)","v":1},1]
[3,11,{"$f":"COUNTIF(入力シート!$L$2:$L$1000,\"3-11\")","v":0},1,1,null,17,12,{"$f":"COUNTIF(入力シート!$L$2:$L$1000,\"17-12\")","v":0},{"$f":"RANK(I54,$C$324:$C$343)","v":1},1]
[3,12,{"$f":"COUNTIF(入力シート!$L$2:$L$1000,\"3-12\")","v":0},1,1,null,19,16,{"$f":"COUNTIF(入力シート!$L$2:$L$1000,\"19-16\")","v":0},{"$f":"RANK(I55,$C$364:$C$383)","v":1},1]
[3,13,{"$f":"COUNTIF(入力シート!$L$2:$L$1000,\"3-13\")","v":0},1,1,null,13,15,{"$f":"COUNTIF(入力シート!$L$2:$L$1000,\"13-15\")","v":0},{"$f":"RANK(I56,$C$244:$C$263)","v":1},1]
[3,14,{"$f":"COUNTIF(入力シート!$L$2:$L$1000,\"3-14\")","v":0},1,1,null,13,19,{"$f":"COUNTIF(入力シート!$L$2:$L$1000,\"13-19\")","v":0},{"$f":"RANK(I57,$C$244:$C$263)","v":1},1]
[3,15,{"$f":"COUNTIF(入力シート!$L$2:$L$1000,\"3-15\")","v":0},1,1,null,16,15,{"$f":"COUNTIF(入力シート!$L$2:$L$1000,\"16-15\")","v":0},{"$f":"RANK(I58,$C$304:$C$323)","v":1},1]
[3,16,{"$f":"COUNTIF(入力シート!$L$2:$L$1000,\"3-16\")","v":0},1,1,null,19,13,{"$f":"COUNTIF(入力シート!$L$2:$L$1000,\"19-13\")","v":0},{"$f":"RANK(I59,$C$364:$C$383)","v":1},1]
[3,17,{"$f":"COUNTIF(入力シート!$L$2:$L$1000,\"3-17\")","v":0},1,1,null,8,10,{"$f":"COUNTIF(入力シート!$L$2:$L$1000,\"8-10\")","v":0},{"$f":"RANK(I60,$C$144:$C$163)","v":1},1]
[3,18,{"$f":"COUNTIF(入力シート!$L$2:$L$1000,\"3-18\")","v":0},1,1,null,12,15,{"$f":"COUNTIF(入力シート!$L$2:$L$1000,\"12-15\")","v":0},{"$f":"RANK(I61,$C$224:$C$243)","v":1},1]
[3,19,{"$f":"COUNTIF(入力シート!$L$2:$L$1000,\"3-19\")","v":0},1,1,null,12,19,{"$f":"COUNTIF(入力シート!$L$2:$L$1000,\"12-19\")","v":0},{"$f":"RANK(I62,$C$224:$C$243)","v":1},1]
[3,20,{"$f":"COUNTIF(入力シート!$L$2:$L$1000,\"3-20\")","v":0},1,1,null,13,18,{"$f":"COUNTIF(入力シート!$L$2:$L$1000,\"13-18\")","v":0},{"$f":"RANK(I63,$C$244:$C$263)","v":1},1]
[4,1,{"$f":"COUNTIF(入力シート!$L$2:$L$1000,\"4-1\")","v":0},{"$f":"RANK(C64,$C$64:$C$83)","v":1},1,null,15,12,{"$f":"COUNTIF(入力シート!$L$2:$L$1000,\"15-12\")","v":0},{"$f":"RANK(I64,$C$284:$C$303)","v":1},1]
[4,2,{"$f":"COUNTIF(入力シート!$L$2:$L$1000,\"4-2\")","v":0},{"$f":"RANK(C65,$C$64:$C$83)","v":1},1,null,16,13,{"$f":"COUNTIF(入力シート!$L$2:$L$1000,\"16-13\")","v":0},{"$f":"RANK(I65,$C$304:$C$323)","v":1},1]
[4,3,{"$f":"COUNTIF(入力シート!$L$2:$L$1000,\"4-3\")","v":0},1,1,null,19,12,{"$f":"COUNTIF(入力シート!$L$2:$L$1000,\"19-12\")","v":0},{"$f":"RANK(I66,$C$364:$C$383)","v":1},1]
[4,4,{"$f":"COUNTIF(入力シート!$L$2:$L$1000,\"4-4\")","v":0},1,1,null,1,16,{"$f":"COUNTIF(入力シート!$L$2:$L$1000,\"1-16\")","v":0},{"$f":"RANK(I67,$C$4:$C$23)","v":1},1]
[4,5,{"$f":"COUNTIF(入力シート!$L$2:$L$1000,\"4-5\")","v":0},1,1,null,1,18,{"$f":"COUNTIF(入力シート!$L$2:$L$1000,\"1-18\")","v":0},{"$f":"RANK(I68,$C$4:$C$23)","v":1},{"$f":"RANK(I68,$C$4:$C$403)","v":1}]
[4,6,{"$f":"COUNTIF(入力シート!$L$2:$L$1000,\"4-6\")","v":0},1,{"$f":"RANK(C69,$C$4:$C$403)","v":1},null,2,15,{"$f":"COUNTIF(入力シート!$L$2:$L$1000,\"2-15\")","v":0},{"$f":"RANK(I69,$C$24:$C$43)","v":1},1]
[4,7,{"$f":"COUNTIF(入力シート!$L$2:$L$1000,\"4-7\")","v":0},1,1,null,3,15,{"$f":"COUNTIF(入力シート!$L$2:$L$1000,\"3-15\")","v":0},{"$f":"RANK(I70,$C$44:$C$63)","v":1},1]
[4,8,{"$f":"COUNTIF(入力シート!$L$2:$L$1000,\"4-8\")","v":0},1,1,null,3,18,{"$f":"COUNTIF(入力シート!$L$2:$L$1000,\"3-18\")","v":0},{"$f":"RANK(I71,$C$44:$C$63)","v":1},1]
[4,9,{"$f":"COUNTIF(入力シート!$L$2:$L$1000,\"4-9\")","v":0},1,1,null,4,10,{"$f":"COUNTIF(入力シート!$L$2:$L$1000,\"4-10\")","v":0},{"$f":"RANK(I72,$C$64:$C$83)","v":1},1]
[4,10,{"$f":"COUNTIF(入力シート!$L$2:$L$1000,\"4-10\")","v":0},1,1,null,5,4,{"$f":"COUNTIF(入力シート!$L$2:$L$1000,\"5-4\")","v":0},{"$f":"RANK(I73,$C$84:$C$103)","v":1},1]
[4,11,{"$f":"COUNTIF(入力シート!$L$2:$L$1000,\"4-11\")","v":0},1,1,null,5,6,{"$f":"COUNTIF(入力シート!$L$2:$L$1000,\"5-6\")","v":0},{"$f":"RANK(I74,$C$84:$C$103)","v":1},1]
[4,12,{"$f":"COUNTIF(入力シート!$L$2:$L$1000,\"4-12\")","v":0},1,1,null,5,12,{"$f":"COUNTIF(入力シート!$L$2:$L$1000,\"5-12\")","v":0},{"$f":"RANK(I75,$C$84:$C$103)","v":1},1]
[4,13,{"$f":"COUNTIF(入力シート!$L$2:$L$1000,\"4-13\")","v":0},1,1,null,5,16,{"$f":"COUNTIF(入力シート!$L$2:$L$1000,\"5-16\")","v":0},{"$f":"RANK(I76,$C$84:$C$103)","v":1},1]
[4,14,{"$f":"COUNTIF(入力シート!$L$2:$L$1000,\"4-14\")","v":0},1,1,null,5,18,{"$f":"COUNTIF(入力シート!$L$2:$L$1000,\"5-18\")","v":0},{"$f":"RANK(I77,$C$84:$C$103)","v":1},1]
[4,15,{"$f":"COUNTIF(入力シート!$L$2:$L$1000,\"4-15\")","v":0},1,1,null,6,15,{"$f":"COUNTIF(入力シート!$L$2:$L$1000,\"6-15\")","v":0},{"$f":"RANK(I78,$C$104:$C$123)","v":1},1]
[4,16,{"$f":"COUNTIF(入力シート!$L$2:$L$1000,\"4-16\")","v":0},1,1,null,8,8,{"$f":"COUNTIF(入力シート!$L$2:$L$1000,\"8-8\")","v":0},{"$f":"RANK(I79,$C$144:$C$163)","v":1},1]
[4,17,{"$f":"COUNTIF(入力シート!$L$2:$L$1000,\"4-17\")","v":0},1,1,null,8,18,{"$f":"COUNTIF(入力シート!$L$2:$L$1000,\"8-18\")","v":0},{"$f":"RANK(I80,$C$144:$C$163)","v":1},1]
[4,18,{"$f":"COUNTIF(入力シート!$L$2:$L$1000,\"4-18\")","v":0},1,1,null,10,2,{"$f":"COUNTIF(入力シート!$L$2:$L$1000,\"10-2\")","v":0},{"$f":"RANK(I81,$C$184:$C$203)","v":1},1]
[4,19,{"$f":"COUNTIF(入力シート!$L$2:$L$1000,\"4-19\")","v":0},1,1,null,10,5,{"$f":"COUNTIF(入力シート!$L$2:$L$1000,\"10-5\")","v":0},{"$f":"RANK(I82,$C$184:$C$203)","v":1},1]
[4,20,{"$f":"COUNTIF(入力シート!$L$2:$L$1000,\"4-20\")","v":0},1,1,null,10,8,{"$f":"COUNTIF(入力シート!$L$2:$L$1000,\"10-8\")","v":0},{"$f":"RANK(I83,$C$184:$C$203)","v":1},1]
[5,1,{"$f":"COUNTIF(入力シート!$L$2:$L$1000,\"5-1\")","v":0},{"$f":"RANK(C84,$C$84:$C$103)","v":1},1,null,10,12,{"$f":"COUNTIF(入力シート!$L$2:$L$1000,\"10-12\")","v":0},{"$f":"RANK(I84,$C$184:$C$203)","v":1},1]
[5,2,{"$f":"COUNTIF(入力シート!$L$2:$L$1000,\"5-2\")","v":0},{"$f":"RANK(C85,$C$84:$C$103)","v":1},1,null,11,12,{"$f":"COUNTIF(入力シート!$L$2:$L$1000,\"11-12\")","v":0},{"$f":"RANK(I85,$C$204:$C$223)","v":1},1]
[5,3,{"$f":"COUNTIF(入力シート!$L$2:$L$1000,\"5-3\")","v":0},1,1,null,11,14,{"$f":"COUNTIF(入力シート!$L$2:$L$1000,\"11-14\")","v":0},{"$f":"RANK(I86,$C$204:$C$223)","v":1},1]
[5,4,{"$f":"COUNTIF(入力シート!$L$2:$L$1000,\"5-4\")","v":0},1,1,null,11,16,{"$f":"COUNTIF(入力シート!$L$2:$L$1000,\"11-16\")","v":0},{"$f":"RANK(I87,$C$204:$C$223)","v":1},1]
[5,5,{"$f":"COUNTIF(入力シート!$L$2:$L$1000,\"5-5\")","v":0},1,1,null,11,19,{"$f":"COUNTIF(入力シート!$L$2:$L$1000,\"11-19\")","v":0},{"$f":"RANK(I88,$C$204:$C$223)","v":1},1]
[5,6,{"$f":"COUNTIF(入力シート!$L$2:$L$1000,\"5-6\")","v":0},1,1,null,12,13,{"$f":"COUNTIF(入力シート!$L$2:$L$1000,\"12-13\")","v":0},{"$f":"RANK(I89,$C$224:$C$243)","v":1},1]
[5,7,{"$f":"COUNTIF(入力シート!$L$2:$L$1000,\"5-7\")","v":0},1,1,null,13,12,{"$f":"COUNTIF(入力シート!$L$2:$L$1000,\"13-12\")","v":0},{"$f":"RANK(I90,$C$244:$C$263)","v":1},1]
[5,8,{"$f":"COUNTIF(入力シート!$L$2:$L$1000,\"5-8\")","v":0},1,1,null,14,11,{"$f":"COUNTIF(入力シート!$L$2:$L$1000,\"14-11\")","v":0},{"$f":"RANK(I91,$C$264:$C$283)","v":1},1]
[5,9,{"$f":"COUNTIF(入力シート!$L$2:$L$1000,\"5-9\")","v":0},1,1,null,15,2,{"$f":"COUNTIF(入力シート!$L$2:$L$1000,\"15-2\")","v":0},{"$f":"RANK(I92,$C$284:$C$303)","v":1},1]
[5,10,{"$f":"COUNTIF(入力シート!$L$2:$L$1000,\"5-10\")","v":0},1,1,null,15,3,{"$f":"COUNTIF(入力シート!$L$2:$L$1000,\"15-3\")","v":0},{"$f":"RANK(I93,$C$284:$C$303)","v":1},1]
[5,11,{"$f":"COUNTIF(入力シート!$L$2:$L$1000,\"5-11\")","v":0},1,1,null,15,6,{"$f":"COUNTIF(入力シート!$L$2:$L$1000,\"15-6\")","v":0},{"$f":"RANK(I94,$C$284:$C$303)","v":1},1]
[5,12,{"$f":"COUNTIF(入力シート!$L$2:$L$1000,\"5-12\")","v":0},1,1,null,15,13,{"$f":"COUNTIF(入力シート!$L$2:$L$1000,\"15-13\")","v":0},{"$f":"RANK(I95,$C$284:$C$303)","v":1},1]
[5,13,{"$f":"COUNTIF(入力シート!$L$2:$L$1000,\"5-13\")","v":0},1,1,null,16,1,{"$f":"COUNTIF(入力シート!$L$2:$L$1000,\"16-1\")","v":0},{"$f":"RANK(I96,$C$304:$C$323)","v":1},1]
[5,14,{"$f":"COUNTIF(入力シート!$L$2:$L$1000,\"5-14\")","v":0},1,1,null,16,5,{"$f":"COUNTIF(入力シート!$L$2:$L$1000,\"16-5\")","v":0},{"$f":"RANK(I97,$C$304:$C$323)","v":1},1]
[5,15,{"$f":"COUNTIF(入力シート!$L$2:$L$1000,\"5-15\")","v":0},1,1,null,16,11,{"$f":"COUNTIF(入力シート!$L$2:$L$1000,\"16-11\")","v":0},{"$f":"RANK(I98,$C$304:$C$323)","v":1},1]
[5,16,{"$f":"COUNTIF(入力シート!$L$2:$L$1000,\"5-16\")","v":0},1,1,null,17,13,{"$f":"COUNTIF(入力シート!$L$2:$L$1000,\"17-13\")","v":0},{"$f":"RANK(I99,$C$324:$C$343)","v":1},1]
[5,17,{"$f":"COUNTIF(入力シート!$L$2:$L$1000,\"5-17\")","v":0},1,1,null,17,14,{"$f":"COUNTIF(入力シート!$L$2:$L$1000,\"17-14\")","v":0},{"$f":"RANK(I100,$C$324:$C$343)","v":1},1]
[5,18,{"$f":"COUNTIF(入力シート!$L$2:$L$1000,\"5-18\")","v":0},1,1,null,17,16,{"$f":"COUNTIF(入力シート!$L$2:$L$1000,\"17-16\")","v":0},{"$f":"RANK(I101,$C$324:$C$343)","v":1},1]
[5,19,{"$f":"COUNTIF(入力シート!$L$2:$L$1000,\"5-19\")","v":0},1,1,null,17,17,{"$f":"COUNTIF(入力シート!$L$2:$L$1000,\"17-17\")","v":0},{"$f":"RANK(I102,$C$324:$C$343)","v":1},1]
[5,20,{"$f":"COUNTIF(入力シート!$L$2:$L$1000,\"5-20\")","v":0},1,1,null,18,1,{"$f":"COUNTIF(入力シート!$L$2:$L$1000,\"18-1\")","v":0},{"$f":"RANK(I103,$C$344:$C$363)","v":1},1]
[6,1,{"$f":"COUNTIF(入力シート!$L$2:$L$1000,\"6-1\")","v":0},{"$f":"RANK(C104,$C$104:$C$123)","v":1},1,null,18,3,{"$f":"COUNTIF(入力シート!$L$2:$L$1000,\"18-3\")","v":0},{"$f":"RANK(I104,$C$344:$C$363)","v":1},1]
[6,2,{"$f":"COUNTIF(入力シート!$L$2:$L$1000,\"6-2\")","v":0},{"$f":"RANK(C105,$C$104:$C$123)","v":1},1,null,18,5,{"$f":"COUNTIF(入力シート!$L$2:$L$1000,\"18-5\")","v":0},{"$f":"RANK(I105,$C$344:$C$363)","v":1},1]
[6,3,{"$f":"COUNTIF(入力シート!$L$2:$L$1000,\"6-3\")","v":0},1,1,null,18,8,{"$f":"COUNTIF(入力シート!$L$2:$L$1000,\"18-8\")","v":0},{"$f":"RANK(I106,$C$344:$C$363)","v":1},1]
[6,4,{"$f":"COUNTIF(入力シート!$L$2:$L$1000,\"6-4\")","v":0},1,1,null,19,11,{"$f":"COUNTIF(入力シート!$L$2:$L$1000,\"19-11\")","v":0},{"$f":"RANK(I107,$C$364:$C$383)","v":1},1]
[6,5,{"$f":"COUNTIF(入力シート!$L$2:$L$1000,\"6-5\")","v":0},1,1,null,19,14,{"$f":"COUNTIF(入力シート!$L$2:$L$1000,\"19-14\")","v":0},{"$f":"RANK(I108,$C$364:$C$383)","v":1},1]
[6,6,{"$f":"COUNTIF(入力シート!$L$2:$L$1000,\"6-6\")","v":0},1,1,null,19,17,{"$f":"COUNTIF(入力シート!$L$2:$L$1000,\"19-17\")","v":0},{"$f":"RANK(I109,$C$364:$C$383)","v":1},1]
[6,7,{"$f":"COUNTIF(入力シート!$L$2:$L$1000,\"6-7\")","v":0},1,1,null,19,18,{"$f":"COUNTIF(入力シート!$L$2:$L$1000,\"19-18\")","v":0},{"$f":"RANK(I110,$C$364:$C$383)","v":1},1]
[6,8,{"$f":"COUNTIF(入力シート!$L$2:$L$1000,\"6-8\")","v":0},1,1,null,1,1,{"$f":"COUNTIF(入力シート!$L$2:$L$1000,\"1-1\")","v":0},{"$f":"RANK(I111,$C$4:$C$23)","v":1},1]
[6,9,{"$f":"COUNTIF(入力シート!$L$2:$L$1000,\"6-9\")","v":0},1,1,null,1,2,{"$f":"COUNTIF(入力シート!$L$2:$L$1000,\"1-2\")","v":0},1,1]
[6,10,{"$f":"COUNTIF(入力シート!$L$2:$L$1000,\"6-10\")","v":0},1,1,null,1,3,{"$f":"COUNTIF(入力シート!$L$2:$L$1000,\"1-3\")","v":0},1,1]
[6,11,{"$f":"COUNTIF(入力シート!$L$2:$L$1000,\"6-11\")","v":0},1,1,null,1,4,{"$f":"COUNTIF(入力シート!$L$2:$L$1000,\"1-4\")","v":0},1,1]
[6,12,{"$f":"COUNTIF(入力シート!$L$2:$L$1000,\"6-12\")","v":0},1,1,null,1,5,{"$f":"COUNTIF(入力シート!$L$2:$L$1000,\"1-5\")","v":0},1,1]
[6,13,{"$f":"COUNTIF(入力シート!$L$2:$L$1000,\"6-13\")","v":0},1,1,null,1,6,{"$f":"COUNTIF(入力シート!$L$2:$L$1000,\"1-6\")","v":0},1,1]
[6,14,{"$f":"COUNTIF(入力シート!$L$2:$L$1000,\"6-14\")","v":0},1,1,null,1,7,{"$f":"COUNTIF(入力シート!$L$2:$L$1000,\"1-7\")","v":0},1,1]
[6,15,{"$f":"COUNTIF(入力シート!$L$2:$L$1000,\"6-15\")","v":0},1,1,null,1,8,{"$f":"COUNTIF(入力シート!$L$2:$L$1000,\"1-8\")","v":0},1,1]
[6,16,{"$f":"COUNTIF(入力シート!$L$2:$L$1000,\"6-16\")","v":0},1,1,null,1,9,{"$f":"COUNTIF(入力シート!$L$2:$L$1000,\"1-9\")","v":0},1,1]
[6,17,{"$f":"COUNTIF(入力シート!$L$2:$L$1000,\"6-17\")","v":0},1,1,null,1,10,{"$f":"COUNTIF(入力シート!$L$2:$L$1000,\"1-10\")","v":0},1,1]
[6,18,{"$f":"COUNTIF(入力シート!$L$2:$L$1000,\"6-18\")","v":0},1,1,null,1,11,{"$f":"COUNTIF(入力シート!$L$2:$L$1000,\"1-11\")","v":0},1,1]
[6,19,{"$f":"COUNTIF(入力シート!$L$2:$L$1000,\"6-19\")","v":0},1,1,null,1,12,{"$f":"COUNTIF(入力シート!$L$2:$L$1000,\"1-12\")","v":0},1,1]
[6,20,{"$f":"COUNTIF(入力シート!$L$2:$L$1000,\"6-20\")","v":0},1,1,null,1,13,{"$f":"COUNTIF(入力シート!$L$2:$L$1000,\"1-13\")","v":0},1,1]
[7,1,{"$f":"COUNTIF(入力シート!$L$2:$L$1000,\"7-1\")","v":0},{"$f":"RANK(C124,$C$124:$C$143)","v":1},1,null,1,14,{"$f":"COUNTIF(入力シート!$L$2:$L$1000,\"1-14\")","v":0},1,1]
[7,2,{"$f":"COUNTIF(入力シート!$L$2:$L$1000,\"7-2\")","v":0},{"$f":"RANK(C125,$C$124:$C$143)","v":1},1,null,1,15,{"$f":"COUNTIF(入力シート!$L$2:$L$1000,\"1-15\")","v":0},1,1]
[7,3,{"$f":"COUNTIF(入力シート!$L$2:$L$1000,\"7-3\")","v":0},1,1,null,1,17,{"$f":"COUNTIF(入力シート!$L$2:$L$1000,\"1-17\")","v":0},1,1]
[7,4,{"$f":"COUNTIF(入力シート!$L$2:$L$1000,\"7-4\")","v":0},1,1,null,1,19,{"$f":"COUNTIF(入力シート!$L$2:$L$1000,\"1-19\")","v":0},1,1]
[7,5,{"$f":"COUNTIF(入力シート!$L$2:$L$1000,\"7-5\")","v":0},1,1,null,1,20,{"$f":"COUNTIF(入力シート!$L$2:$L$1000,\"1-20\")","v":0},1,1]
[7,6,{"$f":"COUNTIF(入力シート!$L$2:$L$1000,\"7-6\")","v":0},1,1,null,2,1,{"$f":"COUNTIF(入力シート!$L$2:$L$1000,\"2-1\")","v":0},{"$f":"RANK(I129,$C$24:$C$43)","v":1},1]
[7,7,{"$f":"COUNTIF(入力シート!$L$2:$L$1000,\"7-7\")","v":0},1,1,null,2,2,{"$f":"COUNTIF(入力シート!$L$2:$L$1000,\"2-2\")","v":0},1,1]
[7,8,{"$f":"COUNTIF(入力シート!$L$2:$L$1000,\"7-8\")","v":0},1,1,null,2,3,{"$f":"COUNTIF(入力シート!$L$2:$L$1000,\"2-3\")","v":0},1,1]
[7,9,{"$f":"COUNTIF(入力シート!$L$2:$L$1000,\"7-9\")","v":0},1,1,null,2,4,{"$f":"COUNTIF(入力シート!$L$2:$L$1000,\"2-4\")","v":0},1,{"$f":"RANK(I132,$C$4:$C$403)","v":1}]
[7,10,{"$f":"COUNTIF(入力シート!$L$2:$L$1000,\"7-10\")","v":0},1,{"$f":"RANK(C133,$C$4:$C$403)","v":1},null,2,5,{"$f":"COUNTIF(入力シート!$L$2:$L$1000,\"2-5\")","v":0},1,1]
[7,11,{"$f":"COUNTIF(入力シート!$L$2:$L$1000,\"7-11\")","v":0},1,1,null,2,6,{"$f":"COUNTIF(入力シート!$L$2:$L$1000,\"2-6\")","v":0},1,1]
[7,12,{"$f":"COUNTIF(入力シート!$L$2:$L$1000,\"7-12\")","v":0},1,1,null,2,7,{"$f":"COUNTIF(入力シート!$L$2:$L$1000,\"2-7\")","v":0},1,1]
[7,13,{"$f":"COUNTIF(入力シート!$L$2:$L$1000,\"7-13\")","v":0},1,1,null,2,8,{"$f":"COUNTIF(入力シート!$L$2:$L$1000,\"2-8\")","v":0},1,1]
[7,14,{"$f":"COUNTIF(入力シート!$L$2:$L$1000,\"7-14\")","v":0},1,1,null,2,9,{"$f":"COUNTIF(入力シート!$L$2:$L$1000,\"2-9\")","v":0},1,1]
[7,15,{"$f":"COUNTIF(入力シート!$L$2:$L$1000,\"7-15\")","v":0},1,1,null,2,10,{"$f":"COUNTIF(入力シート!$L$2:$L$1000,\"2-10\")","v":0},1,1]
[7,16,{"$f":"COUNTIF(入力シート!$L$2:$L$1000,\"7-16\")","v":0},1,1,null,2,11,{"$f":"COUNTIF(入力シート!$L$2:$L$1000,\"2-11\")","v":0},1,1]
[7,17,{"$f":"COUNTIF(入力シート!$L$2:$L$1000,\"7-17\")","v":0},1,1,null,2,12,{"$f":"COUNTIF(入力シート!$L$2:$L$1000,\"2-12\")","v":0},1,1]
[7,18,{"$f":"COUNTIF(入力シート!$L$2:$L$1000,\"7-18\")","v":0},1,1,null,2,13,{"$f":"COUNTIF(入力シート!$L$2:$L$1000,\"2-13\")","v":0},1,1]
[7,19,{"$f":"COUNTIF(入力シート!$L$2:$L$1000,\"7-19\")","v":0},1,1,null,2,14,{"$f":"COUNTIF(入力シート!$L$2:$L$1000,\"2-14\")","v":0},1,1]
[7,20,{"$f":"COUNTIF(入力シート!$L$2:$L$1000,\"7-20\")","v":0},1,1,null,2,16,{"$f":"COUNTIF(入力シート!$L$2:$L$1000,\"2-16\")","v":0},1,1]
[8,1,{"$f":"COUNTIF(入力シート!$L$2:$L$1000,\"8-1\")","v":0},{"$f":"RANK(C144,$C$144:$C$163)","v":1},1,null,2,17,{"$f":"COUNTIF(入力シート!$L$2:$L$1000,\"2-17\")","v":0},1,1]
[8,2,{"$f":"COUNTIF(入力シート!$L$2:$L$1000,\"8-2\")","v":0},{"$f":"RANK(C145,$C$144:$C$163)","v":1},1,null,2,18,{"$f":"COUNTIF(入力シート!$L$2:$L$1000,\"2-18\")","v":0},1,1]
[8,3,{"$f":"COUNTIF(入力シート!$L$2:$L$1000,\"8-3\")","v":0},1,1,null,2,19,{"$f":"COUNTIF(入力シート!$L$2:$L$1000,\"2-19\")","v":0},1,1]
[8,4,{"$f":"COUNTIF(入力シート!$L$2:$L$1000,\"8-4\")","v":0},1,1,null,2,20,{"$f":"COUNTIF(入力シート!$L$2:$L$1000,\"2-20\")","v":0},1,1]
[8,5,{"$f":"COUNTIF(入力シート!$L$2:$L$1000,\"8-5\")","v":0},1,1,null,3,1,{"$f":"COUNTIF(入力シート!$L$2:$L$1000,\"3-1\")","v":0},{"$f":"RANK(I148,$C$44:$C$63)","v":1},1]
[8,6,{"$f":"COUNTIF(入力シート!$L$2:$L$1000,\"8-6\")","v":0},1,1,null,3,2,{"$f":"COUNTIF(入力シート!$L$2:$L$1000,\"3-2\")","v":0},1,1]
[8,7,{"$f":"COUNTIF(入力シート!$L$2:$L$1000,\"8-7\")","v":0},1,1,null,3,3,{"$f":"COUNTIF(入力シート!$L$2:$L$1000,\"3-3\")","v":0},1,1]
[8,8,{"$f":"COUNTIF(入力シート!$L$2:$L$1000,\"8-8\")","v":0},1,1,null,3,4,{"$f":"COUNTIF(入力シート!$L$2:$L$1000,\"3-4\")","v":0},1,1]
[8,9,{"$f":"COUNTIF(入力シート!$L$2:$L$1000,\"8-9\")","v":0},1,1,null,3,5,{"$f":"COUNTIF(入力シート!$L$2:$L$1000,\"3-5\")","v":0},1,1]
[8,10,{"$f":"COUNTIF(入力シート!$L$2:$L$1000,\"8-10\")","v":0},1,1,null,3,6,{"$f":"COUNTIF(入力シート!$L$2:$L$1000,\"3-6\")","v":0},1,1]
[8,11,{"$f":"COUNTIF(入力シート!$L$2:$L$1000,\"8-11\")","v":0},1,1,null,3,7,{"$f":"COUNTIF(入力シート!$L$2:$L$1000,\"3-7\")","v":0},1,1]
[8,12,{"$f":"COUNTIF(入力シート!$L$2:$L$1000,\"8-12\")","v":0},1,1,null,3,8,{"$f":"COUNTIF(入力シート!$L$2:$L$1000,\"3-8\")","v":0},1,1]
[8,13,{"$f":"COUNTIF(入力シート!$L$2:$L$1000,\"8-13\")","v":0},1,1,null,3,9,{"$f":"COUNTIF(入力シート!$L$2:$L$1000,\"3-9\")","v":0},1,1]
[8,14,{"$f":"COUNTIF(入力シート!$L$2:$L$1000,\"8-14\")","v":0},1,1,null,3,10,{"$f":"COUNTIF(入力シート!$L$2:$L$1000,\"3-10\")","v":0},1,1]
[8,15,{"$f":"COUNTIF(入力シート!$L$2:$L$1000,\"8-15\")","v":0},1,1,null,3,11,{"$f":"COUNTIF(入力シート!$L$2:$L$1000,\"3-11\")","v":0},1,1]
[8,16,{"$f":"COUNTIF(入力シート!$L$2:$L$1000,\"8-16\")","v":0},1,1,null,3,12,{"$f":"COUNTIF(入力シート!$L$2:$L$1000,\"3-12\")","v":0},1,1]
[8,17,{"$f":"COUNTIF(入力シート!$L$2:$L$1000,\"8-17\")","v":0},1,1,null,3,13,{"$f":"COUNTIF(入力シート!$L$2:$L$1000,\"3-13\")","v":0},1,1]
[8,18,{"$f":"COUNTIF(入力シート!$L$2:$L$1000,\"8-18\")","v":0},1,1,null,3,14,{"$f":"COUNTIF(入力シート!$L$2:$L$1000,\"3-14\")","v":0},1,1]
[8,19,{"$f":"COUNTIF(入力シート!$L$2:$L$1000,\"8-19\")","v":0},1,1,null,3,16,{"$f":"COUNTIF(入力シート!$L$2:$L$1000,\"3-16\")","v":0},1,1]
[8,20,{"$f":"COUNTIF(入力シート!$L$2:$L$1000,\"8-20\")","v":0},1,1,null,3,17,{"$f":"COUNTIF(入力シート!$L$2:$L$1000,\"3-17\")","v":0},1,1]
[9,1,{"$f":"COUNTIF(入力シート!$L$2:$L$1000,\"9-1\")","v":0},{"$f":"RANK(C164,$C$164:$C$183)","v":1},1,null,3,19,{"$f":"COUNTIF(入力シート!$L$2:$L$1000,\"3-19\")","v":0},1,1]
[9,2,{"$f":"COUNTIF(入力シート!$L$2:$L$1000,\"9-2\")","v":0},{"$f":"RANK(C165,$C$164:$C$183)","v":1},1,null,3,20,{"$f":"COUNTIF(入力シート!$L$2:$L$1000,\"3-20\")","v":0},1,1]
[9,3,{"$f":"COUNTIF(入力シート!$L$2:$L$1000,\"9-3\")","v":0},1,1,null,4,1,{"$f":"COUNTIF(入力シート!$L$2:$L$1000,\"4-1\")","v":0},{"$f":"RANK(I166,$C$64:$C$83)","v":1},1]
[9,4,{"$f":"COUNTIF(入力シート!$L$2:$L$1000,\"9-4\")","v":0},1,1,null,4,2,{"$f":"COUNTIF(入力シート!$L$2:$L$1000,\"4-2\")","v":0},1,1]
[9,5,{"$f":"COUNTIF(入力シート!$L$2:$L$1000,\"9-5\")","v":0},1,1,null,4,3,{"$f":"COUNTIF(入力シート!$L$2:$L$1000,\"4-3\")","v":0},1,1]
[9,6,{"$f":"COUNTIF(入力シート!$L$2:$L$1000,\"9-6\")","v":0},1,1,null,4,4,{"$f":"COUNTIF(入力シート!$L$2:$L$1000,\"4-4\")","v":0},1,1]
[9,7,{"$f":"COUNTIF(入力シート!$L$2:$L$1000,\"9-7\")","v":0},1,1,null,4,5,{"$f":"COUNTIF(入力シート!$L$2:$L$1000,\"4-5\")","v":0},1,1]
[9,8,{"$f":"COUNTIF(入力シート!$L$2:$L$1000,\"9-8\")","v":0},1,1,null,4,6,{"$f":"COUNTIF(入力シート!$L$2:$L$1000,\"4-6\")","v":0},1,1]
[9,9,{"$f":"COUNTIF(入力シート!$L$2:$L$1000,\"9-9\")","v":0},1,1,null,4,7,{"$f":"COUNTIF(入力シート!$L$2:$L$1000,\"4-7\")","v":0},1,1]
[9,10,{"$f":"COUNTIF(入力シート!$L$2:$L$1000,\"9-10\")","v":0},1,1,null,4,8,{"$f":"COUNTIF(入力シート!$L$2:$L$1000,\"4-8\")","v":0},1,1]
[9,11,{"$f":"COUNTIF(入力シート!$L$2:$L$1000,\"9-11\")","v":0},1,1,null,4,9,{"$f":"COUNTIF(入力シート!$L$2:$L$1000,\"4-9\")","v":0},1,1]
[9,12,{"$f":"COUNTIF(入力シート!$L$2:$L$1000,\"9-12\")","v":0},1,1,null,4,11,{"$f":"COUNTIF(入力シート!$L$2:$L$1000,\"4-11\")","v":0},1,1]
[9,13,{"$f":"COUNTIF(入力シート!$L$2:$L$1000,\"9-13\")","v":0},1,1,null,4,12,{"$f":"COUNTIF(入力シート!$L$2:$L$1000,\"4-12\")","v":0},1,1]
[9,14,{"$f":"COUNTIF(入力シート!$L$2:$L$1000,\"9-14\")","v":0},1,1,null,4,13,{"$f":"COUNTIF(入力シート!$L$2:$L$1000,\"4-13\")","v":0},1,1]
[9,15,{"$f":"COUNTIF(入力シート!$L$2:$L$1000,\"9-15\")","v":0},1,1,null,4,14,{"$f":"COUNTIF(入力シート!$L$2:$L$1000,\"4-14\")","v":0},1,1]
[9,16,{"$f":"COUNTIF(入力シート!$L$2:$L$1000,\"9-16\")","v":0},1,1,null,4,15,{"$f":"COUNTIF(入力シート!$L$2:$L$1000,\"4-15\")","v":0},1,1]
[9,17,{"$f":"COUNTIF(入力シート!$L$2:$L$1000,\"9-17\")","v":0},1,1,null,4,16,{"$f":"COUNTIF(入力シート!$L$2:$L$1000,\"4-16\")","v":0},1,1]
[9,18,{"$f":"COUNTIF(入力シート!$L$2:$L$1000,\"9-18\")","v":0},1,1,null,4,17,{"$f":"COUNTIF(入力シート!$L$2:$L$1000,\"4-17\")","v":0},1,1]
[9,19,{"$f":"COUNTIF(入力シート!$L$2:$L$1000,\"9-19\")","v":0},1,1,null,4,18,{"$f":"COUNTIF(入力シート!$L$2:$L$1000,\"4-18\")","v":0},1,1]
[9,20,{"$f":"COUNTIF(入力シート!$L$2:$L$1000,\"9-20\")","v":0},1,1,null,4,19,{"$f":"COUNTIF(入力シート!$L$2:$L$1000,\"4-19\")","v":0},1,1]
[10,1,{"$f":"COUNTIF(入力シート!$L$2:$L$1000,\"10-1\")","v":0},{"$f":"RANK(C184,$C$184:$C$203)","v":1},1,null,4,20,{"$f":"COUNTIF(入力シート!$L$2:$L$1000,\"4-20\")","v":0},1,1]
[10,2,{"$f":"COUNTIF(入力シート!$L$2:$L$1000,\"10-2\")","v":0},{"$f":"RANK(C185,$C$184:$C$203)","v":1},1,null,5,1,{"$f":"COUNTIF(入力シート!$L$2:$L$1000,\"5-1\")","v":0},{"$f":"RANK(I185,$C$84:$C$103)","v":1},1]
[10,3,{"$f":"COUNTIF(入力シート!$L$2:$L$1000,\"10-3\")","v":0},1,1,null,5,2,{"$f":"COUNTIF(入力シート!$L$2:$L$1000,\"5-2\")","v":0},1,1]
[10,4,{"$f":"COUNTIF(入力シート!$L$2:$L$1000,\"10-4\")","v":0},1,1,null,5,3,{"$f":"COUNTIF(入力シート!$L$2:$L$1000,\"5-3\")","v":0},1,1]
[10,5,{"$f":"COUNTIF(入力シート!$L$2:$L$1000,\"10-5\")","v":0},1,1,null,5,7,{"$f":"COUNTIF(入力シート!$L$2:$L$1000,\"5-7\")","v":0},1,1]
[10,6,{"$f":"COUNTIF(入力シート!$L$2:$L$1000,\"10-6\")","v":0},1,1,null,5,8,{"$f":"COUNTIF(入力シート!$L$2:$L$1000,\"5-8\")","v":0},1,1]
[10,7,{"$f":"COUNTIF(入力シート!$L$2:$L$1000,\"10-7\")","v":0},1,1,null,5,9,{"$f":"COUNTIF(入力シート!$L$2:$L$1000,\"5-9\")","v":0},1,1]
[10,8,{"$f":"COUNTIF(入力シート!$L$2:$L$1000,\"10-8\")","v":0},1,1,null,5,10,{"$f":"COUNTIF(入力シート!$L$2:$L$1000,\"5-10\")","v":0},1,1]
[10,9,{"$f":"COUNTIF(入力シート!$L$2:$L$1000,\"10-9\")","v":0},1,1,null,5,11,{"$f":"COUNTIF(入力シート!$L$2:$L$1000,\"5-11\")","v":0},1,1]
[10,10,{"$f":"COUNTIF(入力シート!$L$2:$L$1000,\"10-10\")","v":0},1,1,null,5,13,{"$f":"COUNTIF(入力シート!$L$2:$L$1000,\"5-13\")","v":0},1,1]
[10,11,{"$f":"COUNTIF(入力シート!$L$2:$L$1000,\"10-11\")","v":0},1,1,null,5,14,{"$f":"COUNTIF(入力シート!$L$2:$L$1000,\"5-14\")","v":0},1,1]
[10,12,{"$f":"COUNTIF(入力シート!$L$2:$L$1000,\"10-12\")","v":0},1,1,null,5,15,{"$f":"COUNTIF(入力シート!$L$2:$L$1000,\"5-15\")","v":0},1,1]
[10,13,{"$f":"COUNTIF(入力シート!$L$2:$L$1000,\"10-13\")","v":0},1,1,null,5,17,{"$f":"COUNTIF(入力シート!$L$2:$L$1000,\"5-17\")","v":0},1,{"$f":"RANK(I196,$C$4:$C$403)","v":1}]
[10,14,{"$f":"COUNTIF(入力シート!$L$2:$L$1000,\"10-14\")","v":0},1,{"$f":"RANK(C197,$C$4:$C$403)","v":1},null,5,19,{"$f":"COUNTIF(入力シート!$L$2:$L$1000,\"5-19\")","v":0},1,1]
[10,15,{"$f":"COUNTIF(入力シート!$L$2:$L$1000,\"10-15\")","v":0},1,1,null,5,20,{"$f":"COUNTIF(入力シート!$L$2:$L$1000,\"5-20\")","v":0},1,1]
[10,16,{"$f":"COUNTIF(入力シート!$L$2:$L$1000,\"10-16\")","v":0},1,1,null,6,1,{"$f":"COUNTIF(入力シート!$L$2:$L$1000,\"6-1\")","v":0},{"$f":"RANK(I199,$C$104:$C$123)","v":1},1]
[10,17,{"$f":"COUNTIF(入力シート!$L$2:$L$1000,\"10-17\")","v":0},1,1,null,6,2,{"$f":"COUNTIF(入力シート!$L$2:$L$1000,\"6-2\")","v":0},1,1]
[10,18,{"$f":"COUNTIF(入力シート!$L$2:$L$1000,\"10-18\")","v":0},1,1,null,6,3,{"$f":"COUNTIF(入力シート!$L$2:$L$1000,\"6-3\")","v":0},1,1]
[10,19,{"$f":"COUNTIF(入力シート!$L$2:$L$1000,\"10-19\")","v":0},1,1,null,6,4,{"$f":"COUNTIF(入力シート!$L$2:$L$1000,\"6-4\")","v":0},1,1]
[10,20,{"$f":"COUNTIF(入力シート!$L$2:$L$1000,\"10-20\")","v":0},1,1,null,6,5,{"$f":"COUNTIF(入力シート!$L$2:$L$1000,\"6-5\")","v":0},1,1]
[11,1,{"$f":"COUNTIF(入力シート!$L$2:$L$1000,\"11-1\")","v":0},{"$f":"RANK(C204,$C$204:$C$223)","v":1},1,null,6,6,{"$f":"COUNTIF(入力シート!$L$2:$L$1000,\"6-6\")","v":0},1,1]
[11,2,{"$f":"COUNTIF(入力シート!$L$2:$L$1000,\"11-2\")","v":0},{"$f":"RANK(C205,$C$204:$C$223)","v":1},1,null,6,7,{"$f":"COUNTIF(入力シート!$L$2:$L$1000,\"6-7\")","v":0},1,1]
[11,3,{"$f":"COUNTIF(入力シート!$L$2:$L$1000,\"11-3\")","v":0},1,1,null,6,8,{"$f":"COUNTIF(入力シート!$L$2:$L$1000,\"6-8\")","v":0},1,1]
[11,4,{"$f":"COUNTIF(入力シート!$L$2:$L$1000,\"11-4\")","v":0},1,1,null,6,9,{"$f":"COUNTIF(入力シート!$L$2:$L$1000,\"6-9\")","v":0},1,1]
[11,5,{"$f":"COUNTIF(入力シート!$L$2:$L$1000,\"11-5\")","v":0},1,1,null,6,10,{"$f":"COUNTIF(入力シート!$L$2:$L$1000,\"6-10\")","v":0},1,1]
[11,6,{"$f":"COUNTIF(入力シート!$L$2:$L$1000,\"11-6\")","v":0},1,1,null,6,11,{"$f":"COUNTIF(入力シート!$L$2:$L$1000,\"6-11\")","v":0},1,1]
[11,7,{"$f":"COUNTIF(入力シート!$L$2:$L$1000,\"11-7\")","v":0},1,1,null,6,12,{"$f":"COUNTIF(入力シート!$L$2:$L$1000,\"6-12\")","v":0},1,1]
[11,8,{"$f":"COUNTIF(入力シート!$L$2:$L$1000,\"11-8\")","v":0},1,1,null,6,13,{"$f":"COUNTIF(入力シート!$L$2:$L$1000,\"6-13\")","v":0},1,1]
[11,9,{"$f":"COUNTIF(入力シート!$L$2:$L$1000,\"11-9\")","v":0},1,1,null,6,14,{"$f":"COUNTIF(入力シート!$L$2:$L$1000,\"6-14\")","v":0},1,1]
[11,10,{"$f":"COUNTIF(入力シート!$L$2:$L$1000,\"11-10\")","v":0},1,1,null,6,16,{"$f":"COUNTIF(入力シート!$L$2:$L$1000,\"6-16\")","v":0},1,1]
[11,11,{"$f":"COUNTIF(入力シート!$L$2:$L$1000,\"11-11\")","v":0},1,1,null,6,17,{"$f":"COUNTIF(入力シート!$L$2:$L$1000,\"6-17\")","v":0},1,1]
[11,12,{"$f":"COUNTIF(入力シート!$L$2:$L$1000,\"11-12\")","v":0},1,1,null,6,18,{"$f":"COUNTIF(入力シート!$L$2:$L$1000,\"6-18\")","v":0},1,1]
[11,13,{"$f":"COUNTIF(入力シート!$L$2:$L$1000,\"11-13\")","v":0},1,1,null,6,19,{"$f":"COUNTIF(入力シート!$L$2:$L$1000,\"6-19\")","v":0},1,1]
[11,14,{"$f":"COUNTIF(入力シート!$L$2:$L$1000,\"11-14\")","v":0},1,1,null,6,20,{"$f":"COUNTIF(入力シート!$L$2:$L$1000,\"6-20\")","v":0},1,1]
[11,15,{"$f":"COUNTIF(入力シート!$L$2:$L$1000,\"11-15\")","v":0},1,1,null,7,1,{"$f":"COUNTIF(入力シート!$L$2:$L$1000,\"7-1\")","v":0},{"$f":"RANK(I218,$C$124:$C$143)","v":1},1]
[11,16,{"$f":"COUNTIF(入力シート!$L$2:$L$1000,\"11-16\")","v":0},1,1,null,7,2,{"$f":"COUNTIF(入力シート!$L$2:$L$1000,\"7-2\")","v":0},1,1]
[11,17,{"$f":"COUNTIF(入力シート!$L$2:$L$1000,\"11-17\")","v":0},1,1,null,7,3,{"$f":"COUNTIF(入力シート!$L$2:$L$1000,\"7-3\")","v":0},1,1]
[11,18,{"$f":"COUNTIF(入力シート!$L$2:$L$1000,\"11-18\")","v":0},1,1,null,7,4,{"$f":"COUNTIF(入力シート!$L$2:$L$1000,\"7-4\")","v":0},1,1]
[11,19,{"$f":"COUNTIF(入力シート!$L$2:$L$1000,\"11-19\")","v":0},1,1,null,7,5,{"$f":"COUNTIF(入力シート!$L$2:$L$1000,\"7-5\")","v":0},1,1]
[11,20,{"$f":"COUNTIF(入力シート!$L$2:$L$1000,\"11-20\")","v":0},1,1,null,7,6,{"$f":"COUNTIF(入力シート!$L$2:$L$1000,\"7-6\")","v":0},1,1]
[12,1,{"$f":"COUNTIF(入力シート!$L$2:$L$1000,\"12-1\")","v":0},{"$f":"RANK(C224,$C$224:$C$243)","v":1},1,null,7,7,{"$f":"COUNTIF(入力シート!$L$2:$L$1000,\"7-7\")","v":0},1,1]
[12,2,{"$f":"COUNTIF(入力シート!$L$2:$L$1000,\"12-2\")","v":0},{"$f":"RANK(C225,$C$224:$C$243)","v":1},1,null,7,8,{"$f":"COUNTIF(入力シート!$L$2:$L$1000,\"7-8\")","v":0},1,1]
[12,3,{"$f":"COUNTIF(入力シート!$L$2:$L$1000,\"12-3\")","v":0},1,1,null,7,9,{"$f":"COUNTIF(入力シート!$L$2:$L$1000,\"7-9\")","v":0},1,1]
[12,4,{"$f":"COUNTIF(入力シート!$L$2:$L$1000,\"12-4\")","v":0},1,1,null,7,10,{"$f":"COUNTIF(入力シート!$L$2:$L$1000,\"7-10\")","v":0},1,1]
[12,5,{"$f":"COUNTIF(入力シート!$L$2:$L$1000,\"12-5\")","v":0},1,1,null,7,11,{"$f":"COUNTIF(入力シート!$L$2:$L$1000,\"7-11\")","v":0},1,1]
[12,6,{"$f":"COUNTIF(入力シート!$L$2:$L$1000,\"12-6\")","v":0},1,1,null,7,12,{"$f":"COUNTIF(入力シート!$L$2:$L$1000,\"7-12\")","v":0},1,1]
[12,7,{"$f":"COUNTIF(入力シート!$L$2:$L$1000,\"12-7\")","v":0},1,1,null,7,13,{"$f":"COUNTIF(入力シート!$L$2:$L$1000,\"7-13\")","v":0},1,1]
[12,8,{"$f":"COUNTIF(入力シート!$L$2:$L$1000,\"12-8\")","v":0},1,1,null,7,14,{"$f":"COUNTIF(入力シート!$L$2:$L$1000,\"7-14\")","v":0},1,1]
[12,9,{"$f":"COUNTIF(入力シート!$L$2:$L$1000,\"12-9\")","v":0},1,1,null,7,15,{"$f":"COUNTIF(入力シート!$L$2:$L$1000,\"7-15\")","v":0},1,1]
[12,10,{"$f":"COUNTIF(入力シート!$L$2:$L$1000,\"12-10\")","v":0},1,1,null,7,16,{"$f":"COUNTIF(入力シート!$L$2:$L$1000,\"7-16\")","v":0},1,1]
[12,11,{"$f":"COUNTIF(入力シート!$L$2:$L$1000,\"12-11\")","v":0},1,1,null,7,17,{"$f":"COUNTIF(入力シート!$L$2:$L$1000,\"7-17\")","v":0},1,1]
[12,12,{"$f":"COUNTIF(入力シート!$L$2:$L$1000,\"12-12\")","v":0},1,1,null,7,18,{"$f":"COUNTIF(入力シート!$L$2:$L$1000,\"7-18\")","v":0},1,1]
[12,13,{"$f":"COUNTIF(入力シート!$L$2:$L$1000,\"12-13\")","v":0},1,1,null,7,19,{"$f":"COUNTIF(入力シート!$L$2:$L$1000,\"7-19\")","v":0},1,1]
[12,14,{"$f":"COUNTIF(入力シート!$L$2:$L$1000,\"12-14\")","v":0},1,1,null,7,20,{"$f":"COUNTIF(入力シート!$L$2:$L$1000,\"7-20\")","v":0},1,1]
[12,15,{"$f":"COUNTIF(入力シート!$L$2:$L$1000,\"12-15\")","v":0},1,1,null,8,1,{"$f":"COUNTIF(入力シート!$L$2:$L$1000,\"8-1\")","v":0},{"$f":"RANK(I238,$C$144:$C$163)","v":1},1]
[12,16,{"$f":"COUNTIF(入力シート!$L$2:$L$1000,\"12-16\")","v":0},1,1,null,8,2,{"$f":"COUNTIF(入力シート!$L$2:$L$1000,\"8-2\")","v":0},1,1]
[12,17,{"$f":"COUNTIF(入力シート!$L$2:$L$1000,\"12-17\")","v":0},1,1,null,8,3,{"$f":"COUNTIF(入力シート!$L$2:$L$1000,\"8-3\")","v":0},1,1]
[12,18,{"$f":"COUNTIF(入力シート!$L$2:$L$1000,\"12-18\")","v":0},1,1,null,8,4,{"$f":"COUNTIF(入力シート!$L$2:$L$1000,\"8-4\")","v":0},1,1]
[12,19,{"$f":"COUNTIF(入力シート!$L$2:$L$1000,\"12-19\")","v":0},1,1,null,8,5,{"$f":"COUNTIF(入力シート!$L$2:$L$1000,\"8-5\")","v":0},1,1]
[12,20,{"$f":"COUNTIF(入力シート!$L$2:$L$1000,\"12-20\")","v":0},1,1,null,8,6,{"$f":"COUNTIF(入力シート!$L$2:$L$1000,\"8-6\")","v":0},1,1]
[13,1,{"$f":"COUNTIF(入力シート!$L$2:$L$1000,\"13-1\")","v":0},{"$f":"RANK(C244,$C$244:$C$263)","v":1},1,null,8,7,{"$f":"COUNTIF(入力シート!$L$2:$L$1000,\"8-7\")","v":0},1,1]
[13,2,{"$f":"COUNTIF(入力シート!$L$2:$L$1000,\"13-2\")","v":0},{"$f":"RANK(C245,$C$244:$C$263)","v":1},1,null,8,9,{"$f":"COUNTIF(入力シート!$L$2:$L$1000,\"8-9\")","v":0},1,1]
[13,3,{"$f":"COUNTIF(入力シート!$L$2:$L$1000,\"13-3\")","v":0},1,1,null,8,11,{"$f":"COUNTIF(入力シート!$L$2:$L$1000,\"8-11\")","v":0},1,1]
[13,4,{"$f":"COUNTIF(入力シート!$L$2:$L$1000,\"13-4\")","v":0},1,1,null,8,12,{"$f":"COUNTIF(入力シート!$L$2:$L$1000,\"8-12\")","v":0},1,1]
[13,5,{"$f":"COUNTIF(入力シート!$L$2:$L$1000,\"13-5\")","v":0},1,1,null,8,13,{"$f":"COUNTIF(入力シート!$L$2:$L$1000,\"8-13\")","v":0},1,1]
[13,6,{"$f":"COUNTIF(入力シート!$L$2:$L$1000,\"13-6\")","v":0},1,1,null,8,14,{"$f":"COUNTIF(入力シート!$L$2:$L$1000,\"8-14\")","v":0},1,1]
[13,7,{"$f":"COUNTIF(入力シート!$L$2:$L$1000,\"13-7\")","v":0},1,1,null,8,15,{"$f":"COUNTIF(入力シート!$L$2:$L$1000,\"8-15\")","v":0},1,1]
[13,8,{"$f":"COUNTIF(入力シート!$L$2:$L$1000,\"13-8\")","v":0},1,1,null,8,16,{"$f":"COUNTIF(入力シート!$L$2:$L$1000,\"8-16\")","v":0},1,1]
[13,9,{"$f":"COUNTIF(入力シート!$L$2:$L$1000,\"13-9\")","v":0},1,1,null,8,17,{"$f":"COUNTIF(入力シート!$L$2:$L$1000,\"8-17\")","v":0},1,1]
[13,10,{"$f":"COUNTIF(入力シート!$L$2:$L$1000,\"13-10\")","v":0},1,1,null,8,19,{"$f":"COUNTIF(入力シート!$L$2:$L$1000,\"8-19\")","v":0},1,1]
[13,11,{"$f":"COUNTIF(入力シート!$L$2:$L$1000,\"13-11\")","v":0},1,1,null,8,20,{"$f":"COUNTIF(入力シート!$L$2:$L$1000,\"8-20\")","v":0},1,1]
[13,12,{"$f":"COUNTIF(入力シート!$L$2:$L$1000,\"13-12\")","v":0},1,1,null,9,1,{"$f":"COUNTIF(入力シート!$L$2:$L$1000,\"9-1\")","v":0},{"$f":"RANK(I255,$C$164:$C$183)","v":1},1]
[13,13,{"$f":"COUNTIF(入力シート!$L$2:$L$1000,\"13-13\")","v":0},1,1,null,9,2,{"$f":"COUNTIF(入力シート!$L$2:$L$1000,\"9-2\")","v":0},1,1]
[13,14,{"$f":"COUNTIF(入力シート!$L$2:$L$1000,\"13-14\")","v":0},1,1,null,9,3,{"$f":"COUNTIF(入力シート!$L$2:$L$1000,\"9-3\")","v":0},1,1]
[13,15,{"$f":"COUNTIF(入力シート!$L$2:$L$1000,\"13-15\")","v":0},1,1,null,9,4,{"$f":"COUNTIF(入力シート!$L$2:$L$1000,\"9-4\")","v":0},1,1]
[13,16,{"$f":"COUNTIF(入力シート!$L$2:$L$1000,\"13-16\")","v":0},1,1,null,9,5,{"$f":"COUNTIF(入力シート!$L$2:$L$1000,\"9-5\")","v":0},1,1]
[13,17,{"$f":"COUNTIF(入力シート!$L$2:$L$1000,\"13-17\")","v":0},1,1,null,9,6,{"$f":"COUNTIF(入力シート!$L$2:$L$1000,\"9-6\")","v":0},1,{"$f":"RANK(I260,$C$4:$C$403)","v":1}]
[13,18,{"$f":"COUNTIF(入力シート!$L$2:$L$1000,\"13-18\")","v":0},1,{"$f":"RANK(C261,$C$4:$C$403)","v":1},null,9,7,{"$f":"COUNTIF(入力シート!$L$2:$L$1000,\"9-7\")","v":0},1,1]
[13,19,{"$f":"COUNTIF(入力シート!$L$2:$L$1000,\"13-19\")","v":0},1,1,null,9,8,{"$f":"COUNTIF(入力シート!$L$2:$L$1000,\"9-8\")","v":0},1,1]
[13,20,{"$f":"COUNTIF(入力シート!$L$2:$L$1000,\"13-20\")","v":0},1,1,null,9,9,{"$f":"COUNTIF(入力シート!$L$2:$L$1000,\"9-9\")","v":0},1,1]
[14,1,{"$f":"COUNTIF(入力シート!$L$2:$L$1000,\"14-1\")","v":0},{"$f":"RANK(C264,$C$264:$C$283)","v":1},1,null,9,10,{"$f":"COUNTIF(入力シート!$L$2:$L$1000,\"9-10\")","v":0},1,1]
[14,2,{"$f":"COUNTIF(入力シート!$L$2:$L$1000,\"14-2\")","v":0},{"$f":"RANK(C265,$C$264:$C$283)","v":1},1,null,9,11,{"$f":"COUNTIF(入力シート!$L$2:$L$1000,\"9-11\")","v":0},1,1]
[14,3,{"$f":"COUNTIF(入力シート!$L$2:$L$1000,\"14-3\")","v":0},1,1,null,9,12,{"$f":"COUNTIF(入力シート!$L$2:$L$1000,\"9-12\")","v":0},1,1]
[14,4,{"$f":"COUNTIF(入力シート!$L$2:$L$1000,\"14-4\")","v":0},1,1,null,9,13,{"$f":"COUNTIF(入力シート!$L$2:$L$1000,\"9-13\")","v":0},1,1]
[14,5,{"$f":"COUNTIF(入力シート!$L$2:$L$1000,\"14-5\")","v":0},1,1,null,9,14,{"$f":"COUNTIF(入力シート!$L$2:$L$1000,\"9-14\")","v":0},1,1]
[14,6,{"$f":"COUNTIF(入力シート!$L$2:$L$1000,\"14-6\")","v":0},1,1,null,9,15,{"$f":"COUNTIF(入力シート!$L$2:$L$1000,\"9-15\")","v":0},1,1]
[14,7,{"$f":"COUNTIF(入力シート!$L$2:$L$1000,\"14-7\")","v":0},1,1,null,9,16,{"$f":"COUNTIF(入力シート!$L$2:$L$1000,\"9-16\")","v":0},1,1]
[14,8,{"$f":"COUNTIF(入力シート!$L$2:$L$1000,\"14-8\")","v":0},1,1,null,9,17,{"$f":"COUNTIF(入力シート!$L$2:$L$1000,\"9-17\")","v":0},1,1]
[14,9,{"$f":"COUNTIF(入力シート!$L$2:$L$1000,\"14-9\")","v":0},1,1,null,9,18,{"$f":"COUNTIF(入力シート!$L$2:$L$1000,\"9-18\")","v":0},1,1]
[14,10,{"$f":"COUNTIF(入力シート!$L$2:$L$1000,\"14-10\")","v":0},1,1,null,9,19,{"$f":"COUNTIF(入力シート!$L$2:$L$1000,\"9-19\")","v":0},1,1]
[14,11,{"$f":"COUNTIF(入力シート!$L$2:$L$1000,\"14-11\")","v":0},1,1,null,9,20,{"$f":"COUNTIF(入力シート!$L$2:$L$1000,\"9-20\")","v":0},1,1]
[14,12,{"$f":"COUNTIF(入力シート!$L$2:$L$1000,\"14-12\")","v":0},1,1,null,10,1,{"$f":"COUNTIF(入力シート!$L$2:$L$1000,\"10-1\")","v":0},{"$f":"RANK(I275,$C$184:$C$203)","v":1},1]
[14,13,{"$f":"COUNTIF(入力シート!$L$2:$L$1000,\"14-13\")","v":0},1,1,null,10,3,{"$f":"COUNTIF(入力シート!$L$2:$L$1000,\"10-3\")","v":0},1,1]
[14,14,{"$f":"COUNTIF(入力シート!$L$2:$L$1000,\"14-14\")","v":0},1,1,null,10,4,{"$f":"COUNTIF(入力シート!$L$2:$L$1000,\"10-4\")","v":0},1,1]
[14,15,{"$f":"COUNTIF(入力シート!$L$2:$L$1000,\"14-15\")","v":0},1,1,null,10,6,{"$f":"COUNTIF(入力シート!$L$2:$L$1000,\"10-6\")","v":0},1,1]
[14,16,{"$f":"COUNTIF(入力シート!$L$2:$L$1000,\"14-16\")","v":0},1,1,null,10,7,{"$f":"COUNTIF(入力シート!$L$2:$L$1000,\"10-7\")","v":0},1,1]
[14,17,{"$f":"COUNTIF(入力シート!$L$2:$L$1000,\"14-17\")","v":0},1,1,null,10,9,{"$f":"COUNTIF(入力シート!$L$2:$L$1000,\"10-9\")","v":0},1,1]
[14,18,{"$f":"COUNTIF(入力シート!$L$2:$L$1000,\"14-18\")","v":0},1,1,null,10,11,{"$f":"COUNTIF(入力シート!$L$2:$L$1000,\"10-11\")","v":0},1,1]
[14,19,{"$f":"COUNTIF(入力シート!$L$2:$L$1000,\"14-19\")","v":0},1,1,null,10,20,{"$f":"COUNTIF(入力シート!$L$2:$L$1000,\"10-20\")","v":0},1,1]
[14,20,{"$f":"COUNTIF(入力シート!$L$2:$L$1000,\"14-20\")","v":0},1,1,null,11,1,{"$f":"COUNTIF(入力シート!$L$2:$L$1000,\"11-1\")","v":0},{"$f":"RANK(I283,$C$204:$C$223)","v":1},1]
[15,1,{"$f":"COUNTIF(入力シート!$L$2:$L$1000,\"15-1\")","v":0},{"$f":"RANK(C284,$C$284:$C$303)","v":1},1,null,11,2,{"$f":"COUNTIF(入力シート!$L$2:$L$1000,\"11-2\")","v":0},1,1]
[15,2,{"$f":"COUNTIF(入力シート!$L$2:$L$1000,\"15-2\")","v":0},{"$f":"RANK(C285,$C$284:$C$303)","v":1},1,null,11,3,{"$f":"COUNTIF(入力シート!$L$2:$L$1000,\"11-3\")","v":0},1,1]
[15,3,{"$f":"COUNTIF(入力シート!$L$2:$L$1000,\"15-3\")","v":0},1,1,null,11,4,{"$f":"COUNTIF(入力シート!$L$2:$L$1000,\"11-4\")","v":0},1,1]
[15,4,{"$f":"COUNTIF(入力シート!$L$2:$L$1000,\"15-4\")","v":0},1,1,null,11,5,{"$f":"COUNTIF(入力シート!$L$2:$L$1000,\"11-5\")","v":0},1,1]
[15,5,{"$f":"COUNTIF(入力シート!$L$2:$L$1000,\"15-5\")","v":0},1,1,null,11,6,{"$f":"COUNTIF(入力シート!$L$2:$L$1000,\"11-6\")","v":0},1,1]
[15,6,{"$f":"COUNTIF(入力シート!$L$2:$L$1000,\"15-6\")","v":0},1,1,null,11,7,{"$f":"COUNTIF(入力シート!$L$2:$L$1000,\"11-7\")","v":0},1,1]
[15,7,{"$f":"COUNTIF(入力シート!$L$2:$L$1000,\"15-7\")","v":0},1,1,null,11,8,{"$f":"COUNTIF(入力シート!$L$2:$L$1000,\"11-8\")","v":0},1,1]
[15,8,{"$f":"COUNTIF(入力シート!$L$2:$L$1000,\"15-8\")","v":0},1,1,null,11,9,{"$f":"COUNTIF(入力シート!$L$2:$L$1000,\"11-9\")","v":0},1,1]
[15,9,{"$f":"COUNTIF(入力シート!$L$2:$L$1000,\"15-9\")","v":0},1,1,null,11,10,{"$f":"COUNTIF(入力シート!$L$2:$L$1000,\"11-10\")","v":0},1,1]
[15,10,{"$f":"COUNTIF(入力シート!$L$2:$L$1000,\"15-10\")","v":0},1,1,null,11,11,{"$f":"COUNTIF(入力シート!$L$2:$L$1000,\"11-11\")","v":0},1,1]
[15,11,{"$f":"COUNTIF(入力シート!$L$2:$L$1000,\"15-11\")","v":0},1,1,null,11,13,{"$f":"COUNTIF(入力シート!$L$2:$L$1000,\"11-13\")","v":0},1,1]
[15,12,{"$f":"COUNTIF(入力シート!$L$2:$L$1000,\"15-12\")","v":0},1,1,null,11,15,{"$f":"COUNTIF(入力シート!$L$2:$L$1000,\"11-15\")","v":0},1,1]
[15,13,{"$f":"COUNTIF(入力シート!$L$2:$L$1000,\"15-13\")","v":0},1,1,null,11,17,{"$f":"COUNTIF(入力シート!$L$2:$L$1000,\"11-17\")","v":0},1,1]
[15,14,{"$f":"COUNTIF(入力シート!$L$2:$L$1000,\"15-14\")","v":0},1,1,null,11,18,{"$f":"COUNTIF(入力シート!$L$2:$L$1000,\"11-18\")","v":0},1,1]
[15,15,{"$f":"COUNTIF(入力シート!$L$2:$L$1000,\"15-15\")","v":0},1,1,null,11,20,{"$f":"COUNTIF(入力シート!$L$2:$L$1000,\"11-20\")","v":0},1,1]
[15,16,{"$f":"COUNTIF(入力シート!$L$2:$L$1000,\"15-16\")","v":0},1,1,null,12,1,{"$f":"COUNTIF(入力シート!$L$2:$L$1000,\"12-1\")","v":0},{"$f":"RANK(I299,$C$224:$C$243)","v":1},1]
[15,17,{"$f":"COUNTIF(入力シート!$L$2:$L$1000,\"15-17\")","v":0},1,1,null,12,2,{"$f":"COUNTIF(入力シート!$L$2:$L$1000,\"12-2\")","v":0},1,1]
[15,18,{"$f":"COUNTIF(入力シート!$L$2:$L$1000,\"15-18\")","v":0},1,1,null,12,3,{"$f":"COUNTIF(入力シート!$L$2:$L$1000,\"12-3\")","v":0},1,1]
[15,19,{"$f":"COUNTIF(入力シート!$L$2:$L$1000,\"15-19\")","v":0},1,1,null,12,4,{"$f":"COUNTIF(入力シート!$L$2:$L$1000,\"12-4\")","v":0},1,1]
[15,20,{"$f":"COUNTIF(入力シート!$L$2:$L$1000,\"15-20\")","v":0},1,1,null,12,5,{"$f":"COUNTIF(入力シート!$L$2:$L$1000,\"12-5\")","v":0},1,1]
[16,1,{"$f":"COUNTIF(入力シート!$L$2:$L$1000,\"16-1\")","v":0},{"$f":"RANK(C304,$C$304:$C$323)","v":1},1,null,12,6,{"$f":"COUNTIF(入力シート!$L$2:$L$1000,\"12-6\")","v":0},1,1]
[16,2,{"$f":"COUNTIF(入力シート!$L$2:$L$1000,\"16-2\")","v":0},{"$f":"RANK(C305,$C$304:$C$323)","v":1},1,null,12,7,{"$f":"COUNTIF(入力シート!$L$2:$L$1000,\"12-7\")","v":0},1,1]
[16,3,{"$f":"COUNTIF(入力シート!$L$2:$L$1000,\"16-3\")","v":0},1,1,null,12,8,{"$f":"COUNTIF(入力シート!$L$2:$L$1000,\"12-8\")","v":0},1,1]
[16,4,{"$f":"COUNTIF(入力シート!$L$2:$L$1000,\"16-4\")","v":0},1,1,null,12,9,{"$f":"COUNTIF(入力シート!$L$2:$L$1000,\"12-9\")","v":0},1,1]
[16,5,{"$f":"COUNTIF(入力シート!$L$2:$L$1000,\"16-5\")","v":0},1,1,null,12,11,{"$f":"COUNTIF(入力シート!$L$2:$L$1000,\"12-11\")","v":0},1,1]
[16,6,{"$f":"COUNTIF(入力シート!$L$2:$L$1000,\"16-6\")","v":0},1,1,null,12,20,{"$f":"COUNTIF(入力シート!$L$2:$L$1000,\"12-20\")","v":0},1,1]
[16,7,{"$f":"COUNTIF(入力シート!$L$2:$L$1000,\"16-7\")","v":0},1,1,null,13,1,{"$f":"COUNTIF(入力シート!$L$2:$L$1000,\"13-1\")","v":0},{"$f":"RANK(I310,$C$244:$C$263)","v":1},1]
[16,8,{"$f":"COUNTIF(入力シート!$L$2:$L$1000,\"16-8\")","v":0},1,1,null,13,2,{"$f":"COUNTIF(入力シート!$L$2:$L$1000,\"13-2\")","v":0},1,1]
[16,9,{"$f":"COUNTIF(入力シート!$L$2:$L$1000,\"16-9\")","v":0},1,1,null,13,3,{"$f":"COUNTIF(入力シート!$L$2:$L$1000,\"13-3\")","v":0},1,1]
[16,10,{"$f":"COUNTIF(入力シート!$L$2:$L$1000,\"16-10\")","v":0},1,1,null,13,4,{"$f":"COUNTIF(入力シート!$L$2:$L$1000,\"13-4\")","v":0},1,1]
[16,11,{"$f":"COUNTIF(入力シート!$L$2:$L$1000,\"16-11\")","v":0},1,1,null,13,5,{"$f":"COUNTIF(入力シート!$L$2:$L$1000,\"13-5\")","v":0},1,1]
[16,12,{"$f":"COUNTIF(入力シート!$L$2:$L$1000,\"16-12\")","v":0},1,1,null,13,6,{"$f":"COUNTIF(入力シート!$L$2:$L$1000,\"13-6\")","v":0},1,1]
[16,13,{"$f":"COUNTIF(入力シート!$L$2:$L$1000,\"16-13\")","v":0},1,1,null,13,7,{"$f":"COUNTIF(入力シート!$L$2:$L$1000,\"13-7\")","v":0},1,1]
[16,14,{"$f":"COUNTIF(入力シート!$L$2:$L$1000,\"16-14\")","v":0},1,1,null,13,8,{"$f":"COUNTIF(入力シート!$L$2:$L$1000,\"13-8\")","v":0},1,1]
[16,15,{"$f":"COUNTIF(入力シート!$L$2:$L$1000,\"16-15\")","v":0},1,1,null,13,9,{"$f":"COUNTIF(入力シート!$L$2:$L$1000,\"13-9\")","v":0},1,1]
[16,16,{"$f":"COUNTIF(入力シート!$L$2:$L$1000,\"16-16\")","v":0},1,1,null,13,11,{"$f":"COUNTIF(入力シート!$L$2:$L$1000,\"13-11\")","v":0},1,1]
[16,17,{"$f":"COUNTIF(入力シート!$L$2:$L$1000,\"16-17\")","v":0},1,1,null,13,17,{"$f":"COUNTIF(入力シート!$L$2:$L$1000,\"13-17\")","v":0},1,1]
[16,18,{"$f":"COUNTIF(入力シート!$L$2:$L$1000,\"16-18\")","v":0},1,1,null,13,20,{"$f":"COUNTIF(入力シート!$L$2:$L$1000,\"13-20\")","v":0},1,1]
[16,19,{"$f":"COUNTIF(入力シート!$L$2:$L$1000,\"16-19\")","v":0},1,1,null,14,1,{"$f":"COUNTIF(入力シート!$L$2:$L$1000,\"14-1\")","v":0},{"$f":"RANK(I322,$C$264:$C$283)","v":1},1]
[16,20,{"$f":"COUNTIF(入力シート!$L$2:$L$1000,\"16-20\")","v":0},1,1,null,14,2,{"$f":"COUNTIF(入力シート!$L$2:$L$1000,\"14-2\")","v":0},1,1]
[17,1,{"$f":"COUNTIF(入力シート!$L$2:$L$1000,\"17-1\")","v":0},{"$f":"RANK(C324,$C$324:$C$343)","v":1},1,null,14,3,{"$f":"COUNTIF(入力シート!$L$2:$L$1000,\"14-3\")","v":0},1,{"$f":"RANK(I324,$C$4:$C$403)","v":1}]
[17,2,{"$f":"COUNTIF(入力シート!$L$2:$L$1000,\"17-2\")","v":0},{"$f":"RANK(C325,$C$324:$C$343)","v":1},{"$f":"RANK(C325,$C$4:$C$403)","v":1},null,14,4,{"$f":"COUNTIF(入力シート!$L$2:$L$1000,\"14-4\")","v":0},1,1]
[17,3,{"$f":"COUNTIF(入力シート!$L$2:$L$1000,\"17-3\")","v":0},1,1,null,14,5,{"$f":"COUNTIF(入力シート!$L$2:$L$1000,\"14-5\")","v":0},1,1]
[17,4,{"$f":"COUNTIF(入力シート!$L$2:$L$1000,\"17-4\")","v":0},1,1,null,14,6,{"$f":"COUNTIF(入力シート!$L$2:$L$1000,\"14-6\")","v":0},1,1]
[17,5,{"$f":"COUNTIF(入力シート!$L$2:$L$1000,\"17-5\")","v":0},1,1,null,14,7,{"$f":"COUNTIF(入力シート!$L$2:$L$1000,\"14-7\")","v":0},1,1]
[17,6,{"$f":"COUNTIF(入力シート!$L$2:$L$1000,\"17-6\")","v":0},1,1,null,14,8,{"$f":"COUNTIF(入力シート!$L$2:$L$1000,\"14-8\")","v":0},1,1]
[17,7,{"$f":"COUNTIF(入力シート!$L$2:$L$1000,\"17-7\")","v":0},1,1,null,14,9,{"$f":"COUNTIF(入力シート!$L$2:$L$1000,\"14-9\")","v":0},1,1]
[17,8,{"$f":"COUNTIF(入力シート!$L$2:$L$1000,\"17-8\")","v":0},1,1,null,14,17,{"$f":"COUNTIF(入力シート!$L$2:$L$1000,\"14-17\")","v":0},1,1]
[17,9,{"$f":"COUNTIF(入力シート!$L$2:$L$1000,\"17-9\")","v":0},1,1,null,14,19,{"$f":"COUNTIF(入力シート!$L$2:$L$1000,\"14-19\")","v":0},1,1]
[17,10,{"$f":"COUNTIF(入力シート!$L$2:$L$1000,\"17-10\")","v":0},1,1,null,14,20,{"$f":"COUNTIF(入力シート!$L$2:$L$1000,\"14-20\")","v":0},1,1]
[17,11,{"$f":"COUNTIF(入力シート!$L$2:$L$1000,\"17-11\")","v":0},1,1,null,15,1,{"$f":"COUNTIF(入力シート!$L$2:$L$1000,\"15-1\")","v":0},{"$f":"RANK(I334,$C$284:$C$303)","v":1},1]
[17,12,{"$f":"COUNTIF(入力シート!$L$2:$L$1000,\"17-12\")","v":0},1,1,null,15,4,{"$f":"COUNTIF(入力シート!$L$2:$L$1000,\"15-4\")","v":0},1,1]
[17,13,{"$f":"COUNTIF(入力シート!$L$2:$L$1000,\"17-13\")","v":0},1,1,null,15,5,{"$f":"COUNTIF(入力シート!$L$2:$L$1000,\"15-5\")","v":0},1,1]
[17,14,{"$f":"COUNTIF(入力シート!$L$2:$L$1000,\"17-14\")","v":0},1,1,null,15,7,{"$f":"COUNTIF(入力シート!$L$2:$L$1000,\"15-7\")","v":0},1,1]
[17,15,{"$f":"COUNTIF(入力シート!$L$2:$L$1000,\"17-15\")","v":0},1,1,null,15,8,{"$f":"COUNTIF(入力シート!$L$2:$L$1000,\"15-8\")","v":0},1,1]
[17,16,{"$f":"COUNTIF(入力シート!$L$2:$L$1000,\"17-16\")","v":0},1,1,null,15,9,{"$f":"COUNTIF(入力シート!$L$2:$L$1000,\"15-9\")","v":0},1,1]
[17,17,{"$f":"COUNTIF(入力シート!$L$2:$L$1000,\"17-17\")","v":0},1,1,null,15,11,{"$f":"COUNTIF(入力シート!$L$2:$L$1000,\"15-11\")","v":0},1,1]
[17,18,{"$f":"COUNTIF(入力シート!$L$2:$L$1000,\"17-18\")","v":0},1,1,null,15,17,{"$f":"COUNTIF(入力シート!$L$2:$L$1000,\"15-17\")","v":0},1,1]
[17,19,{"$f":"COUNTIF(入力シート!$L$2:$L$1000,\"17-19\")","v":0},1,1,null,15,19,{"$f":"COUNTIF(入力シート!$L$2:$L$1000,\"15-19\")","v":0},1,1]
[17,20,{"$f":"COUNTIF(入力シート!$L$2:$L$1000,\"17-20\")","v":0},1,1,null,15,20,{"$f":"COUNTIF(入力シート!$L$2:$L$1000,\"15-20\")","v":0},1,1]
[18,1,{"$f":"COUNTIF(入力シート!$L$2:$L$1000,\"18-1\")","v":0},{"$f":"RANK(C344,$C$344:$C$363)","v":1},1,null,16,2,{"$f":"COUNTIF(入力シート!$L$2:$L$1000,\"16-2\")","v":0},{"$f":"RANK(I344,$C$304:$C$323)","v":1},1]
[18,2,{"$f":"COUNTIF(入力シート!$L$2:$L$1000,\"18-2\")","v":0},{"$f":"RANK(C345,$C$344:$C$363)","v":1},1,null,16,3,{"$f":"COUNTIF(入力シート!$L$2:$L$1000,\"16-3\")","v":0},1,1]
[18,3,{"$f":"COUNTIF(入力シート!$L$2:$L$1000,\"18-3\")","v":0},1,1,null,16,4,{"$f":"COUNTIF(入力シート!$L$2:$L$1000,\"16-4\")","v":0},1,1]
[18,4,{"$f":"COUNTIF(入力シート!$L$2:$L$1000,\"18-4\")","v":0},1,1,null,16,6,{"$f":"COUNTIF(入力シート!$L$2:$L$1000,\"16-6\")","v":0},1,1]
[18,5,{"$f":"COUNTIF(入力シート!$L$2:$L$1000,\"18-5\")","v":0},1,1,null,16,7,{"$f":"COUNTIF(入力シート!$L$2:$L$1000,\"16-7\")","v":0},1,1]
[18,6,{"$f":"COUNTIF(入力シート!$L$2:$L$1000,\"18-6\")","v":0},1,1,null,16,8,{"$f":"COUNTIF(入力シート!$L$2:$L$1000,\"16-8\")","v":0},1,1]
[18,7,{"$f":"COUNTIF(入力シート!$L$2:$L$1000,\"18-7\")","v":0},1,1,null,16,9,{"$f":"COUNTIF(入力シート!$L$2:$L$1000,\"16-9\")","v":0},1,1]
[18,8,{"$f":"COUNTIF(入力シート!$L$2:$L$1000,\"18-8\")","v":0},1,1,null,16,17,{"$f":"COUNTIF(入力シート!$L$2:$L$1000,\"16-17\")","v":0},1,1]
[18,9,{"$f":"COUNTIF(入力シート!$L$2:$L$1000,\"18-9\")","v":0},1,1,null,16,20,{"$f":"COUNTIF(入力シート!$L$2:$L$1000,\"16-20\")","v":0},1,1]
[18,10,{"$f":"COUNTIF(入力シート!$L$2:$L$1000,\"18-10\")","v":0},1,1,null,17,1,{"$f":"COUNTIF(入力シート!$L$2:$L$1000,\"17-1\")","v":0},{"$f":"RANK(I353,$C$324:$C$343)","v":1},1]
[18,11,{"$f":"COUNTIF(入力シート!$L$2:$L$1000,\"18-11\")","v":0},1,1,null,17,2,{"$f":"COUNTIF(入力シート!$L$2:$L$1000,\"17-2\")","v":0},1,1]
[18,12,{"$f":"COUNTIF(入力シート!$L$2:$L$1000,\"18-12\")","v":0},1,1,null,17,3,{"$f":"COUNTIF(入力シート!$L$2:$L$1000,\"17-3\")","v":0},1,1]
[18,13,{"$f":"COUNTIF(入力シート!$L$2:$L$1000,\"18-13\")","v":0},1,1,null,17,4,{"$f":"COUNTIF(入力シート!$L$2:$L$1000,\"17-4\")","v":0},1,1]
[18,14,{"$f":"COUNTIF(入力シート!$L$2:$L$1000,\"18-14\")","v":0},1,1,null,17,5,{"$f":"COUNTIF(入力シート!$L$2:$L$1000,\"17-5\")","v":0},1,1]
[18,15,{"$f":"COUNTIF(入力シート!$L$2:$L$1000,\"18-15\")","v":0},1,1,null,17,6,{"$f":"COUNTIF(入力シート!$L$2:$L$1000,\"17-6\")","v":0},1,1]
[18,16,{"$f":"COUNTIF(入力シート!$L$2:$L$1000,\"18-16\")","v":0},1,1,null,17,7,{"$f":"COUNTIF(入力シート!$L$2:$L$1000,\"17-7\")","v":0},1,1]
[18,17,{"$f":"COUNTIF(入力シート!$L$2:$L$1000,\"18-17\")","v":0},1,1,null,17,8,{"$f":"COUNTIF(入力シート!$L$2:$L$1000,\"17-8\")","v":0},1,1]
[18,18,{"$f":"COUNTIF(入力シート!$L$2:$L$1000,\"18-18\")","v":0},1,1,null,17,9,{"$f":"COUNTIF(入力シート!$L$2:$L$1000,\"17-9\")","v":0},1,1]
[18,19,{"$f":"COUNTIF(入力シート!$L$2:$L$1000,\"18-19\")","v":0},1,1,null,17,11,{"$f":"COUNTIF(入力シート!$L$2:$L$1000,\"17-11\")","v":0},1,1]
[18,20,{"$f":"COUNTIF(入力シート!$L$2:$L$1000,\"18-20\")","v":0},1,1,null,17,15,{"$f":"COUNTIF(入力シート!$L$2:$L$1000,\"17-15\")","v":0},1,1]
[19,1,{"$f":"COUNTIF(入力シート!$L$2:$L$1000,\"19-1\")","v":0},{"$f":"RANK(C364,$C$364:$C$383)","v":1},1,null,17,19,{"$f":"COUNTIF(入力シート!$L$2:$L$1000,\"17-19\")","v":0},1,1]
[19,2,{"$f":"COUNTIF(入力シート!$L$2:$L$1000,\"19-2\")","v":0},{"$f":"RANK(C365,$C$364:$C$383)","v":1},1,null,17,20,{"$f":"COUNTIF(入力シート!$L$2:$L$1000,\"17-20\")","v":0},1,1]
[19,3,{"$f":"COUNTIF(入力シート!$L$2:$L$1000,\"19-3\")","v":0},1,1,null,18,2,{"$f":"COUNTIF(入力シート!$L$2:$L$1000,\"18-2\")","v":0},{"$f":"RANK(I366,$C$344:$C$363)","v":1},1]
[19,4,{"$f":"COUNTIF(入力シート!$L$2:$L$1000,\"19-4\")","v":0},1,1,null,18,4,{"$f":"COUNTIF(入力シート!$L$2:$L$1000,\"18-4\")","v":0},1,1]
[19,5,{"$f":"COUNTIF(入力シート!$L$2:$L$1000,\"19-5\")","v":0},1,1,null,18,6,{"$f":"COUNTIF(入力シート!$L$2:$L$1000,\"18-6\")","v":0},1,1]
[19,6,{"$f":"COUNTIF(入力シート!$L$2:$L$1000,\"19-6\")","v":0},1,1,null,18,7,{"$f":"COUNTIF(入力シート!$L$2:$L$1000,\"18-7\")","v":0},1,1]
[19,7,{"$f":"COUNTIF(入力シート!$L$2:$L$1000,\"19-7\")","v":0},1,1,null,18,9,{"$f":"COUNTIF(入力シート!$L$2:$L$1000,\"18-9\")","v":0},1,1]
[19,8,{"$f":"COUNTIF(入力シート!$L$2:$L$1000,\"19-8\")","v":0},1,1,null,18,11,{"$f":"COUNTIF(入力シート!$L$2:$L$1000,\"18-11\")","v":0},1,1]
[19,9,{"$f":"COUNTIF(入力シート!$L$2:$L$1000,\"19-9\")","v":0},1,1,null,18,20,{"$f":"COUNTIF(入力シート!$L$2:$L$1000,\"18-20\")","v":0},1,1]
[19,10,{"$f":"COUNTIF(入力シート!$L$2:$L$1000,\"19-10\")","v":0},1,1,null,19,1,{"$f":"COUNTIF(入力シート!$L$2:$L$1000,\"19-1\")","v":0},{"$f":"RANK(I373,$C$364:$C$383)","v":1},1]
[19,11,{"$f":"COUNTIF(入力シート!$L$2:$L$1000,\"19-11\")","v":0},1,1,null,19,2,{"$f":"COUNTIF(入力シート!$L$2:$L$1000,\"19-2\")","v":0},1,1]
[19,12,{"$f":"COUNTIF(入力シート!$L$2:$L$1000,\"19-12\")","v":0},1,1,null,19,3,{"$f":"COUNTIF(入力シート!$L$2:$L$1000,\"19-3\")","v":0},1,1]
[19,13,{"$f":"COUNTIF(入力シート!$L$2:$L$1000,\"19-13\")","v":0},1,1,null,19,4,{"$f":"COUNTIF(入力シート!$L$2:$L$1000,\"19-4\")","v":0},1,1]
[19,14,{"$f":"COUNTIF(入力シート!$L$2:$L$1000,\"19-14\")","v":0},1,1,null,19,5,{"$f":"COUNTIF(入力シート!$L$2:$L$1000,\"19-5\")","v":0},1,1]
[19,15,{"$f":"COUNTIF(入力シート!$L$2:$L$1000,\"19-15\")","v":0},1,1,null,19,6,{"$f":"COUNTIF(入力シート!$L$2:$L$1000,\"19-6\")","v":0},1,1]
[19,16,{"$f":"COUNTIF(入力シート!$L$2:$L$1000,\"19-16\")","v":0},1,1,null,19,7,{"$f":"COUNTIF(入力シート!$L$2:$L$1000,\"19-7\")","v":0},1,1]
[19,17,{"$f":"COUNTIF(入力シート!$L$2:$L$1000,\"19-17\")","v":0},1,1,null,19,8,{"$f":"COUNTIF(入力シート!$L$2:$L$1000,\"19-8\")","v":0},1,1]
[19,18,{"$f":"COUNTIF(入力シート!$L$2:$L$1000,\"19-18\")","v":0},1,1,null,19,9,{"$f":"COUNTIF(入力シート!$L$2:$L$1000,\"19-9\")","v":0},1,1]
[19,19,{"$f":"COUNTIF(入力シート!$L$2:$L$1000,\"19-19\")","v":0},1,1,null,19,15,{"$f":"COUNTIF(入力シート!$L$2:$L$1000,\"19-15\")","v":0},1,1]
[19,20,{"$f":"COUNTIF(入力シート!$L$2:$L$1000,\"19-20\")","v":0},1,1,null,19,20,{"$f":"COUNTIF(入力シート!$L$2:$L$1000,\"19-20\")","v":0},1,1]
[20,1,{"$f":"COUNTIF(入力シート!$L$2:$L$1000,\"20-1\")","v":0},{"$f":"RANK(C384,$C$384:$C$403)","v":1},1,null,20,1,{"$f":"COUNTIF(入力シート!$L$2:$L$1000,\"20-1\")","v":0},{"$f":"RANK(I384,$C$384:$C$403)","v":1},1]
[20,2,{"$f":"COUNTIF(入力シート!$L$2:$L$1000,\"20-2\")","v":0},{"$f":"RANK(C385,$C$384:$C$403)","v":1},1,null,20,2,{"$f":"COUNTIF(入力シート!$L$2:$L$1000,\"20-2\")","v":0},1,1]
[20,3,{"$f":"COUNTIF(入力シート!$L$2:$L$1000,\"20-3\")","v":0},1,1,null,20,3,{"$f":"COUNTIF(入力シート!$L$2:$L$1000,\"20-3\")","v":0},1,1]
[20,4,{"$f":"COUNTIF(入力シート!$L$2:$L$1000,\"20-4\")","v":0},1,1,null,20,4,{"$f":"COUNTIF(入力シート!$L$2:$L$1000,\"20-4\")","v":0},1,1]
[20,5,{"$f":"COUNTIF(入力シート!$L$2:$L$1000,\"20-5\")","v":0},1,1,null,20,5,{"$f":"COUNTIF(入力シート!$L$2:$L$1000,\"20-5\")","v":0},1,{"$f":"RANK(I388,$C$4:$C$403)","v":1}]
[20,6,{"$f":"COUNTIF(入力シート!$L$2:$L$1000,\"20-6\")","v":0},1,{"$f":"RANK(C389,$C$4:$C$403)","v":1},null,20,6,{"$f":"COUNTIF(入力シート!$L$2:$L$1000,\"20-6\")","v":0},1,1]
[20,7,{"$f":"COUNTIF(入力シート!$L$2:$L$1000,\"20-7\")","v":0},1,1,null,20,7,{"$f":"COUNTIF(入力シート!$L$2:$L$1000,\"20-7\")","v":0},1,1]
[20,8,{"$f":"COUNTIF(入力シート!$L$2:$L$1000,\"20-8\")","v":0},1,1,null,20,8,{"$f":"COUNTIF(入力シート!$L$2:$L$1000,\"20-8\")","v":0},1,1]
[20,9,{"$f":"COUNTIF(入力シート!$L$2:$L$1000,\"20-9\")","v":0},1,1,null,20,9,{"$f":"COUNTIF(入力シート!$L$2:$L$1000,\"20-9\")","v":0},1,1]
[20,10,{"$f":"COUNTIF(入力シート!$L$2:$L$1000,\"20-10\")","v":0},1,1,null,20,10,{"$f":"COUNTIF(入力シート!$L$2:$L$1000,\"20-10\")","v":0},1,1]
[20,11,{"$f":"COUNTIF(入力シート!$L$2:$L$1000,\"20-11\")","v":0},1,1,null,20,11,{"$f":"COUNTIF(入力シート!$L$2:$L$1000,\"20-11\")","v":0},1,1]
[20,12,{"$f":"COUNTIF(入力シート!$L$2:$L$1000,\"20-12\")","v":0},1,1,null,20,12,{"$f":"COUNTIF(入力シート!$L$2:$L$1000,\"20-12\")","v":0},1,1]
[20,13,{"$f":"COUNTIF(入力シート!$L$2:$L$1000,\"20-13\")","v":0},1,1,null,20,13,{"$f":"COUNTIF(入力シート!$L$2:$L$1000,\"20-13\")","v":0},1,1]
[20,14,{"$f":"COUNTIF(入力シート!$L$2:$L$1000,\"20-14\")","v":0},1,1,null,20,14,{"$f":"COUNTIF(入力シート!$L$2:$L$1000,\"20-14\")","v":0},1,1]
[20,15,{"$f":"COUNTIF(入力シート!$L$2:$L$1000,\"20-15\")","v":0},1,1,null,20,15,{"$f":"COUNTIF(入力シート!$L$2:$L$1000,\"20-15\")","v":0},1,1]
[20,16,{"$f":"COUNTIF(入力シート!$L$2:$L$1000,\"20-16\")","v":0},1,1,null,20,16,{"$f":"COUNTIF(入力シート!$L$2:$L$1000,\"20-16\")","v":0},1,1]
[20,17,{"$f":"COUNTIF(入力シート!$L$2:$L$1000,\"20-17\")","v":0},1,1,null,20,17,{"$f":"COUNTIF(入力シート!$L$2:$L$1000,\"20-17\")","v":0},1,1]
[20,18,{"$f":"COUNTIF(入力シート!$L$2:$L$1000,\"20-18\")","v":0},1,1,null,20,18,{"$f":"COUNTIF(入力シート!$L$2:$L$1000,\"20-18\")","v":0},1,1]
[20,19,{"$f":"COUNTIF(入力シート!$L$2:$L$1000,\"20-19\")","v":0},1,1,null,20,19,{"$f":"COUNTIF(入力シート!$L$2:$L$1000,\"20-19\")","v":0},1,1]
[20,20,{"$f":"COUNTIF(入力シート!$L$2:$L$1000,\"20-20\")","v":0},1,1,null,20,20,{"$f":"COUNTIF(入力シート!$L$2:$L$1000,\"20-20\")","v":0},1,1]